Back to the "Multiple platform build/check report"
| Package 141/214 | Hostname | OS | Arch | BUILD | CHECK | BUILD BIN | 
| OrderedList1.8.0Claudio LottazLast Changed Date: 2007-04-24 11:21:48 -0700 Last Changed Rev: 24214 | lamb1 | Linux (SUSE 10.1) | x86_64 | OK | OK | |
| wellington | Linux (SUSE 9.2) | i686 | OK | OK | ||
| churchill | Solaris 2.9 | sparc | OK | OK | ||
| lemming | Windows Server 2003 (32-bit) | x64 | OK | OK | OK | |
| liverpool | Windows Server 2003 R2 (32-bit) | x64 | ERROR | skipped | skipped | |
| derby | Mac OS X (10.4.9) | i686 | OK | OK | 
| "http://www.w3.org/TR/xhtml1/DTD/xhtml1-strict.dtd"> | 
| Object not found! | 
| 
 | 
| The requested URL was not found on this server. | 
| If you entered the URL manually please check your | 
| spelling and try again. | 
| 
 | 
| If you think this is a server error, please contact | 
| the webmaster. | 
| Error 404 | 
| lamb1 | 
| Thu Apr 26 12:00:35 2007 | 
| Apache/2.2.0 (Linux/SUSE) | 
<?xml version="1.0" encoding="ISO-8859-1"?>
<!DOCTYPE html PUBLIC "-//W3C//DTD XHTML 1.0 Strict//EN"
  "http://www.w3.org/TR/xhtml1/DTD/xhtml1-strict.dtd">
<html xmlns="http://www.w3.org/1999/xhtml" lang="en" xml:lang="en">
<head>
<title>Object not found!</title>
<link rev="made" href="mailto:root@lamb1" />
<style type="text/css"><!--/*--><![CDATA[/*><!--*/ 
    body { color: #000000; background-color: #FFFFFF; }
    a:link { color: #0000CC; }
    p, address {margin-left: 3em;}
    span {font-size: smaller;}
/*]]>*/--></style>
</head>
<body>
<h1>Object not found!</h1>
<p>
    The requested URL was not found on this server.
  
    If you entered the URL manually please check your
    spelling and try again.
  
</p>
<p>
If you think this is a server error, please contact
the <a href="mailto:root@lamb1">webmaster</a>.
</p>
<h2>Error 404</h2>
<address>
  <a href="/">lamb1</a><br />
  
  <span>Thu Apr 26 12:00:35 2007<br />
  Apache/2.2.0 (Linux/SUSE)</span>
</address>
</body>
</html>