Back to the "Multiple platform build/check report"
| Package 174/188 | Hostname | OS | Arch | BUILD | CHECK | BUILD BIN |
sscore1.6.0Richard KennedyLast Changed Date: 2006-10-03 12:16:03 -0700 Last Changed Rev: 20373 | lamb1 | Linux (SUSE 10.1) | x86_64 | ERROR | skipped | |
| wellington | Linux (SUSE 9.2) | i686 | OK | OK | ||
| churchill | Solaris 2.9 | sparc | ERROR | skipped | ||
| lemming | Windows Server 2003 | x86_64 | OK | OK | OK |
| "http://www.w3.org/TR/xhtml1/DTD/xhtml1-strict.dtd"> |
Object not found! |
|
| The requested URL was not found on this server. |
| If you entered the URL manually please check your |
| spelling and try again. |
|
| If you think this is a server error, please contact |
| the webmaster. |
Error 404 |
| lamb1 |
| Tue Feb 27 22:53:59 2007 |
| Apache/2.2.0 (Linux/SUSE) |