All our mirrors of open source software are available via http, https, ftp and an onion service. More information about our mirrors including statistics and contact information is available on our mirror info pages.
For information about dotsrc.org and our other services please go to our website.
| File Name ↓ | File Size ↓ | Date ↓ | 
|---|---|---|
| Parent directory/ | - | - | 
| ABarray/ | - | 2007-02-28 06:54:39 | 
| AnnBuilder/ | - | 2007-02-28 06:54:41 | 
| BSgenome/ | - | 2007-02-28 06:54:44 | 
| BeadExplorer/ | - | 2007-02-28 06:54:43 | 
| BioMVCClass/ | - | 2007-02-28 06:54:44 | 
| Biobase/ | - | 2007-02-28 06:54:43 | 
| Biostrings/ | - | 2007-02-28 06:54:44 | 
| Category/ | - | 2007-02-28 06:54:44 | 
| ChromoViz/ | - | 2007-02-28 06:54:45 | 
| CoCiteStats/ | - | 2007-02-28 06:54:45 | 
| DEDS/ | - | 2007-02-28 06:54:46 | 
| DNAcopy/ | - | 2007-02-28 06:54:46 | 
| DynDoc/ | - | 2007-02-28 06:54:46 | 
| EBImage/ | - | 2007-02-28 06:54:46 | 
| EBarrays/ | - | 2007-02-28 06:54:46 | 
| GEOquery/ | - | 2007-02-28 06:54:48 | 
| GGtools/ | - | 2007-02-28 06:54:48 | 
| GLAD/ | - | 2007-02-28 06:54:48 | 
| GOstats/ | - | 2007-02-28 06:54:49 | 
| GeneMeta/ | - | 2007-02-28 06:54:47 | 
| GeneR/ | - | 2007-02-28 06:54:47 | 
| GeneSpring/ | - | 2007-02-28 06:54:48 | 
| GeneTS/ | - | 2007-02-28 06:54:48 | 
| GeneTraffic/ | - | 2007-02-28 06:54:48 | 
| GlobalAncova/ | - | 2007-02-28 06:54:49 | 
| GraphAT/ | - | 2007-02-28 06:54:49 | 
| HEM/ | - | 2007-02-28 06:54:50 | 
| Harshlight/ | - | 2007-02-28 06:54:49 | 
| Heatplus/ | - | 2007-02-28 06:54:50 | 
| Icens/ | - | 2007-02-28 06:54:50 | 
| KEGGSOAP/ | - | 2007-02-28 06:54:51 | 
| LMGene/ | - | 2007-02-28 06:54:51 | 
| LPE/ | - | 2007-02-28 06:54:52 | 
| MANOR/ | - | 2007-02-28 06:54:53 | 
| MCRestimate/ | - | 2007-02-28 06:54:53 | 
| MLInterfaces/ | - | 2007-02-28 06:54:54 | 
| MVCClass/ | - | 2007-02-28 06:54:54 | 
| MantelCorr/ | - | 2007-02-28 06:54:53 | 
| MeasurementError.cor/ | - | 2007-02-28 06:54:53 | 
| MergeMaid/ | - | 2007-02-28 06:54:53 | 
| Mfuzz/ | - | 2007-02-28 06:54:54 | 
| OCplus/ | - | 2007-02-28 06:54:55 | 
| OLIN/ | - | 2007-02-28 06:54:55 | 
| OLINgui/ | - | 2007-02-28 06:54:55 | 
| OrderedList/ | - | 2007-02-28 06:54:58 | 
| PROcess/ | - | 2007-02-28 06:55:00 | 
| RBGL/ | - | 2007-02-28 06:55:01 | 
| RMAGEML/ | - | 2007-02-28 06:55:02 | 
| RMAPPER/ | - | 2007-02-28 06:55:02 | 
| ROC/ | - | 2007-02-28 06:55:02 | 
| RSNPper/ | - | 2007-02-28 06:55:03 | 
| RankProd/ | - | 2007-02-28 06:55:01 | 
| RbcBook1/ | - | 2007-02-28 06:55:01 | 
| Rdbi/ | - | 2007-02-28 06:55:01 | 
| RdbiPgSQL/ | - | 2007-02-28 06:55:01 | 
| Resourcerer/ | - | 2007-02-28 06:55:02 | 
| Rgraphviz/ | - | 2007-02-28 06:55:02 | 
| Rredland/ | - | 2007-02-28 06:55:02 | 
| Ruuid/ | - | 2007-02-28 06:55:03 | 
| SAGElyzer/ | - | 2007-02-28 06:55:03 | 
| SAGx/ | - | 2007-02-28 06:55:03 | 
| SBMLR/ | - | 2007-02-28 06:55:03 | 
| ScISI/ | - | 2007-02-28 06:55:03 | 
| TypeInfo/ | - | 2007-02-28 06:55:06 | 
| aCGH/ | - | 2007-02-28 06:54:39 | 
| adSplit/ | - | 2007-02-28 06:54:39 | 
| affxparser/ | - | 2007-02-28 06:54:40 | 
| affy/ | - | 2007-02-28 06:54:40 | 
| affyPLM/ | - | 2007-02-28 06:54:41 | 
| affyQCReport/ | - | 2007-02-28 06:54:41 | 
| affycomp/ | - | 2007-02-28 06:54:40 | 
| affycoretools/ | - | 2007-02-28 06:54:40 | 
| affydata/ | - | 2007-02-28 06:54:40 | 
| affyio/ | - | 2007-02-28 06:54:40 | 
| affylmGUI/ | - | 2007-02-28 06:54:40 | 
| affypdnn/ | - | 2007-02-28 06:54:41 | 
| altcdfenvs/ | - | 2007-02-28 06:54:41 | 
| annaffy/ | - | 2007-02-28 06:54:41 | 
| annotate/ | - | 2007-02-28 06:54:41 | 
| apComplex/ | - | 2007-02-28 06:54:41 | 
| applera/ | - | 2007-02-28 06:54:41 | 
| aroma.light/ | - | 2007-02-28 06:54:42 | 
| arrayMagic/ | - | 2007-02-28 06:54:42 | 
| arrayQCplot/ | - | 2007-02-28 06:54:42 | 
| arrayQuality/ | - | 2007-02-28 06:54:42 | 
| beadarray/ | - | 2007-02-28 06:54:42 | 
| beadarraySNP/ | - | 2007-02-28 06:54:42 | 
| bim/ | - | 2007-02-28 06:54:43 | 
| bioDist/ | - | 2007-02-28 06:54:43 | 
| biocViews/ | - | 2007-02-28 06:54:43 | 
| biomaRt/ | - | 2007-02-28 06:54:43 | 
| bridge/ | - | 2007-02-28 06:54:44 | 
| cellHTS/ | - | 2007-02-28 06:54:44 | 
| cghMCR/ | - | 2007-02-28 06:54:45 | 
| clusterStab/ | - | 2007-02-28 06:54:45 | 
| codelink/ | - | 2007-02-28 06:54:45 | 
| convert/ | - | 2007-02-28 06:54:45 | 
| copa/ | - | 2007-02-28 06:54:45 | 
| ctc/ | - | 2007-02-28 06:54:45 | 
| daMA/ | - | 2007-02-28 06:54:46 | 
| diffGeneAnalysis/ | - | 2007-02-28 06:54:46 | 
| ecolitk/ | - | 2007-02-28 06:54:46 | 
| edd/ | - | 2007-02-28 06:54:46 | 
| factDesign/ | - | 2007-02-28 06:54:46 | 
| fdrame/ | - | 2007-02-28 06:54:47 | 
| gaggle/ | - | 2007-02-28 06:54:47 | 
| gcrma/ | - | 2007-02-28 06:54:47 | 
| genArise/ | - | 2007-02-28 06:54:47 | 
| geneRecommender/ | - | 2007-02-28 06:54:48 | 
| genefilter/ | - | 2007-02-28 06:54:47 | 
| geneplotter/ | - | 2007-02-28 06:54:47 | 
| gff3Plotter/ | - | 2007-02-28 06:54:48 | 
| globaltest/ | - | 2007-02-28 06:54:49 | 
| goTools/ | - | 2007-02-28 06:54:49 | 
| gpls/ | - | 2007-02-28 06:54:49 | 
| graph/ | - | 2007-02-28 06:54:49 | 
| hexbin/ | - | 2007-02-28 06:54:50 | 
| hopach/ | - | 2007-02-28 06:54:50 | 
| hypergraph/ | - | 2007-02-28 06:54:50 | 
| iSNetwork/ | - | 2007-02-28 06:54:50 | 
| iSPlot/ | - | 2007-02-28 06:54:51 | 
| idiogram/ | - | 2007-02-28 06:54:50 | 
| impute/ | - | 2007-02-28 06:54:50 | 
| lapmix/ | - | 2007-02-28 06:54:51 | 
| limma/ | - | 2007-02-28 06:54:51 | 
| limmaGUI/ | - | 2007-02-28 06:54:51 | 
| logicFS/ | - | 2007-02-28 06:54:51 | 
| maCorrPlot/ | - | 2007-02-28 06:54:52 | 
| maDB/ | - | 2007-02-28 06:54:52 | 
| maSigPro/ | - | 2007-02-28 06:54:53 | 
| maanova/ | - | 2007-02-28 06:54:52 | 
| macat/ | - | 2007-02-28 06:54:52 | 
| made4/ | - | 2007-02-28 06:54:52 | 
| makecdfenv/ | - | 2007-02-28 06:54:52 | 
| marray/ | - | 2007-02-28 06:54:53 | 
| matchprobes/ | - | 2007-02-28 06:54:53 | 
| metaArray/ | - | 2007-02-28 06:54:54 | 
| mmgmos/ | - | 2007-02-28 06:54:54 | 
| multtest/ | - | 2007-02-28 06:54:54 | 
| nem/ | - | 2007-02-28 06:54:55 | 
| nnNorm/ | - | 2007-02-28 06:54:55 | 
| nudge/ | - | 2007-02-28 06:54:55 | 
| ontoTools/ | - | 2007-02-28 06:54:58 | 
| pairseqsim/ | - | 2007-02-28 06:54:58 | 
| pamr/ | - | 2007-02-28 06:54:58 | 
| panp/ | - | 2007-02-28 06:54:59 | 
| pathRender/ | - | 2007-02-28 06:54:59 | 
| pcaMethods/ | - | 2007-02-28 06:54:59 | 
| pcot2/ | - | 2007-02-28 06:54:59 | 
| pdmclass/ | - | 2007-02-28 06:54:59 | 
| pgUtils/ | - | 2007-02-28 06:54:59 | 
| pickgene/ | - | 2007-02-28 06:54:59 | 
| pkgDepTools/ | - | 2007-02-28 06:55:00 | 
| plgem/ | - | 2007-02-28 06:55:00 | 
| plier/ | - | 2007-02-28 06:55:00 | 
| ppiStats/ | - | 2007-02-28 06:55:00 | 
| prada/ | - | 2007-02-28 06:55:00 | 
| quantsmooth/ | - | 2007-02-28 06:55:01 | 
| qvalue/ | - | 2007-02-28 06:55:01 | 
| rama/ | - | 2007-02-28 06:55:01 | 
| reb/ | - | 2007-02-28 06:55:02 | 
| rflowcyt/ | - | 2007-02-28 06:55:02 | 
| safe/ | - | 2007-02-28 06:55:03 | 
| sagenhaft/ | - | 2007-02-28 06:55:03 | 
| sigPathway/ | - | 2007-02-28 06:55:04 | 
| siggenes/ | - | 2007-02-28 06:55:03 | 
| simpleaffy/ | - | 2007-02-28 06:55:04 | 
| simulatorAPMS/ | - | 2007-02-28 06:55:04 | 
| sizepower/ | - | 2007-02-28 06:55:04 | 
| snapCGH/ | - | 2007-02-28 06:55:04 | 
| spikeLI/ | - | 2007-02-28 06:55:05 | 
| splicegear/ | - | 2007-02-28 06:55:05 | 
| splots/ | - | 2007-02-28 06:55:05 | 
| spotSegmentation/ | - | 2007-02-28 06:55:05 | 
| sscore/ | - | 2007-02-28 06:55:05 | 
| ssize/ | - | 2007-02-28 06:55:05 | 
| stam/ | - | 2007-02-28 06:55:06 | 
| stepNorm/ | - | 2007-02-28 06:55:06 | 
| tilingArray/ | - | 2007-02-28 06:55:06 | 
| timecourse/ | - | 2007-02-28 06:55:06 | 
| tkWidgets/ | - | 2007-02-28 06:55:06 | 
| twilight/ | - | 2007-02-28 06:55:06 | 
| vsn/ | - | 2007-02-28 06:55:06 | 
| weaver/ | - | 2007-02-28 06:55:07 | 
| webbioc/ | - | 2007-02-28 06:55:07 | 
| widgetInvoke/ | - | 2007-02-28 06:55:07 | 
| widgetTools/ | - | 2007-02-28 06:55:07 | 
| xcms/ | - | 2007-02-28 06:55:07 | 
| churchill-NodeInfo.html | 4.1 KiB | 2007-02-28 06:55:31 | 
| churchill-R-instpkgs.html | 14.6 KiB | 2007-02-28 06:55:31 | 
| churchill-report.html | 109.2 KiB | 2007-02-28 06:55:25 | 
| index.html | 551.2 KiB | 2007-02-28 06:55:38 | 
| lamb1-NodeInfo.html | 4.0 KiB | 2007-02-28 06:55:31 | 
| lamb1-R-instpkgs.html | 15.0 KiB | 2007-02-28 06:55:31 | 
| lamb1-report.html | 105.8 KiB | 2007-02-28 06:55:13 | 
| lemming-NodeInfo.html | 4.6 KiB | 2007-02-28 06:55:31 | 
| lemming-R-instpkgs.html | 15.1 KiB | 2007-02-28 06:55:31 | 
| lemming-report.html | 124.2 KiB | 2007-02-28 06:55:31 | 
| report.css | 4.6 KiB | 2007-02-28 06:53:32 | 
| wellington-NodeInfo.html | 3.7 KiB | 2007-02-28 06:55:31 | 
| wellington-R-instpkgs.html | 15.0 KiB | 2007-02-28 06:55:31 | 
| wellington-report.html | 110.6 KiB | 2007-02-28 06:55:19 |