Back to the "Multiple platform build/check report"
| Package 96/187 | OS | Arch | BUILD | CHECK | BUILD BIN | 
macat1.7.0Joern Toedling | Linux (SUSE 9.2) | x86_64 | ERROR | skipped | |
| Linux (SUSE 9.2) | i686 | ERROR | skipped | ||
| Solaris 2.9 | sparc | ERROR | skipped | ||
| Linux (SUSE 10.0) | x86_64 | ERROR | skipped | ||
| Windows Server 2003 | x86_64 | ERROR | skipped | skipped | 
| "http://www.w3.org/TR/xhtml1/DTD/xhtml1-strict.dtd"> | 
Object not found! | 
  | 
| The requested URL was not found on this server. | 
| If you entered the URL manually please check your | 
| spelling and try again. | 
  | 
| If you think this is a server error, please contact | 
| the webmaster. | 
Error 404 | 
|   gopher5 | 
|   Fri Jun  9 12:49:48 2006 | 
| Apache/2.0.50 (Linux/SUSE) |