Back to Multiple platform build/check report
| Package: ssize |
| Version: 1.4.0 |
| Command: /home/biocbuild/arch/i686/R-2.3.0/bin/R CMD build ssize |
| RetCode: 0 |
| Time: 41.5 seconds |
| Status: OK |
| PackageFile: ssize_1.4.0.tar.gz |
* checking for file 'ssize/DESCRIPTION' ... OK
* preparing 'ssize':
* checking DESCRIPTION meta-information ... OK
* installing the package to re-build vignettes
* Installing *source* package 'ssize' ...
** R
** data
** inst
** help
>>> Building/Updating help pages for package 'ssize'
Formats: text html latex example
exp.sd text html latex example
pow text html latex example
** building package indices ...
* DONE (ssize)
* creating vignettes ... OK
* removing junk files
* checking for LF line-endings in source files
* checking for empty or unneeded directories
* building 'ssize_1.4.0.tar.gz'