Back to Multiple platform build/check report
| Package: spotSegmentation |
| Version: 1.4.0 |
| Command: /home/biocbuild/arch/i686/R-2.3.0/bin/R CMD build spotSegmentation |
| RetCode: 0 |
| Time: 1.8 seconds |
| Status: OK |
| PackageFile: spotSegmentation_1.4.0.tar.gz |
* checking for file 'spotSegmentation/DESCRIPTION' ... OK * preparing 'spotSegmentation': * checking DESCRIPTION meta-information ... OK * checking whether 'INDEX' is up-to-date ... NO * use '--force' to overwrite the existing 'INDEX' * removing junk files * checking for LF line-endings in source files * checking for empty or unneeded directories * building 'spotSegmentation_1.4.0.tar.gz'