Back to Multiple platform build/check report
| Package: plier |
| Version: 1.4.0 |
| Command: /home/biocbuild/arch/i686/R-2.3.0/bin/R CMD build plier |
| RetCode: 0 |
| Time: 0.8 seconds |
| Status: OK |
| PackageFile: plier_1.4.0.tar.gz |
* checking for file 'plier/DESCRIPTION' ... OK * preparing 'plier': * checking DESCRIPTION meta-information ... OK * cleaning src * removing junk files * checking for LF line-endings in source files * checking for empty or unneeded directories * building 'plier_1.4.0.tar.gz'