Back to Multiple platform build/check report
| Package: maDB | 
| Version: 1.4.0 | 
| Command: /home/biocbuild/arch/i686/R-2.3.0/bin/R CMD build maDB | 
| RetCode: 0 | 
| Time: 1.5 seconds | 
| Status: OK | 
| PackageFile: maDB_1.4.0.tar.gz | 
* checking for file 'maDB/DESCRIPTION' ... OK * preparing 'maDB': * checking DESCRIPTION meta-information ... OK * removing junk files * checking for LF line-endings in source files * checking for empty or unneeded directories * building 'maDB_1.4.0.tar.gz'