Back to Multiple platform build/check report
| Package: RSNPper | 
| Version: 1.4.0 | 
| Command: /home/biocbuild/arch/i686/R-2.3.0/bin/R CMD build RSNPper | 
| RetCode: 0 | 
| Time: 99.2 seconds | 
| Status: OK | 
| PackageFile: RSNPper_1.4.0.tar.gz | 
* checking for file 'RSNPper/DESCRIPTION' ... OK
* preparing 'RSNPper':
* checking DESCRIPTION meta-information ... OK
* installing the package to re-build vignettes
* Installing *source* package 'RSNPper' ...
** R
** inst
** help
 >>> Building/Updating help pages for package 'RSNPper'
     Formats: text html latex example 
  geneInfo                          text    html    latex   example
** building package indices ...
* DONE (RSNPper)
* creating vignettes ... OK
* removing junk files
* checking for LF line-endings in source files
* checking for empty or unneeded directories
* building 'RSNPper_1.4.0.tar.gz'