Back to Multiple platform build/check report
Package: sscore |
Version: 1.4.0 |
Command: D:\biocbld\R-2.3.0\bin\R.exe CMD INSTALL --build sscore_1.4.0.tar.gz |
RetCode: 0 |
Time: 12.5 seconds |
Status: OK |
PackageFile: sscore_1.4.0.zip |
Using auto-selected zip options '' ---------- Making package sscore ------------ adding build stamp to DESCRIPTION installing R files installing inst files installing man source files installing indices installing help >>> Building/Updating help pages for package 'sscore' Formats: text html latex example chm OneStepBiweightAlgorithm text html latex chm SScore text html latex example chm SScoreBatch text html latex example chm computeOutlier text html latex example chm computeRawQ text html latex chm computeSFandSDT text html latex example chm computeZoneIInfo text html latex chm computeZonenoise text html latex chm trimMean text html latex chm Microsoft HTML Help Compiler 4.74.8702 Compiling d:\biocbld\work-area\1.8d\madman\Rpacks\R.INSTALL\sscore\chm\sscore.chm Compile time: 0 minutes, 0 seconds 10 Topics 24 Local links 12 Internet links 1 Graphic Created d:\biocbld\work-area\1.8d\madman\Rpacks\R.INSTALL\sscore\chm\sscore.chm, 26,313 bytes Compression decreased file by 10,453 bytes. preparing package sscore for lazy loading Welcome to Bioconductor Vignettes contain introductory material. To view, type 'openVignette()' or start with 'help(Biobase)'. For details on reading vignettes, see the openVignette help page. adding MD5 sums packaged installation of package 'sscore' as sscore_1.4.0.zip * DONE (sscore)