Back to Multiple platform build/check report
| Package: nnNorm |
| Version: 1.8.0 |
| Command: D:\biocbld\R-2.3.0\bin\R.exe CMD build nnNorm |
| RetCode: 0 |
| Time: 200.4 seconds |
| Status: OK |
| PackageFile: nnNorm_1.8.0.tar.gz |
* checking for file 'nnNorm/DESCRIPTION' ... OK
* preparing 'nnNorm':
* checking DESCRIPTION meta-information ... OK
* checking whether 'INDEX' is up-to-date ... NO
* use '--force' to overwrite the existing 'INDEX'
* installing the package to re-build vignettes
installing R.css in D:/biocbld/work-area/1.8d/tmpdir/Rinst481634848
---------- Making package nnNorm ------------
adding build stamp to DESCRIPTION
installing R files
installing inst files
installing man source files
installing indices
installing help
>>> Building/Updating help pages for package 'nnNorm'
Formats: text html latex example chm
compNorm text html latex example chm
maNormNN text html latex example chm
nnNorm-internal text html latex chm
Microsoft HTML Help Compiler 4.74.8702
Compiling d:\biocbld\work-area\1.8d\madman\Rpacks\nnNorm\chm\nnNorm.chm
Compile time: 0 minutes, 0 seconds
4 Topics
7 Local links
0 Internet links
1 Graphic
Created d:\biocbld\work-area\1.8d\madman\Rpacks\nnNorm\chm\nnNorm.chm, 20,211 bytes
Compression increased file by 5,262 bytes.
adding MD5 sums
* DONE (nnNorm)
* creating vignettes ... OK
* removing junk files
* checking for LF line-endings in source files
* checking for empty or unneeded directories
* building 'nnNorm_1.8.0.tar.gz'