Back to Multiple platform build/check report
Package: geneRecommender |
Version: 1.4.0 |
Command: D:\biocbld\R-2.3.0\bin\R.exe CMD build geneRecommender |
RetCode: 0 |
Time: 12.5 seconds |
Status: OK |
PackageFile: geneRecommender_1.4.0.tar.gz |
* checking for file 'geneRecommender/DESCRIPTION' ... OK * preparing 'geneRecommender': * checking DESCRIPTION meta-information ... OK * installing the package to re-build vignettes installing R.css in D:/biocbld/work-area/1.8d/tmpdir/Rinst268008126 ---------- Making package geneRecommender ------------ adding build stamp to DESCRIPTION installing R files installing inst files installing man source files installing indices installing help >>> Building/Updating help pages for package 'geneRecommender' Formats: text html latex example chm gr.cv text html latex example chm gr.main text html latex example chm gr.normalize text html latex example chm Microsoft HTML Help Compiler 4.74.8702 Compiling d:\biocbld\work-area\1.8d\madman\Rpacks\geneRecommender\chm\geneRecommender.chm Compile time: 0 minutes, 0 seconds 4 Topics 6 Local links 0 Internet links 1 Graphic Created d:\biocbld\work-area\1.8d\madman\Rpacks\geneRecommender\chm\geneRecommender.chm, 21,927 bytes Compression increased file by 3,982 bytes. adding MD5 sums * DONE (geneRecommender) * creating vignettes ... OK * removing junk files * checking for LF line-endings in source files * checking for empty or unneeded directories * building 'geneRecommender_1.4.0.tar.gz'