Back to Multiple platform build/check report
| Package: fdrame |
| Version: 1.4.0 |
| Command: D:\biocbld\R-2.3.0\bin\R.exe CMD INSTALL --build fdrame_1.4.0.tar.gz |
| RetCode: 0 |
| Time: 10.5 seconds |
| Status: OK |
| PackageFile: fdrame_1.4.0.zip |
Using auto-selected zip options 'fdrame-ZIPDATA=zip'
---------- Making package fdrame ------------
adding build stamp to DESCRIPTION
making DLL ...
making fdr.d from fdr.c
gcc -ID:/biocbld/R-2.3.0/include -Wall -O2 -c fdr.c -o fdr.o
windres --include-dir D:/biocbld/R-2.3.0/include -i fdrame_res.rc -o fdrame_res.o
gcc -shared -s -o fdrame.dll fdrame.def fdr.o fdrame_res.o -LD:/biocbld/R-2.3.0/bin -lR
... DLL made
installing DLL
installing R files
installing inst files
installing data files
installing man source files
Warning message:
incomplete final line found by readLines on './man/fdrgui.Rd'
installing indices
zipping data
installing help
>>> Building/Updating help pages for package 'fdrame'
Formats: text html latex example chm
design text html latex example chm
exp.arr text html latex example chm
fdr-internal text html latex chm
fdrgui text html latex example chm
fdrma text html latex example chm
Microsoft HTML Help Compiler 4.74.8702
Compiling d:\biocbld\work-area\1.8d\madman\Rpacks\R.INSTALL\fdrame\chm\fdrame.chm
Compile time: 0 minutes, 0 seconds
6 Topics
9 Local links
0 Internet links
1 Graphic
Created d:\biocbld\work-area\1.8d\madman\Rpacks\R.INSTALL\fdrame\chm\fdrame.chm, 21,479 bytes
Compression decreased file by 79 bytes.
preparing package fdrame for lazy loading
adding MD5 sums
packaged installation of package 'fdrame' as fdrame_1.4.0.zip
* DONE (fdrame)