Back to Multiple platform build/check report
Package: clusterStab |
Version: 1.4.0 |
Command: D:\biocbld\R-2.3.0\bin\R.exe CMD build clusterStab |
RetCode: 0 |
Time: 27.5 seconds |
Status: OK |
PackageFile: clusterStab_1.4.0.tar.gz |
* checking for file 'clusterStab/DESCRIPTION' ... OK * preparing 'clusterStab': * checking DESCRIPTION meta-information ... OK * installing the package to re-build vignettes installing R.css in D:/biocbld/work-area/1.8d/tmpdir/Rinst470074288 ---------- Making package clusterStab ------------ adding build stamp to DESCRIPTION installing R files save image Loading required package: Biobase Loading required package: tools Welcome to Bioconductor Vignettes contain introductory material. To view, type 'openVignette()' or start with 'help(Biobase)'. For details on reading vignettes, see the openVignette help page. [1] "benhur" [1] "benhur" [1] "benhur" [1] "clusterComp" [1] "clusterComp" [1] "clusterComp" [1] "benhur" [1] "show" [1] "hist" [1] "hist" [1] "ecdf" [1] "ecdf" [1] "clusterComp" [1] "show" installing inst files installing man source files installing indices installing help >>> Building/Updating help pages for package 'clusterStab' Formats: text html latex example chm benhur-class text html latex chm benhur text html latex example chm clusterComp-class text html latex chm clusterComp text html latex example chm Microsoft HTML Help Compiler 4.74.8702 Compiling d:\biocbld\work-area\1.8d\madman\Rpacks\clusterStab\chm\clusterStab.chm Compile time: 0 minutes, 0 seconds 5 Topics 20 Local links 0 Internet links 1 Graphic Created d:\biocbld\work-area\1.8d\madman\Rpacks\clusterStab\chm\clusterStab.chm, 22,781 bytes Compression decreased file by 959 bytes. preparing package clusterStab for lazy loading Welcome to Bioconductor Vignettes contain introductory material. To view, type 'openVignette()' or start with 'help(Biobase)'. For details on reading vignettes, see the openVignette help page. adding MD5 sums * DONE (clusterStab) * creating vignettes ... OK * removing junk files * checking for LF line-endings in source files * checking for empty or unneeded directories * building 'clusterStab_1.4.0.tar.gz'