Back to Multiple platform build/check report
| Package: cghMCR |
| Version: 1.2.0 |
| Command: D:\biocbld\R-2.3.0\bin\R.exe CMD INSTALL --build cghMCR_1.2.0.tar.gz |
| RetCode: 0 |
| Time: 12.0 seconds |
| Status: OK |
| PackageFile: cghMCR_1.2.0.zip |
Using auto-selected zip options 'cghMCR-ZIPDATA=zip'
---------- Making package cghMCR ------------
adding build stamp to DESCRIPTION
installing NAMESPACE file and metadata
installing R files
save image
Loading required package: DNAcopy
Loading required package: marray
Loading required package: limma
Creating a new generic function for 'print' in 'cghMCR'
installing inst files
installing data files
installing man source files
installing indices
zipping data
installing help
>>> Building/Updating help pages for package 'cghMCR'
Formats: text html latex example chm
cghMCR-class text html latex example chm
cghMCR text html latex example chm
mergeMCRProbes text html latex example chm
plot.DNAcopy text html latex example chm
Microsoft HTML Help Compiler 4.74.8702
Compiling d:\biocbld\work-area\1.8d\madman\Rpacks\R.INSTALL\cghMCR\chm\cghMCR.chm
Compile time: 0 minutes, 0 seconds
5 Topics
27 Local links
0 Internet links
1 Graphic
Created d:\biocbld\work-area\1.8d\madman\Rpacks\R.INSTALL\cghMCR\chm\cghMCR.chm, 20,991 bytes
Compression increased file by 1,044 bytes.
adding MD5 sums
packaged installation of package 'cghMCR' as cghMCR_1.2.0.zip
* DONE (cghMCR)