Back to Multiple platform build/check report
Package: applera |
Version: 1.2.0 |
Command: D:\biocbld\R-2.3.0\bin\R.exe CMD build applera |
RetCode: 0 |
Time: 35.5 seconds |
Status: OK |
PackageFile: applera_1.2.0.tar.gz |
* checking for file 'applera/DESCRIPTION' ... OK * preparing 'applera': * checking DESCRIPTION meta-information ... OK * installing the package to re-build vignettes installing R.css in D:/biocbld/work-area/1.8d/tmpdir/Rinst247213394 ---------- Making package applera ------------ adding build stamp to DESCRIPTION installing R files installing inst files installing data files installing man source files installing indices not zipping data installing help >>> Building/Updating help pages for package 'applera' Formats: text html latex example chm CATPlots text html latex example chm applera text html latex example chm optFilter text html latex example chm readAp text html latex example chm test text html latex example chm Microsoft HTML Help Compiler 4.74.8702 Compiling d:\biocbld\work-area\1.8d\madman\Rpacks\applera\chm\applera.chm Compile time: 0 minutes, 0 seconds 6 Topics 31 Local links 0 Internet links 1 Graphic Created d:\biocbld\work-area\1.8d\madman\Rpacks\applera\chm\applera.chm, 25,565 bytes Compression decreased file by 3,914 bytes. preparing package applera for lazy loading Welcome to Bioconductor Vignettes contain introductory material. To view, type 'openVignette()' or start with 'help(Biobase)'. For details on reading vignettes, see the openVignette help page. adding MD5 sums * DONE (applera) * creating vignettes ... OK * removing junk files * checking for LF line-endings in source files * checking for empty or unneeded directories * building 'applera_1.2.0.tar.gz'