Back to Multiple platform build/check report
| Package: SBMLR |
| Version: 1.26.0 |
| Command: D:\biocbld\R-2.3.0\bin\R.exe CMD build SBMLR |
| RetCode: 0 |
| Time: 3.5 seconds |
| Status: OK |
| PackageFile: SBMLR_1.26.0.tar.gz |
* checking for file 'SBMLR/DESCRIPTION' ... OK * preparing 'SBMLR': * checking DESCRIPTION meta-information ... OK * removing junk files * checking for LF line-endings in source files * checking for empty or unneeded directories * building 'SBMLR_1.26.0.tar.gz'