Back to Multiple platform build/check report
| Package: SBMLR | 
| Version: 1.26.0 | 
| Command: D:\biocbld\R-2.3.0\bin\R.exe CMD INSTALL --build SBMLR_1.26.0.tar.gz | 
| RetCode: 0 | 
| Time: 10.5 seconds | 
| Status: OK | 
| PackageFile: SBMLR_1.26.0.zip | 
Using auto-selected zip options ''
---------- Making package SBMLR ------------
  adding build stamp to DESCRIPTION
  installing R files
  installing inst files
  installing man source files
  installing indices
  installing help
 >>> Building/Updating help pages for package 'SBMLR'
     Formats: text html latex example chm 
  equateModels                      text    html    latex   example chm
  makeLaw                           text    html    latex   example chm
  readSBML                          text    html    latex   example chm
  readSBMLR                         text    html    latex   example chm
  saveSBML                          text    html    latex   example chm
  saveSBMLR                         text    html    latex   example chm
  simulate                          text    html    latex   example chm
  summary.SBML                      text    html    latex   example chm
Microsoft HTML Help Compiler 4.74.8702
Compiling d:\biocbld\work-area\1.8d\madman\Rpacks\R.INSTALL\SBMLR\chm\SBMLR.chm
Compile time: 0 minutes, 0 seconds
9	Topics
22	Local links
0	Internet links
1	Graphic
Created d:\biocbld\work-area\1.8d\madman\Rpacks\R.INSTALL\SBMLR\chm\SBMLR.chm, 24,955 bytes
Compression decreased file by 3,076 bytes.
  preparing package SBMLR for lazy loading
  adding MD5 sums
packaged installation of package 'SBMLR' as SBMLR_1.26.0.zip
* DONE (SBMLR)