Back to Multiple platform build/check report
| Package: panp |
| Version: 1.2.0 |
| Command: /home/biocbuild/R-2.3.0/bin/R CMD build panp |
| RetCode: 0 |
| Time: 15.2 seconds |
| Status: OK |
| PackageFile: panp_1.2.0.tar.gz |
* checking for file 'panp/DESCRIPTION' ... OK
* preparing 'panp':
* checking DESCRIPTION meta-information ... OK
* installing the package to re-build vignettes
* Installing *source* package 'panp' ...
** R
** data
** inst
** help
Warning messages:
1: incomplete final line found by readLines on './man/NSMPnames.hgu133a.Rd'
2: incomplete final line found by readLines on './man/NSMPnames.hgu133plus2.Rd'
3: incomplete final line found by readLines on './man/gcrma.exprSet.Rd'
4: incomplete final line found by readLines on './man/test133a.Rd'
>>> Building/Updating help pages for package 'panp'
Formats: text html latex example
NSMPnames.hgu133a text html latex
NSMPnames.hgu133plus2 text html latex
gcrma.exprSet text html latex
pa.calls text html latex example
test133a text html latex
** building package indices ...
* DONE (panp)
* creating vignettes ... OK
* removing junk files
* excluding invalid files from 'panp'
Subdirectory 'man' contains invalid file names:
README
* checking for LF line-endings in source files
* checking for empty or unneeded directories
* building 'panp_1.2.0.tar.gz'