Back to Multiple platform build/check report
| Package: convert |
| Version: 1.6.0 |
| Command: /home/biocbuild/R-2.3.0/bin/R CMD build convert |
| RetCode: 0 |
| Time: 7.8 seconds |
| Status: OK |
| PackageFile: convert_1.6.0.tar.gz |
* checking for file 'convert/DESCRIPTION' ... OK
* preparing 'convert':
* checking DESCRIPTION meta-information ... OK
* installing the package to re-build vignettes
* Installing *source* package 'convert' ...
** R
** inst
** help
>>> Building/Updating help pages for package 'convert'
Formats: text html latex example
coerce text html latex example
** building package indices ...
* DONE (convert)
* creating vignettes ... OK
* removing junk files
* checking for LF line-endings in source files
* checking for empty or unneeded directories
* building 'convert_1.6.0.tar.gz'