Back to Multiple platform build/check report
| Package: applera |
| Version: 1.2.0 |
| Command: /home/biocbuild/R-2.3.0/bin/R CMD build applera |
| RetCode: 0 |
| Time: 29.3 seconds |
| Status: OK |
| PackageFile: applera_1.2.0.tar.gz |
* checking for file 'applera/DESCRIPTION' ... OK
* preparing 'applera':
* checking DESCRIPTION meta-information ... OK
* installing the package to re-build vignettes
* Installing *source* package 'applera' ...
** R
** data
** inst
** preparing package for lazy loading
Loading required package: Biobase
Loading required package: tools
Welcome to Bioconductor
Vignettes contain introductory material. To view, type
'openVignette()' or start with 'help(Biobase)'. For details
on reading vignettes, see the openVignette help page.
Loading required package: affy
Loading required package: affyio
Loading required package: genefilter
Loading required package: survival
Loading required package: splines
Loading required package: limma
Loading required package: geneplotter
Loading required package: annotate
KernSmooth 2.22 installed
Copyright M. P. Wand 1997
Loading required package: RColorBrewer
Loading required package: prada
Loading required package: grid
Loading required package: combinat
** help
>>> Building/Updating help pages for package 'applera'
Formats: text html latex example
CATPlots text html latex example
applera text html latex example
optFilter text html latex example
readAp text html latex example
test text html latex example
** building package indices ...
* DONE (applera)
* creating vignettes ... OK
* removing junk files
* checking for LF line-endings in source files
* checking for empty or unneeded directories
* building 'applera_1.2.0.tar.gz'