Back to Multiple platform build/check report
| Package: Heatplus |
| Version: 1.2.0 |
| Command: /home/biocbuild/R-2.3.0/bin/R CMD build Heatplus |
| RetCode: 0 |
| Time: 11.8 seconds |
| Status: OK |
| PackageFile: Heatplus_1.2.0.tar.gz |
* checking for file 'Heatplus/DESCRIPTION' ... OK
* preparing 'Heatplus':
* checking DESCRIPTION meta-information ... OK
* installing the package to re-build vignettes
* Installing *source* package 'Heatplus' ...
** R
** inst
** help
>>> Building/Updating help pages for package 'Heatplus'
Formats: text html latex example
RGBColVec text html latex example
cutplot.dendrogram text html latex example
heatmap_2 text html latex example
heatmap_plus text html latex example
picketplot text html latex example
** building package indices ...
* DONE (Heatplus)
* creating vignettes ... OK
* removing junk files
* checking for LF line-endings in source files
* checking for empty or unneeded directories
* building 'Heatplus_1.2.0.tar.gz'