Back to Multiple platform build/check report
| Package: GeneTraffic |
| Version: 1.4.0 |
| Command: /home/biocbuild/R-2.3.0/bin/R CMD build GeneTraffic |
| RetCode: 0 |
| Time: 0.8 seconds |
| Status: OK |
| PackageFile: GeneTraffic_1.4.0.tar.gz |
* checking for file 'GeneTraffic/DESCRIPTION' ... OK * preparing 'GeneTraffic': * checking DESCRIPTION meta-information ... OK * checking whether 'INDEX' is up-to-date ... NO * use '--force' to overwrite the existing 'INDEX' * removing junk files * checking for LF line-endings in source files * checking for empty or unneeded directories * building 'GeneTraffic_1.4.0.tar.gz'