Back to Multiple platform build/check report
| Package: GeneTS |
| Version: 2.10.0 |
| Command: /home/biocbuild/R-2.3.0/bin/R CMD build GeneTS |
| RetCode: 0 |
| Time: 2.8 seconds |
| Status: OK |
| PackageFile: GeneTS_2.10.0.tar.gz |
* checking for file 'GeneTS/DESCRIPTION' ... OK * preparing 'GeneTS': * checking DESCRIPTION meta-information ... OK * removing junk files * checking for LF line-endings in source files * checking for empty or unneeded directories * building 'GeneTS_2.10.0.tar.gz'