Back to Multiple platform build/check report
| Package: CoCiteStats |
| Version: 1.4.0 |
| Command: /home/biocbuild/R-2.3.0/bin/R CMD build CoCiteStats |
| RetCode: 0 |
| Time: 1.3 seconds |
| Status: OK |
| PackageFile: CoCiteStats_1.4.0.tar.gz |
* checking for file 'CoCiteStats/DESCRIPTION' ... OK * preparing 'CoCiteStats': * checking DESCRIPTION meta-information ... OK * removing junk files * checking for LF line-endings in source files * checking for empty or unneeded directories * building 'CoCiteStats_1.4.0.tar.gz'