Back to Multiple platform build/check report
| Package: multtest |
| Version: 1.10.0 |
| Command: /home/biocbuild/arch/sparc/R-2.3.0/bin/R CMD build multtest |
| RetCode: 0 |
| Time: 6.0 seconds |
| Status: OK |
| PackageFile: multtest_1.10.0.tar.gz |
* checking for file 'multtest/DESCRIPTION' ... OK * preparing 'multtest': * checking DESCRIPTION meta-information ... OK * cleaning src * checking whether 'INDEX' is up-to-date ... NO * use '--force' to overwrite the existing 'INDEX' * removing junk files * checking for LF line-endings in source files * checking for empty or unneeded directories * building 'multtest_1.10.0.tar.gz'