Back to Multiple platform build/check report
| Package: iSPlot |
| Version: 1.6.0 |
| Command: /home/biocbuild/arch/sparc/R-2.3.0/bin/R CMD build iSPlot |
| RetCode: 1 |
| Time: 11.2 seconds |
| Status: ERROR |
| PackageFile: None |
* checking for file 'iSPlot/DESCRIPTION' ... OK
* preparing 'iSPlot':
* checking DESCRIPTION meta-information ... OK
* installing the package to re-build vignettes
* Installing *source* package 'iSPlot' ...
** R
** inst
** save image
Loading required package: RGtk
*** caught segfault ***
address 8, cause 'memory not mapped'
Traceback:
1: .C("R_gtkInit", length(args), x = args)
2: gtkInit(args)
3: f(libname, pkgname)
4: firstlib(which.lib.loc, package)
5: try(firstlib(which.lib.loc, package))
6: library(pkg, character.only = TRUE, logical = TRUE, lib.loc = lib.loc)
7: .getRequiredPackages2(pkgInfo, quietly, , useImports)
8: .getRequiredPackages()
aborting ...
Segmentation Fault - core dumped
ERROR: execution of package source for 'iSPlot' failed
** Removing '/tmp/Rinst452303198/iSPlot'
ERROR
Installation failed.
Removing '/tmp/Rinst452303198'