Back to Multiple platform build/check report
| Package: externalVector | 
| Version: 1.4.0 | 
| Command: /home/biocbuild/arch/sparc/R-2.3.0/bin/R CMD build externalVector | 
| RetCode: 0 | 
| Time: 1.8 seconds | 
| Status: OK | 
| PackageFile: externalVector_1.4.0.tar.gz | 
* checking for file 'externalVector/DESCRIPTION' ... OK * preparing 'externalVector': * checking DESCRIPTION meta-information ... OK * cleaning src * removing junk files * checking for LF line-endings in source files * checking for empty or unneeded directories * building 'externalVector_1.4.0.tar.gz'