Back to Multiple platform build/check report
Package: affylmGUI |
Version: 1.6.0 |
Command: /home/biocbuild/arch/sparc/R-2.3.0/bin/R CMD build affylmGUI |
RetCode: 1 |
Time: 11.2 seconds |
Status: ERROR |
PackageFile: None |
* checking for file 'affylmGUI/DESCRIPTION' ... OK * preparing 'affylmGUI': * checking DESCRIPTION meta-information ... OK * checking whether 'INDEX' is up-to-date ... NO * use '--force' to overwrite the existing 'INDEX' * installing the package to re-build vignettes * Installing *source* package 'affylmGUI' ... ** R ** inst ** preparing package for lazy loading Loading required package: limma Loading required package: tcltk Loading Tcl/Tk interface ... Error in fun(...) : this isn't a Tk applicationcouldn't connect to display ":0.0" Error: .onLoad failed in 'loadNamespace' for 'tcltk' Error: package 'tcltk' could not be loaded Execution halted ERROR: lazy loading failed for package 'affylmGUI' ** Removing '/tmp/Rinst2177630181/affylmGUI' ERROR Installation failed. Removing '/tmp/Rinst2177630181'