Back to Multiple platform build/check report
| Package: DynDoc |
| Version: 1.10.0 |
| Command: /home/biocbuild/arch/sparc/R-2.3.0/bin/R CMD build DynDoc |
| RetCode: 0 |
| Time: 1.6 seconds |
| Status: OK |
| PackageFile: DynDoc_1.10.0.tar.gz |
* checking for file 'DynDoc/DESCRIPTION' ... OK * preparing 'DynDoc': * checking DESCRIPTION meta-information ... OK * removing junk files * checking for LF line-endings in source files * checking for empty or unneeded directories * building 'DynDoc_1.10.0.tar.gz'