| Parent directory/ | - | - |
| churchill-AnnBuilder-buildsrc.html | 8.4 KiB | 2006-09-04 04:47:38 |
| churchill-AnnBuilder-checksrc.html | 9.4 KiB | 2006-09-04 04:47:38 |
| churchill-Biobase-buildsrc.html | 9.0 KiB | 2006-09-04 04:47:39 |
| churchill-Biobase-checksrc.html | 10.3 KiB | 2006-09-04 04:47:39 |
| churchill-Biostrings-buildsrc.html | 6.6 KiB | 2006-09-04 04:47:39 |
| churchill-Biostrings-checksrc.html | 7.7 KiB | 2006-09-04 04:47:39 |
| churchill-Category-buildsrc.html | 6.0 KiB | 2006-09-04 04:47:39 |
| churchill-Category-checksrc.html | 7.1 KiB | 2006-09-04 04:47:40 |
| churchill-ChromoViz-buildsrc.html | 4.1 KiB | 2006-09-04 04:47:40 |
| churchill-ChromoViz-checksrc.html | 6.6 KiB | 2006-09-04 04:47:40 |
| churchill-CoCiteStats-buildsrc.html | 4.0 KiB | 2006-09-04 04:47:40 |
| churchill-CoCiteStats-checksrc.html | 5.8 KiB | 2006-09-04 04:47:40 |
| churchill-DEDS-buildsrc.html | 7.0 KiB | 2006-09-04 04:47:41 |
| churchill-DEDS-checksrc.html | 8.0 KiB | 2006-09-04 04:47:41 |
| churchill-DNAcopy-buildsrc.html | 6.0 KiB | 2006-09-04 04:47:41 |
| churchill-DNAcopy-checksrc.html | 6.9 KiB | 2006-09-04 04:47:41 |
| churchill-DynDoc-buildsrc.html | 3.9 KiB | 2006-09-04 04:47:41 |
| churchill-DynDoc-checksrc.html | 5.9 KiB | 2006-09-04 04:47:41 |
| churchill-EBImage-buildsrc.html | 7.0 KiB | 2006-09-04 04:47:41 |
| churchill-EBImage-checksrc.html | 9.0 KiB | 2006-09-04 04:47:42 |
| churchill-EBarrays-buildsrc.html | 5.8 KiB | 2006-09-04 04:47:41 |
| churchill-EBarrays-checksrc.html | 7.0 KiB | 2006-09-04 04:47:41 |
| churchill-GEOquery-buildsrc.html | 5.4 KiB | 2006-09-04 04:47:43 |
| churchill-GEOquery-checksrc.html | 5.8 KiB | 2006-09-04 04:47:44 |
| churchill-GLAD-buildsrc.html | 6.4 KiB | 2006-09-04 04:47:44 |
| churchill-GLAD-checksrc.html | 7.4 KiB | 2006-09-04 04:47:44 |
| churchill-GOstats-buildsrc.html | 5.8 KiB | 2006-09-04 04:47:44 |
| churchill-GOstats-checksrc.html | 6.1 KiB | 2006-09-04 04:47:44 |
| churchill-GeneMeta-buildsrc.html | 4.9 KiB | 2006-09-04 04:47:42 |
| churchill-GeneMeta-checksrc.html | 6.0 KiB | 2006-09-04 04:47:43 |
| churchill-GeneR-buildsrc.html | 11.3 KiB | 2006-09-04 04:47:43 |
| churchill-GeneR-checksrc.html | 12.2 KiB | 2006-09-04 04:47:43 |
| churchill-GeneSpring-buildsrc.html | 5.1 KiB | 2006-09-04 04:47:43 |
| churchill-GeneSpring-checksrc.html | 6.0 KiB | 2006-09-04 04:47:43 |
| churchill-GeneTS-buildsrc.html | 3.9 KiB | 2006-09-04 04:47:43 |
| churchill-GeneTS-checksrc.html | 6.9 KiB | 2006-09-04 04:47:43 |
| churchill-GeneTraffic-buildsrc.html | 4.1 KiB | 2006-09-04 04:47:43 |
| churchill-GeneTraffic-checksrc.html | 6.3 KiB | 2006-09-04 04:47:43 |
| churchill-GenomeBase-buildsrc.html | 4.0 KiB | 2006-09-04 04:47:43 |
| churchill-GenomeBase-checksrc.html | 5.4 KiB | 2006-09-04 04:47:43 |
| churchill-GlobalAncova-buildsrc.html | 5.0 KiB | 2006-09-04 04:47:44 |
| churchill-GlobalAncova-checksrc.html | 6.1 KiB | 2006-09-04 04:47:44 |
| churchill-GraphAT-buildsrc.html | 3.9 KiB | 2006-09-04 04:47:45 |
| churchill-GraphAT-checksrc.html | 6.0 KiB | 2006-09-04 04:47:45 |
| churchill-HEM-buildsrc.html | 6.5 KiB | 2006-09-04 04:47:45 |
| churchill-HEM-checksrc.html | 7.5 KiB | 2006-09-04 04:47:45 |
| churchill-Heatplus-buildsrc.html | 4.6 KiB | 2006-09-04 04:47:45 |
| churchill-Heatplus-checksrc.html | 5.6 KiB | 2006-09-04 04:47:45 |
| churchill-Icens-buildsrc.html | 4.0 KiB | 2006-09-04 04:47:45 |
| churchill-Icens-checksrc.html | 6.8 KiB | 2006-09-04 04:47:45 |
| churchill-KEGGSOAP-buildsrc.html | 3.9 KiB | 2006-09-04 04:47:46 |
| churchill-KEGGSOAP-checksrc.html | 6.0 KiB | 2006-09-04 04:47:46 |
| churchill-LMGene-buildsrc.html | 6.0 KiB | 2006-09-04 04:47:46 |
| churchill-LMGene-checksrc.html | 6.9 KiB | 2006-09-04 04:47:46 |
| churchill-LPE-buildsrc.html | 5.3 KiB | 2006-09-04 04:47:47 |
| churchill-LPE-checksrc.html | 6.3 KiB | 2006-09-04 04:47:47 |
| churchill-MANOR-buildsrc.html | 7.4 KiB | 2006-09-04 04:47:48 |
| churchill-MANOR-checksrc.html | 8.4 KiB | 2006-09-04 04:47:48 |
| churchill-MCRestimate-buildsrc.html | 5.9 KiB | 2006-09-04 04:47:48 |
| churchill-MCRestimate-checksrc.html | 7.0 KiB | 2006-09-04 04:47:48 |
| churchill-MLInterfaces-buildsrc.html | 7.2 KiB | 2006-09-04 04:47:49 |
| churchill-MLInterfaces-checksrc.html | 4.1 KiB | 2006-09-04 04:47:49 |
| churchill-MVCClass-buildsrc.html | 5.7 KiB | 2006-09-04 04:47:49 |
| churchill-MVCClass-checksrc.html | 6.7 KiB | 2006-09-04 04:47:50 |
| churchill-MantelCorr-buildsrc.html | 4.7 KiB | 2006-09-04 04:47:48 |
| churchill-MantelCorr-checksrc.html | 5.8 KiB | 2006-09-04 04:47:48 |
| churchill-MeasurementError.cor-buildsrc.html | 5.0 KiB | 2006-09-04 04:47:48 |
| churchill-MeasurementError.cor-checksrc.html | 5.7 KiB | 2006-09-04 04:47:48 |
| churchill-MergeMaid-buildsrc.html | 5.3 KiB | 2006-09-04 04:47:49 |
| churchill-MergeMaid-checksrc.html | 6.3 KiB | 2006-09-04 04:47:49 |
| churchill-Mfuzz-buildsrc.html | 5.5 KiB | 2006-09-04 04:47:49 |
| churchill-Mfuzz-checksrc.html | 6.5 KiB | 2006-09-04 04:47:49 |
| churchill-MiPP-buildsrc.html | 5.8 KiB | 2006-09-04 04:47:49 |
| churchill-MiPP-checksrc.html | 6.7 KiB | 2006-09-04 04:47:49 |
| churchill-NodeInfo.html | 4.0 KiB | 2006-09-04 04:48:57 |
| churchill-OCplus-buildsrc.html | 5.8 KiB | 2006-09-04 04:47:50 |
| churchill-OCplus-checksrc.html | 6.8 KiB | 2006-09-04 04:47:50 |
| churchill-OLIN-buildsrc.html | 4.0 KiB | 2006-09-04 04:47:50 |
| churchill-OLIN-checksrc.html | 8.0 KiB | 2006-09-04 04:47:50 |
| churchill-OLINgui-buildsrc.html | 4.9 KiB | 2006-09-04 04:47:50 |
| churchill-OLINgui-checksrc.html | 5.8 KiB | 2006-09-04 04:47:50 |
| churchill-OrderedList-buildsrc.html | 5.5 KiB | 2006-09-04 04:47:50 |
| churchill-OrderedList-checksrc.html | 6.6 KiB | 2006-09-04 04:47:50 |
| churchill-PROcess-buildsrc.html | 5.7 KiB | 2006-09-04 04:47:52 |
| churchill-PROcess-checksrc.html | 6.6 KiB | 2006-09-04 04:47:52 |
| churchill-R-instpkgs.html | 11.9 KiB | 2006-09-04 04:48:57 |
| churchill-RBGL-buildsrc.html | 7.0 KiB | 2006-09-04 04:47:52 |
| churchill-RBGL-checksrc.html | 6.1 KiB | 2006-09-04 04:47:52 |
| churchill-RLMM-buildsrc.html | 4.4 KiB | 2006-09-04 04:47:53 |
| churchill-RLMM-checksrc.html | 5.4 KiB | 2006-09-04 04:47:54 |
| churchill-RMAGEML-buildsrc.html | 4.5 KiB | 2006-09-04 04:47:54 |
| churchill-RMAGEML-checksrc.html | 6.0 KiB | 2006-09-04 04:47:54 |
| churchill-RMAPPER-buildsrc.html | 4.0 KiB | 2006-09-04 04:47:54 |
| churchill-RMAPPER-checksrc.html | 5.3 KiB | 2006-09-04 04:47:54 |
| churchill-ROC-buildsrc.html | 4.5 KiB | 2006-09-04 04:47:54 |
| churchill-ROC-checksrc.html | 5.5 KiB | 2006-09-04 04:47:54 |
| churchill-RSNPper-buildsrc.html | 4.2 KiB | 2006-09-04 04:47:54 |
| churchill-RSNPper-checksrc.html | 5.5 KiB | 2006-09-04 04:47:54 |
| churchill-RankProd-buildsrc.html | 5.0 KiB | 2006-09-04 04:47:52 |
| churchill-RankProd-checksrc.html | 6.0 KiB | 2006-09-04 04:47:52 |
| churchill-Rdbi-buildsrc.html | 4.0 KiB | 2006-09-04 04:47:52 |
| churchill-Rdbi-checksrc.html | 6.0 KiB | 2006-09-04 04:47:52 |
| churchill-RdbiPgSQL-buildsrc.html | 4.1 KiB | 2006-09-04 04:47:53 |
| churchill-RdbiPgSQL-checksrc.html | 7.3 KiB | 2006-09-04 04:47:53 |
| churchill-Resourcerer-buildsrc.html | 4.9 KiB | 2006-09-04 04:47:53 |
| churchill-Resourcerer-checksrc.html | 5.9 KiB | 2006-09-04 04:47:53 |
| churchill-Rgraphviz-buildsrc.html | 7.6 KiB | 2006-09-04 04:47:53 |
| churchill-Rgraphviz-checksrc.html | 8.8 KiB | 2006-09-04 04:47:53 |
| churchill-Ruuid-buildsrc.html | 8.5 KiB | 2006-09-04 04:47:54 |
| churchill-Ruuid-checksrc.html | 9.6 KiB | 2006-09-04 04:47:54 |
| churchill-SAGElyzer-buildsrc.html | 5.8 KiB | 2006-09-04 04:47:54 |
| churchill-SAGElyzer-checksrc.html | 6.9 KiB | 2006-09-04 04:47:54 |
| churchill-SBMLR-buildsrc.html | 3.9 KiB | 2006-09-04 04:47:55 |
| churchill-SBMLR-checksrc.html | 5.8 KiB | 2006-09-04 04:47:55 |
| churchill-SNAData-buildsrc.html | 4.6 KiB | 2006-09-04 04:47:56 |
| churchill-SNAData-checksrc.html | 5.6 KiB | 2006-09-04 04:47:56 |
| churchill-ScISI-buildsrc.html | 4.6 KiB | 2006-09-04 04:47:55 |
| churchill-ScISI-checksrc.html | 6.1 KiB | 2006-09-04 04:47:55 |
| churchill-aCGH-buildsrc.html | 6.6 KiB | 2006-09-04 04:47:36 |
| churchill-aCGH-checksrc.html | 7.8 KiB | 2006-09-04 04:47:36 |
| churchill-adSplit-buildsrc.html | 5.7 KiB | 2006-09-04 04:47:36 |
| churchill-adSplit-checksrc.html | 6.8 KiB | 2006-09-04 04:47:36 |
| churchill-affxparser-buildsrc.html | 4.0 KiB | 2006-09-04 04:47:36 |
| churchill-affxparser-checksrc.html | 64.1 KiB | 2006-09-04 04:47:36 |
| churchill-affy-buildsrc.html | 10.9 KiB | 2006-09-04 04:47:36 |
| churchill-affy-checksrc.html | 12.2 KiB | 2006-09-04 04:47:36 |
| churchill-affyPLM-buildsrc.html | 13.2 KiB | 2006-09-04 04:47:37 |
| churchill-affyPLM-checksrc.html | 14.5 KiB | 2006-09-04 04:47:37 |
| churchill-affyQCReport-buildsrc.html | 4.7 KiB | 2006-09-04 04:47:37 |
| churchill-affyQCReport-checksrc.html | 5.8 KiB | 2006-09-04 04:47:37 |
| churchill-affycomp-buildsrc.html | 5.8 KiB | 2006-09-04 04:47:36 |
| churchill-affycomp-checksrc.html | 6.8 KiB | 2006-09-04 04:47:36 |
| churchill-affycoretools-buildsrc.html | 4.9 KiB | 2006-09-04 04:47:37 |
| churchill-affycoretools-checksrc.html | 6.2 KiB | 2006-09-04 04:47:37 |
| churchill-affydata-buildsrc.html | 4.3 KiB | 2006-09-04 04:47:37 |
| churchill-affydata-checksrc.html | 5.3 KiB | 2006-09-04 04:47:37 |
| churchill-affyio-buildsrc.html | 3.9 KiB | 2006-09-04 04:47:37 |
| churchill-affyio-checksrc.html | 6.5 KiB | 2006-09-04 04:47:37 |
| churchill-affylmGUI-buildsrc.html | 4.9 KiB | 2006-09-04 04:47:37 |
| churchill-affylmGUI-checksrc.html | 5.9 KiB | 2006-09-04 04:47:37 |
| churchill-affypdnn-buildsrc.html | 4.0 KiB | 2006-09-04 04:47:37 |
| churchill-affypdnn-checksrc.html | 6.2 KiB | 2006-09-04 04:47:37 |
| churchill-altcdfenvs-buildsrc.html | 5.9 KiB | 2006-09-04 04:47:37 |
| churchill-altcdfenvs-checksrc.html | 6.9 KiB | 2006-09-04 04:47:37 |
| churchill-annaffy-buildsrc.html | 7.6 KiB | 2006-09-04 04:47:37 |
| churchill-annaffy-checksrc.html | 8.7 KiB | 2006-09-04 04:47:37 |
| churchill-annotate-buildsrc.html | 7.7 KiB | 2006-09-04 04:47:38 |
| churchill-annotate-checksrc.html | 8.8 KiB | 2006-09-04 04:47:38 |
| churchill-apComplex-buildsrc.html | 5.5 KiB | 2006-09-04 04:47:38 |
| churchill-apComplex-checksrc.html | 6.4 KiB | 2006-09-04 04:47:38 |
| churchill-applera-buildsrc.html | 5.3 KiB | 2006-09-04 04:47:38 |
| churchill-applera-checksrc.html | 6.3 KiB | 2006-09-04 04:47:38 |
| churchill-arrayMagic-buildsrc.html | 7.7 KiB | 2006-09-04 04:47:38 |
| churchill-arrayMagic-checksrc.html | 8.8 KiB | 2006-09-04 04:47:38 |
| churchill-arrayQuality-buildsrc.html | 4.1 KiB | 2006-09-04 04:47:38 |
| churchill-arrayQuality-checksrc.html | 7.5 KiB | 2006-09-04 04:47:38 |
| churchill-beadarray-buildsrc.html | 4.0 KiB | 2006-09-04 04:47:38 |
| churchill-beadarray-checksrc.html | 9.4 KiB | 2006-09-04 04:47:38 |
| churchill-bim-buildsrc.html | 7.6 KiB | 2006-09-04 04:47:39 |
| churchill-bim-checksrc.html | 8.5 KiB | 2006-09-04 04:47:39 |
| churchill-bioDist-buildsrc.html | 4.0 KiB | 2006-09-04 04:47:39 |
| churchill-bioDist-checksrc.html | 5.8 KiB | 2006-09-04 04:47:39 |
| churchill-biocViews-buildsrc.html | 4.3 KiB | 2006-09-04 04:47:39 |
| churchill-biocViews-checksrc.html | 6.2 KiB | 2006-09-04 04:47:39 |
| churchill-biomaRt-buildsrc.html | 5.9 KiB | 2006-09-04 04:47:39 |
| churchill-biomaRt-checksrc.html | 7.3 KiB | 2006-09-04 04:47:39 |
| churchill-bridge-buildsrc.html | 5.4 KiB | 2006-09-04 04:47:39 |
| churchill-bridge-checksrc.html | 6.4 KiB | 2006-09-04 04:47:39 |
| churchill-cellHTS-buildsrc.html | 3.9 KiB | 2006-09-04 04:47:40 |
| churchill-cellHTS-checksrc.html | 6.5 KiB | 2006-09-04 04:47:40 |
| churchill-cghMCR-buildsrc.html | 4.6 KiB | 2006-09-04 04:47:40 |
| churchill-cghMCR-checksrc.html | 5.6 KiB | 2006-09-04 04:47:40 |
| churchill-clusterStab-buildsrc.html | 5.3 KiB | 2006-09-04 04:47:40 |
| churchill-clusterStab-checksrc.html | 6.4 KiB | 2006-09-04 04:47:40 |
| churchill-codelink-buildsrc.html | 6.4 KiB | 2006-09-04 04:47:40 |
| churchill-codelink-checksrc.html | 7.4 KiB | 2006-09-04 04:47:40 |
| churchill-convert-buildsrc.html | 4.3 KiB | 2006-09-04 04:47:40 |
| churchill-convert-checksrc.html | 5.3 KiB | 2006-09-04 04:47:40 |
| churchill-copa-buildsrc.html | 5.0 KiB | 2006-09-04 04:47:41 |
| churchill-copa-checksrc.html | 6.0 KiB | 2006-09-04 04:47:41 |
| churchill-ctc-buildsrc.html | 4.7 KiB | 2006-09-04 04:47:41 |
| churchill-ctc-checksrc.html | 5.7 KiB | 2006-09-04 04:47:41 |
| churchill-daMA-buildsrc.html | 3.9 KiB | 2006-09-04 04:47:41 |
| churchill-daMA-checksrc.html | 5.8 KiB | 2006-09-04 04:47:41 |
| churchill-diffGeneAnalysis-buildsrc.html | 5.3 KiB | 2006-09-04 04:47:41 |
| churchill-diffGeneAnalysis-checksrc.html | 6.3 KiB | 2006-09-04 04:47:41 |
| churchill-ecolitk-buildsrc.html | 5.0 KiB | 2006-09-04 04:47:42 |
| churchill-ecolitk-checksrc.html | 5.9 KiB | 2006-09-04 04:47:42 |
| churchill-edd-buildsrc.html | 5.2 KiB | 2006-09-04 04:47:42 |
| churchill-edd-checksrc.html | 6.2 KiB | 2006-09-04 04:47:42 |
| churchill-exprExternal-buildsrc.html | 4.0 KiB | 2006-09-04 04:47:42 |
| churchill-exprExternal-checksrc.html | 5.4 KiB | 2006-09-04 04:47:42 |
| churchill-externalVector-buildsrc.html | 4.1 KiB | 2006-09-04 04:47:42 |
| churchill-externalVector-checksrc.html | 10.3 KiB | 2006-09-04 04:47:42 |
| churchill-factDesign-buildsrc.html | 4.7 KiB | 2006-09-04 04:47:42 |
| churchill-factDesign-checksrc.html | 5.7 KiB | 2006-09-04 04:47:42 |
| churchill-fdrame-buildsrc.html | 4.9 KiB | 2006-09-04 04:47:42 |
| churchill-fdrame-checksrc.html | 5.9 KiB | 2006-09-04 04:47:42 |
| churchill-gcrma-buildsrc.html | 5.9 KiB | 2006-09-04 04:47:42 |
| churchill-gcrma-checksrc.html | 6.9 KiB | 2006-09-04 04:47:42 |
| churchill-genArise-buildsrc.html | 7.9 KiB | 2006-09-04 04:47:42 |
| churchill-genArise-checksrc.html | 8.8 KiB | 2006-09-04 04:47:42 |
| churchill-geneRecommender-buildsrc.html | 4.6 KiB | 2006-09-04 04:47:43 |
| churchill-geneRecommender-checksrc.html | 5.7 KiB | 2006-09-04 04:47:43 |
| churchill-genefilter-buildsrc.html | 6.7 KiB | 2006-09-04 04:47:42 |
| churchill-genefilter-checksrc.html | 7.8 KiB | 2006-09-04 04:47:42 |
| churchill-geneplotter-buildsrc.html | 5.9 KiB | 2006-09-04 04:47:43 |
| churchill-geneplotter-checksrc.html | 7.0 KiB | 2006-09-04 04:47:43 |
| churchill-gff3Plotter-buildsrc.html | 4.7 KiB | 2006-09-04 04:47:44 |
| churchill-gff3Plotter-checksrc.html | 5.8 KiB | 2006-09-04 04:47:44 |
| churchill-globaltest-buildsrc.html | 5.6 KiB | 2006-09-04 04:47:44 |
| churchill-globaltest-checksrc.html | 6.7 KiB | 2006-09-04 04:47:44 |
| churchill-goCluster-buildsrc.html | 8.8 KiB | 2006-09-04 04:47:44 |
| churchill-goCluster-checksrc.html | 6.2 KiB | 2006-09-04 04:47:44 |
| churchill-goTools-buildsrc.html | 4.9 KiB | 2006-09-04 04:47:44 |
| churchill-goTools-checksrc.html | 5.8 KiB | 2006-09-04 04:47:44 |
| churchill-gpls-buildsrc.html | 4.8 KiB | 2006-09-04 04:47:44 |
| churchill-gpls-checksrc.html | 5.7 KiB | 2006-09-04 04:47:45 |
| churchill-graph-buildsrc.html | 8.5 KiB | 2006-09-04 04:47:45 |
| churchill-graph-checksrc.html | 9.6 KiB | 2006-09-04 04:47:45 |
| churchill-hexbin-buildsrc.html | 7.0 KiB | 2006-09-04 04:47:45 |
| churchill-hexbin-checksrc.html | 8.3 KiB | 2006-09-04 04:47:45 |
| churchill-hopach-buildsrc.html | 5.5 KiB | 2006-09-04 04:47:45 |
| churchill-hopach-checksrc.html | 6.5 KiB | 2006-09-04 04:47:45 |
| churchill-hypergraph-buildsrc.html | 4.0 KiB | 2006-09-04 04:47:45 |
| churchill-hypergraph-checksrc.html | 5.8 KiB | 2006-09-04 04:47:45 |
| churchill-iSPlot-buildsrc.html | 6.8 KiB | 2006-09-04 04:47:46 |
| churchill-iSPlot-checksrc.html | 7.8 KiB | 2006-09-04 04:47:46 |
| churchill-idiogram-buildsrc.html | 4.7 KiB | 2006-09-04 04:47:46 |
| churchill-idiogram-checksrc.html | 5.7 KiB | 2006-09-04 04:47:46 |
| churchill-impute-buildsrc.html | 4.0 KiB | 2006-09-04 04:47:46 |
| churchill-impute-checksrc.html | 9.2 KiB | 2006-09-04 04:47:46 |
| churchill-limma-buildsrc.html | 12.0 KiB | 2006-09-04 04:47:46 |
| churchill-limma-checksrc.html | 60.3 KiB | 2006-09-04 04:47:46 |
| churchill-limmaGUI-buildsrc.html | 4.5 KiB | 2006-09-04 04:47:46 |
| churchill-limmaGUI-checksrc.html | 5.5 KiB | 2006-09-04 04:47:46 |
| churchill-logicFS-buildsrc.html | 4.9 KiB | 2006-09-04 04:47:47 |
| churchill-logicFS-checksrc.html | 5.8 KiB | 2006-09-04 04:47:47 |
| churchill-maCorrPlot-buildsrc.html | 4.5 KiB | 2006-09-04 04:47:47 |
| churchill-maCorrPlot-checksrc.html | 5.6 KiB | 2006-09-04 04:47:47 |
| churchill-maDB-buildsrc.html | 3.9 KiB | 2006-09-04 04:47:47 |
| churchill-maDB-checksrc.html | 9.1 KiB | 2006-09-04 04:47:47 |
| churchill-maSigPro-buildsrc.html | 6.6 KiB | 2006-09-04 04:47:48 |
| churchill-maSigPro-checksrc.html | 7.6 KiB | 2006-09-04 04:47:48 |
| churchill-maanova-buildsrc.html | 6.6 KiB | 2006-09-04 04:47:47 |
| churchill-maanova-checksrc.html | 7.7 KiB | 2006-09-04 04:47:47 |
| churchill-macat-buildsrc.html | 6.0 KiB | 2006-09-04 04:47:47 |
| churchill-macat-checksrc.html | 7.3 KiB | 2006-09-04 04:47:47 |
| churchill-made4-buildsrc.html | 6.6 KiB | 2006-09-04 04:47:47 |
| churchill-made4-checksrc.html | 7.5 KiB | 2006-09-04 04:47:47 |
| churchill-makecdfenv-buildsrc.html | 6.0 KiB | 2006-09-04 04:47:48 |
| churchill-makecdfenv-checksrc.html | 7.0 KiB | 2006-09-04 04:47:48 |
| churchill-marray-buildsrc.html | 11.5 KiB | 2006-09-04 04:47:48 |
| churchill-marray-checksrc.html | 12.5 KiB | 2006-09-04 04:47:48 |
| churchill-matchprobes-buildsrc.html | 5.7 KiB | 2006-09-04 04:47:48 |
| churchill-matchprobes-checksrc.html | 6.8 KiB | 2006-09-04 04:47:48 |
| churchill-metaArray-buildsrc.html | 6.3 KiB | 2006-09-04 04:47:49 |
| churchill-metaArray-checksrc.html | 7.6 KiB | 2006-09-04 04:47:49 |
| churchill-mmgmos-buildsrc.html | 5.2 KiB | 2006-09-04 04:47:49 |
| churchill-mmgmos-checksrc.html | 6.3 KiB | 2006-09-04 04:47:49 |
| churchill-multtest-buildsrc.html | 4.1 KiB | 2006-09-04 04:47:49 |
| churchill-multtest-checksrc.html | 9.0 KiB | 2006-09-04 04:47:49 |
| churchill-nnNorm-buildsrc.html | 4.5 KiB | 2006-09-04 04:47:50 |
| churchill-nnNorm-checksrc.html | 5.4 KiB | 2006-09-04 04:47:50 |
| churchill-nudge-buildsrc.html | 5.2 KiB | 2006-09-04 04:47:50 |
| churchill-nudge-checksrc.html | 6.2 KiB | 2006-09-04 04:47:50 |
| churchill-ontoTools-buildsrc.html | 7.4 KiB | 2006-09-04 04:47:50 |
| churchill-ontoTools-checksrc.html | 8.4 KiB | 2006-09-04 04:47:50 |
| churchill-pairseqsim-buildsrc.html | 5.7 KiB | 2006-09-04 04:47:51 |
| churchill-pairseqsim-checksrc.html | 6.7 KiB | 2006-09-04 04:47:51 |
| churchill-pamr-buildsrc.html | 4.0 KiB | 2006-09-04 04:47:51 |
| churchill-pamr-checksrc.html | 7.3 KiB | 2006-09-04 04:47:51 |
| churchill-panp-buildsrc.html | 4.8 KiB | 2006-09-04 04:47:51 |
| churchill-panp-checksrc.html | 5.8 KiB | 2006-09-04 04:47:51 |
| churchill-pathRender-buildsrc.html | 4.0 KiB | 2006-09-04 04:47:51 |
| churchill-pathRender-checksrc.html | 5.5 KiB | 2006-09-04 04:47:51 |
| churchill-pdmclass-buildsrc.html | 5.1 KiB | 2006-09-04 04:47:51 |
| churchill-pdmclass-checksrc.html | 6.2 KiB | 2006-09-04 04:47:51 |
| churchill-pgUtils-buildsrc.html | 3.9 KiB | 2006-09-04 04:47:51 |
| churchill-pgUtils-checksrc.html | 6.8 KiB | 2006-09-04 04:47:51 |
| churchill-pickgene-buildsrc.html | 4.8 KiB | 2006-09-04 04:47:51 |
| churchill-pickgene-checksrc.html | 5.8 KiB | 2006-09-04 04:47:51 |
| churchill-plgem-buildsrc.html | 4.5 KiB | 2006-09-04 04:47:51 |
| churchill-plgem-checksrc.html | 5.5 KiB | 2006-09-04 04:47:52 |
| churchill-plier-buildsrc.html | 3.9 KiB | 2006-09-04 04:47:52 |
| churchill-plier-checksrc.html | 5.9 KiB | 2006-09-04 04:47:52 |
| churchill-prada-buildsrc.html | 7.0 KiB | 2006-09-04 04:47:52 |
| churchill-prada-checksrc.html | 8.1 KiB | 2006-09-04 04:47:52 |
| churchill-qvalue-buildsrc.html | 4.7 KiB | 2006-09-04 04:47:52 |
| churchill-qvalue-checksrc.html | 5.6 KiB | 2006-09-04 04:47:52 |
| churchill-rama-buildsrc.html | 4.0 KiB | 2006-09-04 04:47:52 |
| churchill-rama-checksrc.html | 6.8 KiB | 2006-09-04 04:47:52 |
| churchill-reb-buildsrc.html | 5.6 KiB | 2006-09-04 04:47:53 |
| churchill-reb-checksrc.html | 6.7 KiB | 2006-09-04 04:47:53 |
| churchill-reposTools-buildsrc.html | 11.0 KiB | 2006-09-04 04:47:53 |
| churchill-reposTools-checksrc.html | 12.6 KiB | 2006-09-04 04:47:53 |
| churchill-rfcdmin-buildsrc.html | 3.9 KiB | 2006-09-04 04:47:53 |
| churchill-rfcdmin-checksrc.html | 5.8 KiB | 2006-09-04 04:47:53 |
| churchill-rflowcyt-buildsrc.html | 9.6 KiB | 2006-09-04 04:47:53 |
| churchill-rflowcyt-checksrc.html | 11.4 KiB | 2006-09-04 04:47:53 |
| churchill-safe-buildsrc.html | 4.5 KiB | 2006-09-04 04:47:54 |
| churchill-safe-checksrc.html | 5.5 KiB | 2006-09-04 04:47:54 |
| churchill-sagenhaft-buildsrc.html | 4.9 KiB | 2006-09-04 04:47:54 |
| churchill-sagenhaft-checksrc.html | 5.9 KiB | 2006-09-04 04:47:55 |
| churchill-siggenes-buildsrc.html | 6.3 KiB | 2006-09-04 04:47:55 |
| churchill-siggenes-checksrc.html | 7.3 KiB | 2006-09-04 04:47:55 |
| churchill-simpleaffy-buildsrc.html | 8.3 KiB | 2006-09-04 04:47:55 |
| churchill-simpleaffy-checksrc.html | 9.3 KiB | 2006-09-04 04:47:55 |
| churchill-simulatorAPMS-buildsrc.html | 6.2 KiB | 2006-09-04 04:47:55 |
| churchill-simulatorAPMS-checksrc.html | 6.2 KiB | 2006-09-04 04:47:55 |
| churchill-sizepower-buildsrc.html | 4.7 KiB | 2006-09-04 04:47:55 |
| churchill-sizepower-checksrc.html | 5.6 KiB | 2006-09-04 04:47:55 |
| churchill-snapCGH-buildsrc.html | 8.9 KiB | 2006-09-04 04:47:56 |
| churchill-snapCGH-checksrc.html | 9.9 KiB | 2006-09-04 04:47:56 |
| churchill-splicegear-buildsrc.html | 6.2 KiB | 2006-09-04 04:47:56 |
| churchill-splicegear-checksrc.html | 7.2 KiB | 2006-09-04 04:47:56 |
| churchill-spotSegmentation-buildsrc.html | 4.2 KiB | 2006-09-04 04:47:56 |
| churchill-spotSegmentation-checksrc.html | 6.0 KiB | 2006-09-04 04:47:56 |
| churchill-sscore-buildsrc.html | 5.2 KiB | 2006-09-04 04:47:56 |
| churchill-sscore-checksrc.html | 6.1 KiB | 2006-09-04 04:47:56 |
| churchill-ssize-buildsrc.html | 4.3 KiB | 2006-09-04 04:47:56 |
| churchill-ssize-checksrc.html | 5.3 KiB | 2006-09-04 04:47:56 |
| churchill-stam-buildsrc.html | 6.4 KiB | 2006-09-04 04:47:56 |
| churchill-stam-checksrc.html | 7.3 KiB | 2006-09-04 04:47:56 |
| churchill-stepNorm-buildsrc.html | 3.9 KiB | 2006-09-04 04:47:57 |
| churchill-stepNorm-checksrc.html | 5.9 KiB | 2006-09-04 04:47:57 |
| churchill-tilingArray-buildsrc.html | 6.6 KiB | 2006-09-04 04:47:57 |
| churchill-tilingArray-checksrc.html | 8.3 KiB | 2006-09-04 04:47:57 |
| churchill-timecourse-buildsrc.html | 5.2 KiB | 2006-09-04 04:47:57 |
| churchill-timecourse-checksrc.html | 6.2 KiB | 2006-09-04 04:47:57 |
| churchill-tkWidgets-buildsrc.html | 6.7 KiB | 2006-09-04 04:47:57 |
| churchill-tkWidgets-checksrc.html | 7.7 KiB | 2006-09-04 04:47:57 |
| churchill-twilight-buildsrc.html | 6.2 KiB | 2006-09-04 04:47:57 |
| churchill-twilight-checksrc.html | 7.2 KiB | 2006-09-04 04:47:57 |
| churchill-vsn-buildsrc.html | 5.0 KiB | 2006-09-04 04:47:57 |
| churchill-vsn-checksrc.html | 6.1 KiB | 2006-09-04 04:47:57 |
| churchill-webbioc-buildsrc.html | 5.2 KiB | 2006-09-04 04:47:57 |
| churchill-webbioc-checksrc.html | 6.2 KiB | 2006-09-04 04:47:57 |
| churchill-widgetInvoke-buildsrc.html | 4.8 KiB | 2006-09-04 04:47:57 |
| churchill-widgetInvoke-checksrc.html | 5.8 KiB | 2006-09-04 04:47:57 |
| churchill-widgetTools-buildsrc.html | 5.1 KiB | 2006-09-04 04:47:58 |
| churchill-widgetTools-checksrc.html | 6.0 KiB | 2006-09-04 04:47:58 |
| churchill-xcms-buildsrc.html | 8.7 KiB | 2006-09-04 04:47:58 |
| churchill-xcms-checksrc.html | 9.8 KiB | 2006-09-04 04:47:58 |
| churchill-y2hStat-buildsrc.html | 6.3 KiB | 2006-09-04 04:47:58 |
| churchill-y2hStat-checksrc.html | 6.1 KiB | 2006-09-04 04:47:58 |
| gladstone-AnnBuilder-buildsrc.html | 8.4 KiB | 2006-09-04 04:48:00 |
| gladstone-AnnBuilder-checksrc.html | 9.4 KiB | 2006-09-04 04:48:00 |
| gladstone-Biobase-buildsrc.html | 9.1 KiB | 2006-09-04 04:48:01 |
| gladstone-Biobase-checksrc.html | 10.3 KiB | 2006-09-04 04:48:01 |
| gladstone-Biostrings-buildsrc.html | 6.9 KiB | 2006-09-04 04:48:02 |
| gladstone-Biostrings-checksrc.html | 8.0 KiB | 2006-09-04 04:48:02 |
| gladstone-Category-buildsrc.html | 6.0 KiB | 2006-09-04 04:48:02 |
| gladstone-Category-checksrc.html | 7.1 KiB | 2006-09-04 04:48:02 |
| gladstone-ChromoViz-buildsrc.html | 4.1 KiB | 2006-09-04 04:48:02 |
| gladstone-ChromoViz-checksrc.html | 6.6 KiB | 2006-09-04 04:48:02 |
| gladstone-CoCiteStats-buildsrc.html | 4.0 KiB | 2006-09-04 04:48:03 |
| gladstone-CoCiteStats-checksrc.html | 5.8 KiB | 2006-09-04 04:48:03 |
| gladstone-DEDS-buildsrc.html | 7.3 KiB | 2006-09-04 04:48:03 |
| gladstone-DEDS-checksrc.html | 8.4 KiB | 2006-09-04 04:48:04 |
| gladstone-DNAcopy-buildsrc.html | 6.5 KiB | 2006-09-04 04:48:04 |
| gladstone-DNAcopy-checksrc.html | 7.5 KiB | 2006-09-04 04:48:04 |
| gladstone-DynDoc-buildsrc.html | 3.9 KiB | 2006-09-04 04:48:04 |
| gladstone-DynDoc-checksrc.html | 5.9 KiB | 2006-09-04 04:48:04 |
| gladstone-EBImage-buildsrc.html | 7.3 KiB | 2006-09-04 04:48:04 |
| gladstone-EBImage-checksrc.html | 9.0 KiB | 2006-09-04 04:48:04 |
| gladstone-EBarrays-buildsrc.html | 5.8 KiB | 2006-09-04 04:48:04 |
| gladstone-EBarrays-checksrc.html | 7.0 KiB | 2006-09-04 04:48:04 |
| gladstone-GEOquery-buildsrc.html | 5.4 KiB | 2006-09-04 04:48:06 |
| gladstone-GEOquery-checksrc.html | 5.8 KiB | 2006-09-04 04:48:06 |
| gladstone-GLAD-buildsrc.html | 8.9 KiB | 2006-09-04 04:48:06 |
| gladstone-GLAD-checksrc.html | 9.9 KiB | 2006-09-04 04:48:07 |
| gladstone-GOstats-buildsrc.html | 5.5 KiB | 2006-09-04 04:48:07 |
| gladstone-GOstats-checksrc.html | 6.5 KiB | 2006-09-04 04:48:07 |
| gladstone-GeneMeta-buildsrc.html | 4.9 KiB | 2006-09-04 04:48:05 |
| gladstone-GeneMeta-checksrc.html | 6.0 KiB | 2006-09-04 04:48:05 |
| gladstone-GeneR-buildsrc.html | 11.7 KiB | 2006-09-04 04:48:05 |
| gladstone-GeneR-checksrc.html | 12.6 KiB | 2006-09-04 04:48:05 |
| gladstone-GeneSpring-buildsrc.html | 5.1 KiB | 2006-09-04 04:48:06 |
| gladstone-GeneSpring-checksrc.html | 6.0 KiB | 2006-09-04 04:48:06 |
| gladstone-GeneTS-buildsrc.html | 3.9 KiB | 2006-09-04 04:48:06 |
| gladstone-GeneTS-checksrc.html | 6.9 KiB | 2006-09-04 04:48:06 |
| gladstone-GeneTraffic-buildsrc.html | 4.1 KiB | 2006-09-04 04:48:06 |
| gladstone-GeneTraffic-checksrc.html | 6.3 KiB | 2006-09-04 04:48:06 |
| gladstone-GenomeBase-buildsrc.html | 4.0 KiB | 2006-09-04 04:48:06 |
| gladstone-GenomeBase-checksrc.html | 5.4 KiB | 2006-09-04 04:48:06 |
| gladstone-GlobalAncova-buildsrc.html | 5.0 KiB | 2006-09-04 04:48:07 |
| gladstone-GlobalAncova-checksrc.html | 6.1 KiB | 2006-09-04 04:48:07 |
| gladstone-GraphAT-buildsrc.html | 3.9 KiB | 2006-09-04 04:48:07 |
| gladstone-GraphAT-checksrc.html | 6.0 KiB | 2006-09-04 04:48:08 |
| gladstone-HEM-buildsrc.html | 6.5 KiB | 2006-09-04 04:48:08 |
| gladstone-HEM-checksrc.html | 7.5 KiB | 2006-09-04 04:48:08 |
| gladstone-Heatplus-buildsrc.html | 4.6 KiB | 2006-09-04 04:48:08 |
| gladstone-Heatplus-checksrc.html | 5.6 KiB | 2006-09-04 04:48:08 |
| gladstone-Icens-buildsrc.html | 4.0 KiB | 2006-09-04 04:48:08 |
| gladstone-Icens-checksrc.html | 6.8 KiB | 2006-09-04 04:48:08 |
| gladstone-KEGGSOAP-buildsrc.html | 3.9 KiB | 2006-09-04 04:48:09 |
| gladstone-KEGGSOAP-checksrc.html | 6.0 KiB | 2006-09-04 04:48:09 |
| gladstone-LMGene-buildsrc.html | 6.0 KiB | 2006-09-04 04:48:09 |
| gladstone-LMGene-checksrc.html | 6.9 KiB | 2006-09-04 04:48:09 |
| gladstone-LPE-buildsrc.html | 5.3 KiB | 2006-09-04 04:48:10 |
| gladstone-LPE-checksrc.html | 6.3 KiB | 2006-09-04 04:48:10 |
| gladstone-MANOR-buildsrc.html | 7.5 KiB | 2006-09-04 04:48:11 |
| gladstone-MANOR-checksrc.html | 8.5 KiB | 2006-09-04 04:48:11 |
| gladstone-MCRestimate-buildsrc.html | 5.9 KiB | 2006-09-04 04:48:11 |
| gladstone-MCRestimate-checksrc.html | 7.0 KiB | 2006-09-04 04:48:11 |
| gladstone-MLInterfaces-buildsrc.html | 7.2 KiB | 2006-09-04 04:48:12 |
| gladstone-MLInterfaces-checksrc.html | 8.7 KiB | 2006-09-04 04:48:12 |
| gladstone-MVCClass-buildsrc.html | 5.7 KiB | 2006-09-04 04:48:13 |
| gladstone-MVCClass-checksrc.html | 6.7 KiB | 2006-09-04 04:48:13 |
| gladstone-MantelCorr-buildsrc.html | 4.7 KiB | 2006-09-04 04:48:11 |
| gladstone-MantelCorr-checksrc.html | 5.8 KiB | 2006-09-04 04:48:11 |
| gladstone-MeasurementError.cor-buildsrc.html | 5.0 KiB | 2006-09-04 04:48:11 |
| gladstone-MeasurementError.cor-checksrc.html | 5.7 KiB | 2006-09-04 04:48:11 |
| gladstone-MergeMaid-buildsrc.html | 5.3 KiB | 2006-09-04 04:48:11 |
| gladstone-MergeMaid-checksrc.html | 6.3 KiB | 2006-09-04 04:48:12 |
| gladstone-Mfuzz-buildsrc.html | 5.5 KiB | 2006-09-04 04:48:12 |
| gladstone-Mfuzz-checksrc.html | 6.5 KiB | 2006-09-04 04:48:12 |
| gladstone-MiPP-buildsrc.html | 5.8 KiB | 2006-09-04 04:48:12 |
| gladstone-MiPP-checksrc.html | 6.7 KiB | 2006-09-04 04:48:12 |
| gladstone-NodeInfo.html | 4.0 KiB | 2006-09-04 04:48:57 |
| gladstone-OCplus-buildsrc.html | 5.8 KiB | 2006-09-04 04:48:13 |
| gladstone-OCplus-checksrc.html | 6.8 KiB | 2006-09-04 04:48:13 |
| gladstone-OLIN-buildsrc.html | 4.0 KiB | 2006-09-04 04:48:13 |
| gladstone-OLIN-checksrc.html | 8.0 KiB | 2006-09-04 04:48:13 |
| gladstone-OLINgui-buildsrc.html | 4.9 KiB | 2006-09-04 04:48:13 |
| gladstone-OLINgui-checksrc.html | 5.8 KiB | 2006-09-04 04:48:13 |
| gladstone-OrderedList-buildsrc.html | 5.5 KiB | 2006-09-04 04:48:14 |
| gladstone-OrderedList-checksrc.html | 6.6 KiB | 2006-09-04 04:48:14 |
| gladstone-PROcess-buildsrc.html | 5.7 KiB | 2006-09-04 04:48:15 |
| gladstone-PROcess-checksrc.html | 6.6 KiB | 2006-09-04 04:48:15 |
| gladstone-R-instpkgs.html | 12.2 KiB | 2006-09-04 04:48:57 |
| gladstone-RBGL-buildsrc.html | 45.5 KiB | 2006-09-04 04:48:16 |
| gladstone-RBGL-checksrc.html | 46.5 KiB | 2006-09-04 04:48:16 |
| gladstone-RLMM-buildsrc.html | 4.4 KiB | 2006-09-04 04:48:17 |
| gladstone-RLMM-checksrc.html | 5.4 KiB | 2006-09-04 04:48:17 |
| gladstone-RMAGEML-buildsrc.html | 9.5 KiB | 2006-09-04 04:48:17 |
| gladstone-RMAGEML-checksrc.html | 10.6 KiB | 2006-09-04 04:48:17 |
| gladstone-RMAPPER-buildsrc.html | 4.0 KiB | 2006-09-04 04:48:17 |
| gladstone-RMAPPER-checksrc.html | 5.3 KiB | 2006-09-04 04:48:17 |
| gladstone-ROC-buildsrc.html | 4.5 KiB | 2006-09-04 04:48:17 |
| gladstone-ROC-checksrc.html | 5.5 KiB | 2006-09-04 04:48:17 |
| gladstone-RSNPper-buildsrc.html | 4.2 KiB | 2006-09-04 04:48:17 |
| gladstone-RSNPper-checksrc.html | 5.1 KiB | 2006-09-04 04:48:17 |
| gladstone-RankProd-buildsrc.html | 5.0 KiB | 2006-09-04 04:48:15 |
| gladstone-RankProd-checksrc.html | 6.0 KiB | 2006-09-04 04:48:15 |
| gladstone-Rdbi-buildsrc.html | 4.0 KiB | 2006-09-04 04:48:16 |
| gladstone-Rdbi-checksrc.html | 6.0 KiB | 2006-09-04 04:48:16 |
| gladstone-RdbiPgSQL-buildsrc.html | 4.1 KiB | 2006-09-04 04:48:16 |
| gladstone-RdbiPgSQL-checksrc.html | 7.4 KiB | 2006-09-04 04:48:16 |
| gladstone-Resourcerer-buildsrc.html | 4.9 KiB | 2006-09-04 04:48:16 |
| gladstone-Resourcerer-checksrc.html | 5.9 KiB | 2006-09-04 04:48:16 |
| gladstone-Rgraphviz-buildsrc.html | 6.7 KiB | 2006-09-04 04:48:17 |
| gladstone-Rgraphviz-checksrc.html | 7.9 KiB | 2006-09-04 04:48:17 |
| gladstone-Ruuid-buildsrc.html | 8.7 KiB | 2006-09-04 04:48:17 |
| gladstone-Ruuid-checksrc.html | 9.8 KiB | 2006-09-04 04:48:17 |
| gladstone-SAGElyzer-buildsrc.html | 5.8 KiB | 2006-09-04 04:48:18 |
| gladstone-SAGElyzer-checksrc.html | 6.9 KiB | 2006-09-04 04:48:18 |
| gladstone-SBMLR-buildsrc.html | 3.9 KiB | 2006-09-04 04:48:18 |
| gladstone-SBMLR-checksrc.html | 5.8 KiB | 2006-09-04 04:48:18 |
| gladstone-SNAData-buildsrc.html | 4.6 KiB | 2006-09-04 04:48:19 |
| gladstone-SNAData-checksrc.html | 5.6 KiB | 2006-09-04 04:48:19 |
| gladstone-ScISI-buildsrc.html | 9.4 KiB | 2006-09-04 04:48:18 |
| gladstone-ScISI-checksrc.html | 10.5 KiB | 2006-09-04 04:48:18 |
| gladstone-aCGH-buildsrc.html | 6.6 KiB | 2006-09-04 04:47:58 |
| gladstone-aCGH-checksrc.html | 7.8 KiB | 2006-09-04 04:47:58 |
| gladstone-adSplit-buildsrc.html | 5.7 KiB | 2006-09-04 04:47:58 |
| gladstone-adSplit-checksrc.html | 6.8 KiB | 2006-09-04 04:47:58 |
| gladstone-affxparser-buildsrc.html | 4.0 KiB | 2006-09-04 04:47:58 |
| gladstone-affxparser-checksrc.html | 95.6 KiB | 2006-09-04 04:47:59 |
| gladstone-affy-buildsrc.html | 11.3 KiB | 2006-09-04 04:47:59 |
| gladstone-affy-checksrc.html | 12.5 KiB | 2006-09-04 04:47:59 |
| gladstone-affyPLM-buildsrc.html | 14.1 KiB | 2006-09-04 04:48:00 |
| gladstone-affyPLM-checksrc.html | 15.5 KiB | 2006-09-04 04:48:00 |
| gladstone-affyQCReport-buildsrc.html | 4.7 KiB | 2006-09-04 04:48:00 |
| gladstone-affyQCReport-checksrc.html | 5.8 KiB | 2006-09-04 04:48:00 |
| gladstone-affycomp-buildsrc.html | 5.9 KiB | 2006-09-04 04:47:59 |
| gladstone-affycomp-checksrc.html | 6.8 KiB | 2006-09-04 04:47:59 |
| gladstone-affycoretools-buildsrc.html | 6.3 KiB | 2006-09-04 04:47:59 |
| gladstone-affycoretools-checksrc.html | 7.4 KiB | 2006-09-04 04:47:59 |
| gladstone-affydata-buildsrc.html | 4.3 KiB | 2006-09-04 04:47:59 |
| gladstone-affydata-checksrc.html | 5.3 KiB | 2006-09-04 04:47:59 |
| gladstone-affyio-buildsrc.html | 3.9 KiB | 2006-09-04 04:47:59 |
| gladstone-affyio-checksrc.html | 11.7 KiB | 2006-09-04 04:47:59 |
| gladstone-affylmGUI-buildsrc.html | 4.9 KiB | 2006-09-04 04:47:59 |
| gladstone-affylmGUI-checksrc.html | 5.9 KiB | 2006-09-04 04:47:59 |
| gladstone-affypdnn-buildsrc.html | 4.0 KiB | 2006-09-04 04:47:59 |
| gladstone-affypdnn-checksrc.html | 6.2 KiB | 2006-09-04 04:47:59 |
| gladstone-altcdfenvs-buildsrc.html | 5.9 KiB | 2006-09-04 04:48:00 |
| gladstone-altcdfenvs-checksrc.html | 6.9 KiB | 2006-09-04 04:48:00 |
| gladstone-annaffy-buildsrc.html | 7.6 KiB | 2006-09-04 04:48:00 |
| gladstone-annaffy-checksrc.html | 8.7 KiB | 2006-09-04 04:48:00 |
| gladstone-annotate-buildsrc.html | 7.7 KiB | 2006-09-04 04:48:00 |
| gladstone-annotate-checksrc.html | 8.8 KiB | 2006-09-04 04:48:00 |
| gladstone-apComplex-buildsrc.html | 5.5 KiB | 2006-09-04 04:48:00 |
| gladstone-apComplex-checksrc.html | 6.4 KiB | 2006-09-04 04:48:00 |
| gladstone-applera-buildsrc.html | 5.3 KiB | 2006-09-04 04:48:00 |
| gladstone-applera-checksrc.html | 6.3 KiB | 2006-09-04 04:48:01 |
| gladstone-arrayMagic-buildsrc.html | 7.7 KiB | 2006-09-04 04:48:01 |
| gladstone-arrayMagic-checksrc.html | 8.8 KiB | 2006-09-04 04:48:01 |
| gladstone-arrayQuality-buildsrc.html | 4.1 KiB | 2006-09-04 04:48:01 |
| gladstone-arrayQuality-checksrc.html | 7.5 KiB | 2006-09-04 04:48:01 |
| gladstone-beadarray-buildsrc.html | 4.0 KiB | 2006-09-04 04:48:01 |
| gladstone-beadarray-checksrc.html | 9.4 KiB | 2006-09-04 04:48:01 |
| gladstone-bim-buildsrc.html | 12.3 KiB | 2006-09-04 04:48:01 |
| gladstone-bim-checksrc.html | 13.3 KiB | 2006-09-04 04:48:01 |
| gladstone-bioDist-buildsrc.html | 4.0 KiB | 2006-09-04 04:48:01 |
| gladstone-bioDist-checksrc.html | 5.8 KiB | 2006-09-04 04:48:01 |
| gladstone-biocViews-buildsrc.html | 5.7 KiB | 2006-09-04 04:48:01 |
| gladstone-biocViews-checksrc.html | 6.8 KiB | 2006-09-04 04:48:01 |
| gladstone-biomaRt-buildsrc.html | 5.9 KiB | 2006-09-04 04:48:02 |
| gladstone-biomaRt-checksrc.html | 6.9 KiB | 2006-09-04 04:48:02 |
| gladstone-bridge-buildsrc.html | 8.7 KiB | 2006-09-04 04:48:02 |
| gladstone-bridge-checksrc.html | 9.8 KiB | 2006-09-04 04:48:02 |
| gladstone-cellHTS-buildsrc.html | 3.9 KiB | 2006-09-04 04:48:02 |
| gladstone-cellHTS-checksrc.html | 6.5 KiB | 2006-09-04 04:48:02 |
| gladstone-cghMCR-buildsrc.html | 4.6 KiB | 2006-09-04 04:48:02 |
| gladstone-cghMCR-checksrc.html | 5.6 KiB | 2006-09-04 04:48:02 |
| gladstone-clusterStab-buildsrc.html | 5.3 KiB | 2006-09-04 04:48:03 |
| gladstone-clusterStab-checksrc.html | 6.4 KiB | 2006-09-04 04:48:03 |
| gladstone-codelink-buildsrc.html | 6.4 KiB | 2006-09-04 04:48:03 |
| gladstone-codelink-checksrc.html | 7.4 KiB | 2006-09-04 04:48:03 |
| gladstone-convert-buildsrc.html | 4.3 KiB | 2006-09-04 04:48:03 |
| gladstone-convert-checksrc.html | 5.3 KiB | 2006-09-04 04:48:03 |
| gladstone-copa-buildsrc.html | 5.0 KiB | 2006-09-04 04:48:03 |
| gladstone-copa-checksrc.html | 6.0 KiB | 2006-09-04 04:48:03 |
| gladstone-ctc-buildsrc.html | 4.7 KiB | 2006-09-04 04:48:03 |
| gladstone-ctc-checksrc.html | 5.7 KiB | 2006-09-04 04:48:03 |
| gladstone-daMA-buildsrc.html | 3.9 KiB | 2006-09-04 04:48:03 |
| gladstone-daMA-checksrc.html | 5.8 KiB | 2006-09-04 04:48:03 |
| gladstone-diffGeneAnalysis-buildsrc.html | 5.3 KiB | 2006-09-04 04:48:04 |
| gladstone-diffGeneAnalysis-checksrc.html | 6.3 KiB | 2006-09-04 04:48:04 |
| gladstone-ecolitk-buildsrc.html | 5.0 KiB | 2006-09-04 04:48:04 |
| gladstone-ecolitk-checksrc.html | 5.9 KiB | 2006-09-04 04:48:04 |
| gladstone-edd-buildsrc.html | 5.2 KiB | 2006-09-04 04:48:04 |
| gladstone-edd-checksrc.html | 6.2 KiB | 2006-09-04 04:48:04 |
| gladstone-exprExternal-buildsrc.html | 4.0 KiB | 2006-09-04 04:48:04 |
| gladstone-exprExternal-checksrc.html | 5.4 KiB | 2006-09-04 04:48:04 |
| gladstone-externalVector-buildsrc.html | 4.1 KiB | 2006-09-04 04:48:04 |
| gladstone-externalVector-checksrc.html | 10.4 KiB | 2006-09-04 04:48:05 |
| gladstone-factDesign-buildsrc.html | 4.7 KiB | 2006-09-04 04:48:05 |
| gladstone-factDesign-checksrc.html | 5.7 KiB | 2006-09-04 04:48:05 |
| gladstone-fdrame-buildsrc.html | 4.9 KiB | 2006-09-04 04:48:05 |
| gladstone-fdrame-checksrc.html | 5.9 KiB | 2006-09-04 04:48:05 |
| gladstone-gcrma-buildsrc.html | 6.0 KiB | 2006-09-04 04:48:05 |
| gladstone-gcrma-checksrc.html | 7.0 KiB | 2006-09-04 04:48:05 |
| gladstone-genArise-buildsrc.html | 7.9 KiB | 2006-09-04 04:48:05 |
| gladstone-genArise-checksrc.html | 8.8 KiB | 2006-09-04 04:48:05 |
| gladstone-geneRecommender-buildsrc.html | 4.6 KiB | 2006-09-04 04:48:06 |
| gladstone-geneRecommender-checksrc.html | 5.7 KiB | 2006-09-04 04:48:06 |
| gladstone-genefilter-buildsrc.html | 6.9 KiB | 2006-09-04 04:48:05 |
| gladstone-genefilter-checksrc.html | 8.0 KiB | 2006-09-04 04:48:05 |
| gladstone-geneplotter-buildsrc.html | 5.9 KiB | 2006-09-04 04:48:05 |
| gladstone-geneplotter-checksrc.html | 7.0 KiB | 2006-09-04 04:48:05 |
| gladstone-gff3Plotter-buildsrc.html | 4.7 KiB | 2006-09-04 04:48:06 |
| gladstone-gff3Plotter-checksrc.html | 5.8 KiB | 2006-09-04 04:48:06 |
| gladstone-globaltest-buildsrc.html | 5.6 KiB | 2006-09-04 04:48:07 |
| gladstone-globaltest-checksrc.html | 6.7 KiB | 2006-09-04 04:48:07 |
| gladstone-goCluster-buildsrc.html | 8.4 KiB | 2006-09-04 04:48:07 |
| gladstone-goCluster-checksrc.html | 9.4 KiB | 2006-09-04 04:48:07 |
| gladstone-goTools-buildsrc.html | 4.8 KiB | 2006-09-04 04:48:07 |
| gladstone-goTools-checksrc.html | 5.8 KiB | 2006-09-04 04:48:07 |
| gladstone-gpls-buildsrc.html | 4.8 KiB | 2006-09-04 04:48:07 |
| gladstone-gpls-checksrc.html | 5.7 KiB | 2006-09-04 04:48:07 |
| gladstone-graph-buildsrc.html | 8.7 KiB | 2006-09-04 04:48:07 |
| gladstone-graph-checksrc.html | 9.8 KiB | 2006-09-04 04:48:07 |
| gladstone-hexbin-buildsrc.html | 7.1 KiB | 2006-09-04 04:48:08 |
| gladstone-hexbin-checksrc.html | 8.4 KiB | 2006-09-04 04:48:08 |
| gladstone-hopach-buildsrc.html | 5.5 KiB | 2006-09-04 04:48:08 |
| gladstone-hopach-checksrc.html | 6.5 KiB | 2006-09-04 04:48:08 |
| gladstone-hypergraph-buildsrc.html | 4.0 KiB | 2006-09-04 04:48:08 |
| gladstone-hypergraph-checksrc.html | 5.8 KiB | 2006-09-04 04:48:08 |
| gladstone-iSPlot-buildsrc.html | 6.8 KiB | 2006-09-04 04:48:09 |
| gladstone-iSPlot-checksrc.html | 7.8 KiB | 2006-09-04 04:48:09 |
| gladstone-idiogram-buildsrc.html | 4.7 KiB | 2006-09-04 04:48:08 |
| gladstone-idiogram-checksrc.html | 5.7 KiB | 2006-09-04 04:48:08 |
| gladstone-impute-buildsrc.html | 4.0 KiB | 2006-09-04 04:48:08 |
| gladstone-impute-checksrc.html | 7.6 KiB | 2006-09-04 04:48:09 |
| gladstone-limma-buildsrc.html | 12.0 KiB | 2006-09-04 04:48:09 |
| gladstone-limma-checksrc.html | 60.3 KiB | 2006-09-04 04:48:09 |
| gladstone-limmaGUI-buildsrc.html | 4.5 KiB | 2006-09-04 04:48:09 |
| gladstone-limmaGUI-checksrc.html | 5.5 KiB | 2006-09-04 04:48:09 |
| gladstone-logicFS-buildsrc.html | 4.9 KiB | 2006-09-04 04:48:09 |
| gladstone-logicFS-checksrc.html | 5.8 KiB | 2006-09-04 04:48:10 |
| gladstone-maCorrPlot-buildsrc.html | 4.5 KiB | 2006-09-04 04:48:10 |
| gladstone-maCorrPlot-checksrc.html | 5.6 KiB | 2006-09-04 04:48:10 |
| gladstone-maDB-buildsrc.html | 3.9 KiB | 2006-09-04 04:48:10 |
| gladstone-maDB-checksrc.html | 9.1 KiB | 2006-09-04 04:48:10 |
| gladstone-maSigPro-buildsrc.html | 6.6 KiB | 2006-09-04 04:48:11 |
| gladstone-maSigPro-checksrc.html | 7.6 KiB | 2006-09-04 04:48:11 |
| gladstone-maanova-buildsrc.html | 6.7 KiB | 2006-09-04 04:48:10 |
| gladstone-maanova-checksrc.html | 7.8 KiB | 2006-09-04 04:48:10 |
| gladstone-macat-buildsrc.html | 6.0 KiB | 2006-09-04 04:48:10 |
| gladstone-macat-checksrc.html | 7.3 KiB | 2006-09-04 04:48:10 |
| gladstone-made4-buildsrc.html | 6.6 KiB | 2006-09-04 04:48:10 |
| gladstone-made4-checksrc.html | 7.5 KiB | 2006-09-04 04:48:10 |
| gladstone-makecdfenv-buildsrc.html | 5.7 KiB | 2006-09-04 04:48:10 |
| gladstone-makecdfenv-checksrc.html | 6.8 KiB | 2006-09-04 04:48:10 |
| gladstone-marray-buildsrc.html | 11.5 KiB | 2006-09-04 04:48:11 |
| gladstone-marray-checksrc.html | 12.5 KiB | 2006-09-04 04:48:11 |
| gladstone-matchprobes-buildsrc.html | 5.8 KiB | 2006-09-04 04:48:11 |
| gladstone-matchprobes-checksrc.html | 6.9 KiB | 2006-09-04 04:48:11 |
| gladstone-metaArray-buildsrc.html | 6.5 KiB | 2006-09-04 04:48:12 |
| gladstone-metaArray-checksrc.html | 7.8 KiB | 2006-09-04 04:48:12 |
| gladstone-mmgmos-buildsrc.html | 81.4 KiB | 2006-09-04 04:48:12 |
| gladstone-mmgmos-checksrc.html | 82.5 KiB | 2006-09-04 04:48:12 |
| gladstone-multtest-buildsrc.html | 4.1 KiB | 2006-09-04 04:48:13 |
| gladstone-multtest-checksrc.html | 9.1 KiB | 2006-09-04 04:48:13 |
| gladstone-nnNorm-buildsrc.html | 4.5 KiB | 2006-09-04 04:48:13 |
| gladstone-nnNorm-checksrc.html | 5.4 KiB | 2006-09-04 04:48:13 |
| gladstone-nudge-buildsrc.html | 5.2 KiB | 2006-09-04 04:48:13 |
| gladstone-nudge-checksrc.html | 6.2 KiB | 2006-09-04 04:48:13 |
| gladstone-ontoTools-buildsrc.html | 7.4 KiB | 2006-09-04 04:48:13 |
| gladstone-ontoTools-checksrc.html | 8.4 KiB | 2006-09-04 04:48:14 |
| gladstone-pairseqsim-buildsrc.html | 5.7 KiB | 2006-09-04 04:48:14 |
| gladstone-pairseqsim-checksrc.html | 6.7 KiB | 2006-09-04 04:48:14 |
| gladstone-pamr-buildsrc.html | 4.0 KiB | 2006-09-04 04:48:14 |
| gladstone-pamr-checksrc.html | 7.5 KiB | 2006-09-04 04:48:14 |
| gladstone-panp-buildsrc.html | 4.8 KiB | 2006-09-04 04:48:14 |
| gladstone-panp-checksrc.html | 5.8 KiB | 2006-09-04 04:48:14 |
| gladstone-pathRender-buildsrc.html | 4.0 KiB | 2006-09-04 04:48:14 |
| gladstone-pathRender-checksrc.html | 5.5 KiB | 2006-09-04 04:48:14 |
| gladstone-pdmclass-buildsrc.html | 5.1 KiB | 2006-09-04 04:48:14 |
| gladstone-pdmclass-checksrc.html | 6.2 KiB | 2006-09-04 04:48:14 |
| gladstone-pgUtils-buildsrc.html | 3.9 KiB | 2006-09-04 04:48:14 |
| gladstone-pgUtils-checksrc.html | 6.8 KiB | 2006-09-04 04:48:14 |
| gladstone-pickgene-buildsrc.html | 4.8 KiB | 2006-09-04 04:48:15 |
| gladstone-pickgene-checksrc.html | 5.8 KiB | 2006-09-04 04:48:15 |
| gladstone-plgem-buildsrc.html | 4.5 KiB | 2006-09-04 04:48:15 |
| gladstone-plgem-checksrc.html | 5.5 KiB | 2006-09-04 04:48:15 |
| gladstone-plier-buildsrc.html | 3.9 KiB | 2006-09-04 04:48:15 |
| gladstone-plier-checksrc.html | 6.5 KiB | 2006-09-04 04:48:15 |
| gladstone-prada-buildsrc.html | 7.1 KiB | 2006-09-04 04:48:15 |
| gladstone-prada-checksrc.html | 8.1 KiB | 2006-09-04 04:48:15 |
| gladstone-qvalue-buildsrc.html | 4.7 KiB | 2006-09-04 04:48:15 |
| gladstone-qvalue-checksrc.html | 5.6 KiB | 2006-09-04 04:48:15 |
| gladstone-rama-buildsrc.html | 4.0 KiB | 2006-09-04 04:48:15 |
| gladstone-rama-checksrc.html | 11.0 KiB | 2006-09-04 04:48:15 |
| gladstone-reb-buildsrc.html | 6.5 KiB | 2006-09-04 04:48:16 |
| gladstone-reb-checksrc.html | 7.6 KiB | 2006-09-04 04:48:16 |
| gladstone-reposTools-buildsrc.html | 11.0 KiB | 2006-09-04 04:48:16 |
| gladstone-reposTools-checksrc.html | 12.6 KiB | 2006-09-04 04:48:16 |
| gladstone-rfcdmin-buildsrc.html | 3.9 KiB | 2006-09-04 04:48:16 |
| gladstone-rfcdmin-checksrc.html | 5.8 KiB | 2006-09-04 04:48:16 |
| gladstone-rflowcyt-buildsrc.html | 9.6 KiB | 2006-09-04 04:48:16 |
| gladstone-rflowcyt-checksrc.html | 11.4 KiB | 2006-09-04 04:48:17 |
| gladstone-safe-buildsrc.html | 4.5 KiB | 2006-09-04 04:48:17 |
| gladstone-safe-checksrc.html | 5.5 KiB | 2006-09-04 04:48:18 |
| gladstone-sagenhaft-buildsrc.html | 4.9 KiB | 2006-09-04 04:48:18 |
| gladstone-sagenhaft-checksrc.html | 5.9 KiB | 2006-09-04 04:48:18 |
| gladstone-siggenes-buildsrc.html | 6.3 KiB | 2006-09-04 04:48:18 |
| gladstone-siggenes-checksrc.html | 7.3 KiB | 2006-09-04 04:48:18 |
| gladstone-simpleaffy-buildsrc.html | 8.3 KiB | 2006-09-04 04:48:18 |
| gladstone-simpleaffy-checksrc.html | 9.3 KiB | 2006-09-04 04:48:19 |
| gladstone-simulatorAPMS-buildsrc.html | 6.1 KiB | 2006-09-04 04:48:19 |
| gladstone-simulatorAPMS-checksrc.html | 7.1 KiB | 2006-09-04 04:48:19 |
| gladstone-sizepower-buildsrc.html | 4.7 KiB | 2006-09-04 04:48:19 |
| gladstone-sizepower-checksrc.html | 5.6 KiB | 2006-09-04 04:48:19 |
| gladstone-snapCGH-buildsrc.html | 8.9 KiB | 2006-09-04 04:48:19 |
| gladstone-snapCGH-checksrc.html | 10.0 KiB | 2006-09-04 04:48:19 |
| gladstone-splicegear-buildsrc.html | 6.2 KiB | 2006-09-04 04:48:19 |
| gladstone-splicegear-checksrc.html | 7.2 KiB | 2006-09-04 04:48:19 |
| gladstone-spotSegmentation-buildsrc.html | 4.2 KiB | 2006-09-04 04:48:19 |
| gladstone-spotSegmentation-checksrc.html | 6.0 KiB | 2006-09-04 04:48:19 |
| gladstone-sscore-buildsrc.html | 5.2 KiB | 2006-09-04 04:48:20 |
| gladstone-sscore-checksrc.html | 6.1 KiB | 2006-09-04 04:48:20 |
| gladstone-ssize-buildsrc.html | 4.3 KiB | 2006-09-04 04:48:20 |
| gladstone-ssize-checksrc.html | 5.3 KiB | 2006-09-04 04:48:20 |
| gladstone-stam-buildsrc.html | 6.4 KiB | 2006-09-04 04:48:20 |
| gladstone-stam-checksrc.html | 7.3 KiB | 2006-09-04 04:48:20 |
| gladstone-stepNorm-buildsrc.html | 3.9 KiB | 2006-09-04 04:48:20 |
| gladstone-stepNorm-checksrc.html | 5.9 KiB | 2006-09-04 04:48:20 |
| gladstone-tilingArray-buildsrc.html | 6.5 KiB | 2006-09-04 04:48:20 |
| gladstone-tilingArray-checksrc.html | 8.2 KiB | 2006-09-04 04:48:20 |
| gladstone-timecourse-buildsrc.html | 5.2 KiB | 2006-09-04 04:48:20 |
| gladstone-timecourse-checksrc.html | 6.2 KiB | 2006-09-04 04:48:20 |
| gladstone-tkWidgets-buildsrc.html | 6.7 KiB | 2006-09-04 04:48:20 |
| gladstone-tkWidgets-checksrc.html | 7.7 KiB | 2006-09-04 04:48:20 |
| gladstone-twilight-buildsrc.html | 6.2 KiB | 2006-09-04 04:48:20 |
| gladstone-twilight-checksrc.html | 7.3 KiB | 2006-09-04 04:48:21 |
| gladstone-vsn-buildsrc.html | 5.0 KiB | 2006-09-04 04:48:21 |
| gladstone-vsn-checksrc.html | 6.1 KiB | 2006-09-04 04:48:21 |
| gladstone-webbioc-buildsrc.html | 5.2 KiB | 2006-09-04 04:48:21 |
| gladstone-webbioc-checksrc.html | 6.2 KiB | 2006-09-04 04:48:21 |
| gladstone-widgetInvoke-buildsrc.html | 4.8 KiB | 2006-09-04 04:48:21 |
| gladstone-widgetInvoke-checksrc.html | 5.8 KiB | 2006-09-04 04:48:21 |
| gladstone-widgetTools-buildsrc.html | 5.1 KiB | 2006-09-04 04:48:21 |
| gladstone-widgetTools-checksrc.html | 6.0 KiB | 2006-09-04 04:48:21 |
| gladstone-xcms-buildsrc.html | 9.5 KiB | 2006-09-04 04:48:21 |
| gladstone-xcms-checksrc.html | 10.7 KiB | 2006-09-04 04:48:21 |
| gladstone-y2hStat-buildsrc.html | 5.9 KiB | 2006-09-04 04:48:21 |
| gladstone-y2hStat-checksrc.html | 7.0 KiB | 2006-09-04 04:48:21 |
| gopher5-AnnBuilder-buildsrc.html | 8.4 KiB | 2006-09-04 04:46:52 |
| gopher5-AnnBuilder-checksrc.html | 9.4 KiB | 2006-09-04 04:46:52 |
| gopher5-Biobase-buildsrc.html | 9.1 KiB | 2006-09-04 04:46:53 |
| gopher5-Biobase-checksrc.html | 10.3 KiB | 2006-09-04 04:46:53 |
| gopher5-Biostrings-buildsrc.html | 6.9 KiB | 2006-09-04 04:46:53 |
| gopher5-Biostrings-checksrc.html | 8.0 KiB | 2006-09-04 04:46:53 |
| gopher5-Category-buildsrc.html | 6.0 KiB | 2006-09-04 04:46:54 |
| gopher5-Category-checksrc.html | 7.0 KiB | 2006-09-04 04:46:54 |
| gopher5-ChromoViz-buildsrc.html | 4.0 KiB | 2006-09-04 04:46:54 |
| gopher5-ChromoViz-checksrc.html | 6.6 KiB | 2006-09-04 04:46:54 |
| gopher5-CoCiteStats-buildsrc.html | 4.0 KiB | 2006-09-04 04:46:54 |
| gopher5-CoCiteStats-checksrc.html | 5.7 KiB | 2006-09-04 04:46:54 |
| gopher5-DEDS-buildsrc.html | 7.3 KiB | 2006-09-04 04:46:55 |
| gopher5-DEDS-checksrc.html | 8.3 KiB | 2006-09-04 04:46:55 |
| gopher5-DNAcopy-buildsrc.html | 6.4 KiB | 2006-09-04 04:46:55 |
| gopher5-DNAcopy-checksrc.html | 7.4 KiB | 2006-09-04 04:46:55 |
| gopher5-DynDoc-buildsrc.html | 3.9 KiB | 2006-09-04 04:46:55 |
| gopher5-DynDoc-checksrc.html | 5.9 KiB | 2006-09-04 04:46:55 |
| gopher5-EBImage-buildsrc.html | 7.1 KiB | 2006-09-04 04:46:56 |
| gopher5-EBImage-checksrc.html | 8.8 KiB | 2006-09-04 04:46:56 |
| gopher5-EBarrays-buildsrc.html | 5.8 KiB | 2006-09-04 04:46:55 |
| gopher5-EBarrays-checksrc.html | 7.0 KiB | 2006-09-04 04:46:56 |
| gopher5-GEOquery-buildsrc.html | 5.4 KiB | 2006-09-04 04:46:58 |
| gopher5-GEOquery-checksrc.html | 5.8 KiB | 2006-09-04 04:46:58 |
| gopher5-GLAD-buildsrc.html | 8.9 KiB | 2006-09-04 04:46:58 |
| gopher5-GLAD-checksrc.html | 9.9 KiB | 2006-09-04 04:46:58 |
| gopher5-GOstats-buildsrc.html | 5.5 KiB | 2006-09-04 04:46:59 |
| gopher5-GOstats-checksrc.html | 6.5 KiB | 2006-09-04 04:46:59 |
| gopher5-GeneMeta-buildsrc.html | 4.9 KiB | 2006-09-04 04:46:57 |
| gopher5-GeneMeta-checksrc.html | 5.9 KiB | 2006-09-04 04:46:57 |
| gopher5-GeneR-buildsrc.html | 11.7 KiB | 2006-09-04 04:46:57 |
| gopher5-GeneR-checksrc.html | 12.6 KiB | 2006-09-04 04:46:57 |
| gopher5-GeneSpring-buildsrc.html | 5.1 KiB | 2006-09-04 04:46:57 |
| gopher5-GeneSpring-checksrc.html | 6.0 KiB | 2006-09-04 04:46:57 |
| gopher5-GeneTS-buildsrc.html | 3.9 KiB | 2006-09-04 04:46:57 |
| gopher5-GeneTS-checksrc.html | 6.9 KiB | 2006-09-04 04:46:57 |
| gopher5-GeneTraffic-buildsrc.html | 4.1 KiB | 2006-09-04 04:46:57 |
| gopher5-GeneTraffic-checksrc.html | 6.3 KiB | 2006-09-04 04:46:57 |
| gopher5-GenomeBase-buildsrc.html | 4.0 KiB | 2006-09-04 04:46:58 |
| gopher5-GenomeBase-checksrc.html | 5.4 KiB | 2006-09-04 04:46:58 |
| gopher5-GlobalAncova-buildsrc.html | 5.0 KiB | 2006-09-04 04:46:58 |
| gopher5-GlobalAncova-checksrc.html | 6.1 KiB | 2006-09-04 04:46:58 |
| gopher5-GraphAT-buildsrc.html | 3.9 KiB | 2006-09-04 04:46:59 |
| gopher5-GraphAT-checksrc.html | 6.0 KiB | 2006-09-04 04:46:59 |
| gopher5-HEM-buildsrc.html | 6.5 KiB | 2006-09-04 04:46:59 |
| gopher5-HEM-checksrc.html | 7.5 KiB | 2006-09-04 04:46:59 |
| gopher5-Heatplus-buildsrc.html | 4.5 KiB | 2006-09-04 04:46:59 |
| gopher5-Heatplus-checksrc.html | 5.6 KiB | 2006-09-04 04:46:59 |
| gopher5-Icens-buildsrc.html | 4.0 KiB | 2006-09-04 04:47:00 |
| gopher5-Icens-checksrc.html | 6.8 KiB | 2006-09-04 04:47:00 |
| gopher5-KEGGSOAP-buildsrc.html | 3.9 KiB | 2006-09-04 04:47:00 |
| gopher5-KEGGSOAP-checksrc.html | 6.0 KiB | 2006-09-04 04:47:00 |
| gopher5-LMGene-buildsrc.html | 6.0 KiB | 2006-09-04 04:47:01 |
| gopher5-LMGene-checksrc.html | 6.9 KiB | 2006-09-04 04:47:01 |
| gopher5-LPE-buildsrc.html | 5.3 KiB | 2006-09-04 04:47:01 |
| gopher5-LPE-checksrc.html | 6.3 KiB | 2006-09-04 04:47:01 |
| gopher5-MANOR-buildsrc.html | 7.4 KiB | 2006-09-04 04:47:02 |
| gopher5-MANOR-checksrc.html | 8.5 KiB | 2006-09-04 04:47:02 |
| gopher5-MCRestimate-buildsrc.html | 5.9 KiB | 2006-09-04 04:47:03 |
| gopher5-MCRestimate-checksrc.html | 7.0 KiB | 2006-09-04 04:47:03 |
| gopher5-MLInterfaces-buildsrc.html | 7.1 KiB | 2006-09-04 04:47:03 |
| gopher5-MLInterfaces-checksrc.html | 8.7 KiB | 2006-09-04 04:47:03 |
| gopher5-MVCClass-buildsrc.html | 5.7 KiB | 2006-09-04 04:47:04 |
| gopher5-MVCClass-checksrc.html | 6.7 KiB | 2006-09-04 04:47:04 |
| gopher5-MantelCorr-buildsrc.html | 4.7 KiB | 2006-09-04 04:47:02 |
| gopher5-MantelCorr-checksrc.html | 5.8 KiB | 2006-09-04 04:47:02 |
| gopher5-MeasurementError.cor-buildsrc.html | 5.0 KiB | 2006-09-04 04:47:03 |
| gopher5-MeasurementError.cor-checksrc.html | 5.7 KiB | 2006-09-04 04:47:03 |
| gopher5-MergeMaid-buildsrc.html | 5.3 KiB | 2006-09-04 04:47:03 |
| gopher5-MergeMaid-checksrc.html | 6.3 KiB | 2006-09-04 04:47:03 |
| gopher5-Mfuzz-buildsrc.html | 5.5 KiB | 2006-09-04 04:47:03 |
| gopher5-Mfuzz-checksrc.html | 6.5 KiB | 2006-09-04 04:47:03 |
| gopher5-MiPP-buildsrc.html | 5.8 KiB | 2006-09-04 04:47:03 |
| gopher5-MiPP-checksrc.html | 6.7 KiB | 2006-09-04 04:47:03 |
| gopher5-NodeInfo.html | 4.0 KiB | 2006-09-04 04:48:57 |
| gopher5-OCplus-buildsrc.html | 5.8 KiB | 2006-09-04 04:47:04 |
| gopher5-OCplus-checksrc.html | 6.8 KiB | 2006-09-04 04:47:04 |
| gopher5-OLIN-buildsrc.html | 4.0 KiB | 2006-09-04 04:47:04 |
| gopher5-OLIN-checksrc.html | 8.0 KiB | 2006-09-04 04:47:05 |
| gopher5-OLINgui-buildsrc.html | 4.9 KiB | 2006-09-04 04:47:05 |
| gopher5-OLINgui-checksrc.html | 5.8 KiB | 2006-09-04 04:47:05 |
| gopher5-OrderedList-buildsrc.html | 5.5 KiB | 2006-09-04 04:47:05 |
| gopher5-OrderedList-checksrc.html | 6.6 KiB | 2006-09-04 04:47:05 |
| gopher5-PROcess-buildsrc.html | 5.6 KiB | 2006-09-04 04:47:06 |
| gopher5-PROcess-checksrc.html | 6.6 KiB | 2006-09-04 04:47:06 |
| gopher5-R-instpkgs.html | 12.2 KiB | 2006-09-04 04:48:57 |
| gopher5-RBGL-buildsrc.html | 14.0 KiB | 2006-09-04 04:47:07 |
| gopher5-RBGL-checksrc.html | 15.0 KiB | 2006-09-04 04:47:07 |
| gopher5-RLMM-buildsrc.html | 4.4 KiB | 2006-09-04 04:47:08 |
| gopher5-RLMM-checksrc.html | 5.4 KiB | 2006-09-04 04:47:08 |
| gopher5-RMAGEML-buildsrc.html | 9.5 KiB | 2006-09-04 04:47:08 |
| gopher5-RMAGEML-checksrc.html | 10.5 KiB | 2006-09-04 04:47:08 |
| gopher5-RMAPPER-buildsrc.html | 4.0 KiB | 2006-09-04 04:47:08 |
| gopher5-RMAPPER-checksrc.html | 5.3 KiB | 2006-09-04 04:47:08 |
| gopher5-ROC-buildsrc.html | 4.4 KiB | 2006-09-04 04:47:08 |
| gopher5-ROC-checksrc.html | 5.5 KiB | 2006-09-04 04:47:08 |
| gopher5-RSNPper-buildsrc.html | 4.2 KiB | 2006-09-04 04:47:08 |
| gopher5-RSNPper-checksrc.html | 5.1 KiB | 2006-09-04 04:47:08 |
| gopher5-RankProd-buildsrc.html | 5.0 KiB | 2006-09-04 04:47:07 |
| gopher5-RankProd-checksrc.html | 6.0 KiB | 2006-09-04 04:47:07 |
| gopher5-Rdbi-buildsrc.html | 4.0 KiB | 2006-09-04 04:47:07 |
| gopher5-Rdbi-checksrc.html | 6.0 KiB | 2006-09-04 04:47:07 |
| gopher5-RdbiPgSQL-buildsrc.html | 4.1 KiB | 2006-09-04 04:47:07 |
| gopher5-RdbiPgSQL-checksrc.html | 7.5 KiB | 2006-09-04 04:47:07 |
| gopher5-Resourcerer-buildsrc.html | 4.9 KiB | 2006-09-04 04:47:07 |
| gopher5-Resourcerer-checksrc.html | 5.9 KiB | 2006-09-04 04:47:07 |
| gopher5-Rgraphviz-buildsrc.html | 6.7 KiB | 2006-09-04 04:47:08 |
| gopher5-Rgraphviz-checksrc.html | 7.9 KiB | 2006-09-04 04:47:08 |
| gopher5-Ruuid-buildsrc.html | 8.6 KiB | 2006-09-04 04:47:08 |
| gopher5-Ruuid-checksrc.html | 9.7 KiB | 2006-09-04 04:47:08 |
| gopher5-SAGElyzer-buildsrc.html | 5.8 KiB | 2006-09-04 04:47:09 |
| gopher5-SAGElyzer-checksrc.html | 6.9 KiB | 2006-09-04 04:47:09 |
| gopher5-SBMLR-buildsrc.html | 3.9 KiB | 2006-09-04 04:47:09 |
| gopher5-SBMLR-checksrc.html | 5.8 KiB | 2006-09-04 04:47:09 |
| gopher5-SNAData-buildsrc.html | 4.6 KiB | 2006-09-04 04:47:10 |
| gopher5-SNAData-checksrc.html | 5.6 KiB | 2006-09-04 04:47:10 |
| gopher5-ScISI-buildsrc.html | 9.4 KiB | 2006-09-04 04:47:09 |
| gopher5-ScISI-checksrc.html | 10.5 KiB | 2006-09-04 04:47:09 |
| gopher5-aCGH-buildsrc.html | 6.6 KiB | 2006-09-04 04:46:50 |
| gopher5-aCGH-checksrc.html | 7.8 KiB | 2006-09-04 04:46:50 |
| gopher5-adSplit-buildsrc.html | 5.7 KiB | 2006-09-04 04:46:50 |
| gopher5-adSplit-checksrc.html | 6.8 KiB | 2006-09-04 04:46:50 |
| gopher5-affxparser-buildsrc.html | 4.0 KiB | 2006-09-04 04:46:50 |
| gopher5-affxparser-checksrc.html | 92.1 KiB | 2006-09-04 04:46:50 |
| gopher5-affy-buildsrc.html | 11.3 KiB | 2006-09-04 04:46:50 |
| gopher5-affy-checksrc.html | 12.5 KiB | 2006-09-04 04:46:50 |
| gopher5-affyPLM-buildsrc.html | 14.1 KiB | 2006-09-04 04:46:51 |
| gopher5-affyPLM-checksrc.html | 15.4 KiB | 2006-09-04 04:46:51 |
| gopher5-affyQCReport-buildsrc.html | 4.7 KiB | 2006-09-04 04:46:51 |
| gopher5-affyQCReport-checksrc.html | 5.8 KiB | 2006-09-04 04:46:51 |
| gopher5-affycomp-buildsrc.html | 5.9 KiB | 2006-09-04 04:46:50 |
| gopher5-affycomp-checksrc.html | 6.8 KiB | 2006-09-04 04:46:51 |
| gopher5-affycoretools-buildsrc.html | 6.3 KiB | 2006-09-04 04:46:51 |
| gopher5-affycoretools-checksrc.html | 7.4 KiB | 2006-09-04 04:46:51 |
| gopher5-affydata-buildsrc.html | 4.3 KiB | 2006-09-04 04:46:51 |
| gopher5-affydata-checksrc.html | 5.3 KiB | 2006-09-04 04:46:51 |
| gopher5-affyio-buildsrc.html | 3.9 KiB | 2006-09-04 04:46:51 |
| gopher5-affyio-checksrc.html | 12.1 KiB | 2006-09-04 04:46:51 |
| gopher5-affylmGUI-buildsrc.html | 4.9 KiB | 2006-09-04 04:46:51 |
| gopher5-affylmGUI-checksrc.html | 5.9 KiB | 2006-09-04 04:46:51 |
| gopher5-affypdnn-buildsrc.html | 4.0 KiB | 2006-09-04 04:46:51 |
| gopher5-affypdnn-checksrc.html | 6.2 KiB | 2006-09-04 04:46:51 |
| gopher5-altcdfenvs-buildsrc.html | 5.9 KiB | 2006-09-04 04:46:51 |
| gopher5-altcdfenvs-checksrc.html | 6.9 KiB | 2006-09-04 04:46:51 |
| gopher5-annaffy-buildsrc.html | 7.6 KiB | 2006-09-04 04:46:52 |
| gopher5-annaffy-checksrc.html | 8.7 KiB | 2006-09-04 04:46:52 |
| gopher5-annotate-buildsrc.html | 7.7 KiB | 2006-09-04 04:46:52 |
| gopher5-annotate-checksrc.html | 8.8 KiB | 2006-09-04 04:46:52 |
| gopher5-apComplex-buildsrc.html | 5.5 KiB | 2006-09-04 04:46:52 |
| gopher5-apComplex-checksrc.html | 6.4 KiB | 2006-09-04 04:46:52 |
| gopher5-applera-buildsrc.html | 5.3 KiB | 2006-09-04 04:46:52 |
| gopher5-applera-checksrc.html | 6.3 KiB | 2006-09-04 04:46:52 |
| gopher5-arrayMagic-buildsrc.html | 7.7 KiB | 2006-09-04 04:46:52 |
| gopher5-arrayMagic-checksrc.html | 8.8 KiB | 2006-09-04 04:46:52 |
| gopher5-arrayQuality-buildsrc.html | 4.1 KiB | 2006-09-04 04:46:52 |
| gopher5-arrayQuality-checksrc.html | 7.5 KiB | 2006-09-04 04:46:52 |
| gopher5-beadarray-buildsrc.html | 4.0 KiB | 2006-09-04 04:46:52 |
| gopher5-beadarray-checksrc.html | 9.4 KiB | 2006-09-04 04:46:52 |
| gopher5-bim-buildsrc.html | 12.3 KiB | 2006-09-04 04:46:53 |
| gopher5-bim-checksrc.html | 13.3 KiB | 2006-09-04 04:46:53 |
| gopher5-bioDist-buildsrc.html | 4.0 KiB | 2006-09-04 04:46:53 |
| gopher5-bioDist-checksrc.html | 5.8 KiB | 2006-09-04 04:46:53 |
| gopher5-biocViews-buildsrc.html | 5.7 KiB | 2006-09-04 04:46:53 |
| gopher5-biocViews-checksrc.html | 6.7 KiB | 2006-09-04 04:46:53 |
| gopher5-biomaRt-buildsrc.html | 5.9 KiB | 2006-09-04 04:46:53 |
| gopher5-biomaRt-checksrc.html | 6.9 KiB | 2006-09-04 04:46:53 |
| gopher5-bridge-buildsrc.html | 8.7 KiB | 2006-09-04 04:46:53 |
| gopher5-bridge-checksrc.html | 9.8 KiB | 2006-09-04 04:46:54 |
| gopher5-cellHTS-buildsrc.html | 3.9 KiB | 2006-09-04 04:46:54 |
| gopher5-cellHTS-checksrc.html | 6.5 KiB | 2006-09-04 04:46:54 |
| gopher5-cghMCR-buildsrc.html | 4.6 KiB | 2006-09-04 04:46:54 |
| gopher5-cghMCR-checksrc.html | 5.6 KiB | 2006-09-04 04:46:54 |
| gopher5-clusterStab-buildsrc.html | 5.3 KiB | 2006-09-04 04:46:54 |
| gopher5-clusterStab-checksrc.html | 6.4 KiB | 2006-09-04 04:46:54 |
| gopher5-codelink-buildsrc.html | 6.4 KiB | 2006-09-04 04:46:54 |
| gopher5-codelink-checksrc.html | 7.4 KiB | 2006-09-04 04:46:55 |
| gopher5-convert-buildsrc.html | 4.3 KiB | 2006-09-04 04:46:55 |
| gopher5-convert-checksrc.html | 5.3 KiB | 2006-09-04 04:46:55 |
| gopher5-copa-buildsrc.html | 5.0 KiB | 2006-09-04 04:46:55 |
| gopher5-copa-checksrc.html | 6.0 KiB | 2006-09-04 04:46:55 |
| gopher5-ctc-buildsrc.html | 4.7 KiB | 2006-09-04 04:46:55 |
| gopher5-ctc-checksrc.html | 5.7 KiB | 2006-09-04 04:46:55 |
| gopher5-daMA-buildsrc.html | 3.9 KiB | 2006-09-04 04:46:55 |
| gopher5-daMA-checksrc.html | 5.8 KiB | 2006-09-04 04:46:55 |
| gopher5-diffGeneAnalysis-buildsrc.html | 5.3 KiB | 2006-09-04 04:46:55 |
| gopher5-diffGeneAnalysis-checksrc.html | 6.2 KiB | 2006-09-04 04:46:55 |
| gopher5-ecolitk-buildsrc.html | 5.0 KiB | 2006-09-04 04:46:56 |
| gopher5-ecolitk-checksrc.html | 5.9 KiB | 2006-09-04 04:46:56 |
| gopher5-edd-buildsrc.html | 5.1 KiB | 2006-09-04 04:46:56 |
| gopher5-edd-checksrc.html | 6.2 KiB | 2006-09-04 04:46:56 |
| gopher5-exprExternal-buildsrc.html | 4.0 KiB | 2006-09-04 04:46:56 |
| gopher5-exprExternal-checksrc.html | 5.4 KiB | 2006-09-04 04:46:56 |
| gopher5-externalVector-buildsrc.html | 4.1 KiB | 2006-09-04 04:46:56 |
| gopher5-externalVector-checksrc.html | 10.4 KiB | 2006-09-04 04:46:56 |
| gopher5-factDesign-buildsrc.html | 4.7 KiB | 2006-09-04 04:46:56 |
| gopher5-factDesign-checksrc.html | 5.7 KiB | 2006-09-04 04:46:56 |
| gopher5-fdrame-buildsrc.html | 4.9 KiB | 2006-09-04 04:46:56 |
| gopher5-fdrame-checksrc.html | 5.9 KiB | 2006-09-04 04:46:56 |
| gopher5-gcrma-buildsrc.html | 6.0 KiB | 2006-09-04 04:46:56 |
| gopher5-gcrma-checksrc.html | 7.0 KiB | 2006-09-04 04:46:56 |
| gopher5-genArise-buildsrc.html | 7.9 KiB | 2006-09-04 04:46:56 |
| gopher5-genArise-checksrc.html | 8.8 KiB | 2006-09-04 04:46:57 |
| gopher5-geneRecommender-buildsrc.html | 4.6 KiB | 2006-09-04 04:46:57 |
| gopher5-geneRecommender-checksrc.html | 5.6 KiB | 2006-09-04 04:46:57 |
| gopher5-genefilter-buildsrc.html | 6.9 KiB | 2006-09-04 04:46:57 |
| gopher5-genefilter-checksrc.html | 8.0 KiB | 2006-09-04 04:46:57 |
| gopher5-geneplotter-buildsrc.html | 5.9 KiB | 2006-09-04 04:46:57 |
| gopher5-geneplotter-checksrc.html | 7.0 KiB | 2006-09-04 04:46:57 |
| gopher5-gff3Plotter-buildsrc.html | 4.7 KiB | 2006-09-04 04:46:58 |
| gopher5-gff3Plotter-checksrc.html | 5.8 KiB | 2006-09-04 04:46:58 |
| gopher5-globaltest-buildsrc.html | 5.6 KiB | 2006-09-04 04:46:58 |
| gopher5-globaltest-checksrc.html | 6.7 KiB | 2006-09-04 04:46:58 |
| gopher5-goCluster-buildsrc.html | 8.4 KiB | 2006-09-04 04:46:58 |
| gopher5-goCluster-checksrc.html | 9.4 KiB | 2006-09-04 04:46:58 |
| gopher5-goTools-buildsrc.html | 4.8 KiB | 2006-09-04 04:46:59 |
| gopher5-goTools-checksrc.html | 5.8 KiB | 2006-09-04 04:46:59 |
| gopher5-gpls-buildsrc.html | 4.7 KiB | 2006-09-04 04:46:59 |
| gopher5-gpls-checksrc.html | 5.7 KiB | 2006-09-04 04:46:59 |
| gopher5-graph-buildsrc.html | 8.7 KiB | 2006-09-04 04:46:59 |
| gopher5-graph-checksrc.html | 9.8 KiB | 2006-09-04 04:46:59 |
| gopher5-hexbin-buildsrc.html | 7.0 KiB | 2006-09-04 04:46:59 |
| gopher5-hexbin-checksrc.html | 8.3 KiB | 2006-09-04 04:46:59 |
| gopher5-hopach-buildsrc.html | 5.5 KiB | 2006-09-04 04:46:59 |
| gopher5-hopach-checksrc.html | 6.5 KiB | 2006-09-04 04:47:00 |
| gopher5-hypergraph-buildsrc.html | 4.0 KiB | 2006-09-04 04:47:00 |
| gopher5-hypergraph-checksrc.html | 5.8 KiB | 2006-09-04 04:47:00 |
| gopher5-iSPlot-buildsrc.html | 6.8 KiB | 2006-09-04 04:47:00 |
| gopher5-iSPlot-checksrc.html | 7.8 KiB | 2006-09-04 04:47:00 |
| gopher5-idiogram-buildsrc.html | 4.7 KiB | 2006-09-04 04:47:00 |
| gopher5-idiogram-checksrc.html | 5.7 KiB | 2006-09-04 04:47:00 |
| gopher5-impute-buildsrc.html | 4.0 KiB | 2006-09-04 04:47:00 |
| gopher5-impute-checksrc.html | 5.7 KiB | 2006-09-04 04:47:00 |
| gopher5-limma-buildsrc.html | 12.0 KiB | 2006-09-04 04:47:00 |
| gopher5-limma-checksrc.html | 60.3 KiB | 2006-09-04 04:47:00 |
| gopher5-limmaGUI-buildsrc.html | 4.5 KiB | 2006-09-04 04:47:00 |
| gopher5-limmaGUI-checksrc.html | 5.5 KiB | 2006-09-04 04:47:01 |
| gopher5-logicFS-buildsrc.html | 4.9 KiB | 2006-09-04 04:47:01 |
| gopher5-logicFS-checksrc.html | 5.8 KiB | 2006-09-04 04:47:01 |
| gopher5-maCorrPlot-buildsrc.html | 4.5 KiB | 2006-09-04 04:47:01 |
| gopher5-maCorrPlot-checksrc.html | 5.6 KiB | 2006-09-04 04:47:01 |
| gopher5-maDB-buildsrc.html | 3.9 KiB | 2006-09-04 04:47:01 |
| gopher5-maDB-checksrc.html | 9.1 KiB | 2006-09-04 04:47:02 |
| gopher5-maSigPro-buildsrc.html | 6.6 KiB | 2006-09-04 04:47:02 |
| gopher5-maSigPro-checksrc.html | 7.6 KiB | 2006-09-04 04:47:02 |
| gopher5-maanova-buildsrc.html | 6.7 KiB | 2006-09-04 04:47:01 |
| gopher5-maanova-checksrc.html | 7.8 KiB | 2006-09-04 04:47:01 |
| gopher5-macat-buildsrc.html | 6.0 KiB | 2006-09-04 04:47:01 |
| gopher5-macat-checksrc.html | 7.3 KiB | 2006-09-04 04:47:01 |
| gopher5-made4-buildsrc.html | 6.5 KiB | 2006-09-04 04:47:02 |
| gopher5-made4-checksrc.html | 7.5 KiB | 2006-09-04 04:47:02 |
| gopher5-makecdfenv-buildsrc.html | 5.7 KiB | 2006-09-04 04:47:02 |
| gopher5-makecdfenv-checksrc.html | 6.8 KiB | 2006-09-04 04:47:02 |
| gopher5-marray-buildsrc.html | 11.5 KiB | 2006-09-04 04:47:02 |
| gopher5-marray-checksrc.html | 12.5 KiB | 2006-09-04 04:47:02 |
| gopher5-matchprobes-buildsrc.html | 5.8 KiB | 2006-09-04 04:47:02 |
| gopher5-matchprobes-checksrc.html | 6.9 KiB | 2006-09-04 04:47:02 |
| gopher5-metaArray-buildsrc.html | 6.5 KiB | 2006-09-04 04:47:03 |
| gopher5-metaArray-checksrc.html | 7.8 KiB | 2006-09-04 04:47:03 |
| gopher5-mmgmos-buildsrc.html | 85.1 KiB | 2006-09-04 04:47:04 |
| gopher5-mmgmos-checksrc.html | 86.2 KiB | 2006-09-04 04:47:04 |
| gopher5-multtest-buildsrc.html | 4.1 KiB | 2006-09-04 04:47:04 |
| gopher5-multtest-checksrc.html | 9.1 KiB | 2006-09-04 04:47:04 |
| gopher5-nnNorm-buildsrc.html | 4.5 KiB | 2006-09-04 04:47:04 |
| gopher5-nnNorm-checksrc.html | 5.4 KiB | 2006-09-04 04:47:04 |
| gopher5-nudge-buildsrc.html | 5.2 KiB | 2006-09-04 04:47:04 |
| gopher5-nudge-checksrc.html | 6.2 KiB | 2006-09-04 04:47:04 |
| gopher5-ontoTools-buildsrc.html | 7.4 KiB | 2006-09-04 04:47:05 |
| gopher5-ontoTools-checksrc.html | 8.4 KiB | 2006-09-04 04:47:05 |
| gopher5-pairseqsim-buildsrc.html | 5.7 KiB | 2006-09-04 04:47:05 |
| gopher5-pairseqsim-checksrc.html | 6.7 KiB | 2006-09-04 04:47:05 |
| gopher5-pamr-buildsrc.html | 4.0 KiB | 2006-09-04 04:47:05 |
| gopher5-pamr-checksrc.html | 7.5 KiB | 2006-09-04 04:47:05 |
| gopher5-panp-buildsrc.html | 4.8 KiB | 2006-09-04 04:47:05 |
| gopher5-panp-checksrc.html | 5.8 KiB | 2006-09-04 04:47:05 |
| gopher5-pathRender-buildsrc.html | 4.0 KiB | 2006-09-04 04:47:05 |
| gopher5-pathRender-checksrc.html | 5.5 KiB | 2006-09-04 04:47:05 |
| gopher5-pdmclass-buildsrc.html | 5.1 KiB | 2006-09-04 04:47:06 |
| gopher5-pdmclass-checksrc.html | 6.1 KiB | 2006-09-04 04:47:06 |
| gopher5-pgUtils-buildsrc.html | 3.9 KiB | 2006-09-04 04:47:06 |
| gopher5-pgUtils-checksrc.html | 6.8 KiB | 2006-09-04 04:47:06 |
| gopher5-pickgene-buildsrc.html | 4.8 KiB | 2006-09-04 04:47:06 |
| gopher5-pickgene-checksrc.html | 5.8 KiB | 2006-09-04 04:47:06 |
| gopher5-plgem-buildsrc.html | 4.5 KiB | 2006-09-04 04:47:06 |
| gopher5-plgem-checksrc.html | 5.5 KiB | 2006-09-04 04:47:06 |
| gopher5-plier-buildsrc.html | 3.9 KiB | 2006-09-04 04:47:06 |
| gopher5-plier-checksrc.html | 6.2 KiB | 2006-09-04 04:47:06 |
| gopher5-prada-buildsrc.html | 7.0 KiB | 2006-09-04 04:47:06 |
| gopher5-prada-checksrc.html | 8.1 KiB | 2006-09-04 04:47:06 |
| gopher5-qvalue-buildsrc.html | 4.7 KiB | 2006-09-04 04:47:06 |
| gopher5-qvalue-checksrc.html | 5.6 KiB | 2006-09-04 04:47:06 |
| gopher5-rama-buildsrc.html | 4.0 KiB | 2006-09-04 04:47:06 |
| gopher5-rama-checksrc.html | 10.9 KiB | 2006-09-04 04:47:07 |
| gopher5-reb-buildsrc.html | 6.4 KiB | 2006-09-04 04:47:07 |
| gopher5-reb-checksrc.html | 7.5 KiB | 2006-09-04 04:47:07 |
| gopher5-reposTools-buildsrc.html | 11.0 KiB | 2006-09-04 04:47:07 |
| gopher5-reposTools-checksrc.html | 12.5 KiB | 2006-09-04 04:47:07 |
| gopher5-rfcdmin-buildsrc.html | 3.9 KiB | 2006-09-04 04:47:07 |
| gopher5-rfcdmin-checksrc.html | 5.8 KiB | 2006-09-04 04:47:07 |
| gopher5-rflowcyt-buildsrc.html | 9.6 KiB | 2006-09-04 04:47:08 |
| gopher5-rflowcyt-checksrc.html | 11.4 KiB | 2006-09-04 04:47:08 |
| gopher5-safe-buildsrc.html | 4.5 KiB | 2006-09-04 04:47:09 |
| gopher5-safe-checksrc.html | 5.5 KiB | 2006-09-04 04:47:09 |
| gopher5-sagenhaft-buildsrc.html | 4.9 KiB | 2006-09-04 04:47:09 |
| gopher5-sagenhaft-checksrc.html | 5.9 KiB | 2006-09-04 04:47:09 |
| gopher5-siggenes-buildsrc.html | 6.3 KiB | 2006-09-04 04:47:09 |
| gopher5-siggenes-checksrc.html | 7.3 KiB | 2006-09-04 04:47:09 |
| gopher5-simpleaffy-buildsrc.html | 8.3 KiB | 2006-09-04 04:47:09 |
| gopher5-simpleaffy-checksrc.html | 9.3 KiB | 2006-09-04 04:47:09 |
| gopher5-simulatorAPMS-buildsrc.html | 6.1 KiB | 2006-09-04 04:47:09 |
| gopher5-simulatorAPMS-checksrc.html | 7.1 KiB | 2006-09-04 04:47:10 |
| gopher5-sizepower-buildsrc.html | 4.7 KiB | 2006-09-04 04:47:10 |
| gopher5-sizepower-checksrc.html | 5.6 KiB | 2006-09-04 04:47:10 |
| gopher5-snapCGH-buildsrc.html | 8.9 KiB | 2006-09-04 04:47:10 |
| gopher5-snapCGH-checksrc.html | 9.9 KiB | 2006-09-04 04:47:10 |
| gopher5-splicegear-buildsrc.html | 6.2 KiB | 2006-09-04 04:47:10 |
| gopher5-splicegear-checksrc.html | 7.2 KiB | 2006-09-04 04:47:10 |
| gopher5-spotSegmentation-buildsrc.html | 4.2 KiB | 2006-09-04 04:47:10 |
| gopher5-spotSegmentation-checksrc.html | 6.0 KiB | 2006-09-04 04:47:10 |
| gopher5-sscore-buildsrc.html | 5.2 KiB | 2006-09-04 04:47:10 |
| gopher5-sscore-checksrc.html | 6.1 KiB | 2006-09-04 04:47:10 |
| gopher5-ssize-buildsrc.html | 4.3 KiB | 2006-09-04 04:47:10 |
| gopher5-ssize-checksrc.html | 5.3 KiB | 2006-09-04 04:47:10 |
| gopher5-stam-buildsrc.html | 6.4 KiB | 2006-09-04 04:47:11 |
| gopher5-stam-checksrc.html | 7.3 KiB | 2006-09-04 04:47:11 |
| gopher5-stepNorm-buildsrc.html | 3.9 KiB | 2006-09-04 04:47:11 |
| gopher5-stepNorm-checksrc.html | 5.9 KiB | 2006-09-04 04:47:11 |
| gopher5-tilingArray-buildsrc.html | 6.5 KiB | 2006-09-04 04:47:11 |
| gopher5-tilingArray-checksrc.html | 8.2 KiB | 2006-09-04 04:47:11 |
| gopher5-timecourse-buildsrc.html | 5.2 KiB | 2006-09-04 04:47:11 |
| gopher5-timecourse-checksrc.html | 6.2 KiB | 2006-09-04 04:47:11 |
| gopher5-tkWidgets-buildsrc.html | 6.7 KiB | 2006-09-04 04:47:11 |
| gopher5-tkWidgets-checksrc.html | 7.7 KiB | 2006-09-04 04:47:11 |
| gopher5-twilight-buildsrc.html | 6.2 KiB | 2006-09-04 04:47:11 |
| gopher5-twilight-checksrc.html | 7.3 KiB | 2006-09-04 04:47:11 |
| gopher5-vsn-buildsrc.html | 5.0 KiB | 2006-09-04 04:47:11 |
| gopher5-vsn-checksrc.html | 6.1 KiB | 2006-09-04 04:47:11 |
| gopher5-webbioc-buildsrc.html | 5.2 KiB | 2006-09-04 04:47:11 |
| gopher5-webbioc-checksrc.html | 6.2 KiB | 2006-09-04 04:47:11 |
| gopher5-widgetInvoke-buildsrc.html | 4.8 KiB | 2006-09-04 04:47:11 |
| gopher5-widgetInvoke-checksrc.html | 5.8 KiB | 2006-09-04 04:47:12 |
| gopher5-widgetTools-buildsrc.html | 5.1 KiB | 2006-09-04 04:47:12 |
| gopher5-widgetTools-checksrc.html | 6.0 KiB | 2006-09-04 04:47:12 |
| gopher5-xcms-buildsrc.html | 9.3 KiB | 2006-09-04 04:47:12 |
| gopher5-xcms-checksrc.html | 10.4 KiB | 2006-09-04 04:47:12 |
| gopher5-y2hStat-buildsrc.html | 5.9 KiB | 2006-09-04 04:47:12 |
| gopher5-y2hStat-checksrc.html | 7.0 KiB | 2006-09-04 04:47:12 |
| index.html | 487.4 KiB | 2006-09-04 04:49:06 |
| lemming-AnnBuilder-buildbin.html | 9.2 KiB | 2006-09-04 04:48:25 |
| lemming-AnnBuilder-buildsrc.html | 9.4 KiB | 2006-09-04 04:48:25 |
| lemming-AnnBuilder-checksrc.html | 10.5 KiB | 2006-09-04 04:48:25 |
| lemming-Biobase-buildbin.html | 10.0 KiB | 2006-09-04 04:48:27 |
| lemming-Biobase-buildsrc.html | 10.2 KiB | 2006-09-04 04:48:27 |
| lemming-Biobase-checksrc.html | 11.5 KiB | 2006-09-04 04:48:27 |
| lemming-Biostrings-buildbin.html | 7.2 KiB | 2006-09-04 04:48:28 |
| lemming-Biostrings-buildsrc.html | 7.5 KiB | 2006-09-04 04:48:28 |
| lemming-Biostrings-checksrc.html | 8.7 KiB | 2006-09-04 04:48:28 |
| lemming-Category-buildbin.html | 6.1 KiB | 2006-09-04 04:48:28 |
| lemming-Category-buildsrc.html | 6.4 KiB | 2006-09-04 04:48:28 |
| lemming-Category-checksrc.html | 7.4 KiB | 2006-09-04 04:48:28 |
| lemming-ChromoViz-buildbin.html | 6.2 KiB | 2006-09-04 04:48:29 |
| lemming-ChromoViz-buildsrc.html | 4.1 KiB | 2006-09-04 04:48:29 |
| lemming-ChromoViz-checksrc.html | 7.4 KiB | 2006-09-04 04:48:29 |
| lemming-CoCiteStats-buildbin.html | 5.1 KiB | 2006-09-04 04:48:29 |
| lemming-CoCiteStats-buildsrc.html | 4.0 KiB | 2006-09-04 04:48:29 |
| lemming-CoCiteStats-checksrc.html | 6.4 KiB | 2006-09-04 04:48:29 |
| lemming-DEDS-buildbin.html | 7.6 KiB | 2006-09-04 04:48:30 |
| lemming-DEDS-buildsrc.html | 7.8 KiB | 2006-09-04 04:48:30 |
| lemming-DEDS-checksrc.html | 8.9 KiB | 2006-09-04 04:48:30 |
| lemming-DNAcopy-buildbin.html | 6.7 KiB | 2006-09-04 04:48:31 |
| lemming-DNAcopy-buildsrc.html | 7.1 KiB | 2006-09-04 04:48:31 |
| lemming-DNAcopy-checksrc.html | 8.1 KiB | 2006-09-04 04:48:31 |
| lemming-DynDoc-buildbin.html | 5.3 KiB | 2006-09-04 04:48:31 |
| lemming-DynDoc-buildsrc.html | 3.9 KiB | 2006-09-04 04:48:31 |
| lemming-DynDoc-checksrc.html | 6.6 KiB | 2006-09-04 04:48:31 |
| lemming-EBImage-buildbin.html | 6.1 KiB | 2006-09-04 04:48:31 |
| lemming-EBImage-buildsrc.html | 5.2 KiB | 2006-09-04 04:48:31 |
| lemming-EBImage-checksrc.html | 6.1 KiB | 2006-09-04 04:48:31 |
| lemming-EBarrays-buildbin.html | 6.1 KiB | 2006-09-04 04:48:31 |
| lemming-EBarrays-buildsrc.html | 6.5 KiB | 2006-09-04 04:48:31 |
| lemming-EBarrays-checksrc.html | 7.7 KiB | 2006-09-04 04:48:31 |
| lemming-GEOquery-buildbin.html | 5.8 KiB | 2006-09-04 04:48:35 |
| lemming-GEOquery-buildsrc.html | 5.8 KiB | 2006-09-04 04:48:34 |
| lemming-GEOquery-checksrc.html | 5.8 KiB | 2006-09-04 04:48:34 |
| lemming-GLAD-buildbin.html | 9.2 KiB | 2006-09-04 04:48:35 |
| lemming-GLAD-buildsrc.html | 9.6 KiB | 2006-09-04 04:48:35 |
| lemming-GLAD-checksrc.html | 10.6 KiB | 2006-09-04 04:48:35 |
| lemming-GOstats-buildbin.html | 5.9 KiB | 2006-09-04 04:48:36 |
| lemming-GOstats-buildsrc.html | 6.2 KiB | 2006-09-04 04:48:36 |
| lemming-GOstats-checksrc.html | 7.4 KiB | 2006-09-04 04:48:36 |
| lemming-GeneMeta-buildbin.html | 5.3 KiB | 2006-09-04 04:48:33 |
| lemming-GeneMeta-buildsrc.html | 5.5 KiB | 2006-09-04 04:48:33 |
| lemming-GeneMeta-checksrc.html | 6.6 KiB | 2006-09-04 04:48:33 |
| lemming-GeneR-buildbin.html | 11.7 KiB | 2006-09-04 04:48:33 |
| lemming-GeneR-buildsrc.html | 12.1 KiB | 2006-09-04 04:48:33 |
| lemming-GeneR-checksrc.html | 13.1 KiB | 2006-09-04 04:48:33 |
| lemming-GeneSpring-buildbin.html | 5.3 KiB | 2006-09-04 04:48:34 |
| lemming-GeneSpring-buildsrc.html | 5.6 KiB | 2006-09-04 04:48:34 |
| lemming-GeneSpring-checksrc.html | 6.6 KiB | 2006-09-04 04:48:34 |
| lemming-GeneTS-buildbin.html | 6.2 KiB | 2006-09-04 04:48:34 |
| lemming-GeneTS-buildsrc.html | 3.9 KiB | 2006-09-04 04:48:34 |
| lemming-GeneTS-checksrc.html | 7.4 KiB | 2006-09-04 04:48:34 |
| lemming-GeneTraffic-buildbin.html | 5.6 KiB | 2006-09-04 04:48:34 |
| lemming-GeneTraffic-buildsrc.html | 4.1 KiB | 2006-09-04 04:48:34 |
| lemming-GeneTraffic-checksrc.html | 6.9 KiB | 2006-09-04 04:48:34 |
| lemming-GenomeBase-buildbin.html | 4.7 KiB | 2006-09-04 04:48:34 |
| lemming-GenomeBase-buildsrc.html | 4.0 KiB | 2006-09-04 04:48:34 |
| lemming-GenomeBase-checksrc.html | 6.0 KiB | 2006-09-04 04:48:34 |
| lemming-GlobalAncova-buildbin.html | 5.5 KiB | 2006-09-04 04:48:35 |
| lemming-GlobalAncova-buildsrc.html | 5.8 KiB | 2006-09-04 04:48:35 |
| lemming-GlobalAncova-checksrc.html | 6.8 KiB | 2006-09-04 04:48:35 |
| lemming-GraphAT-buildbin.html | 5.3 KiB | 2006-09-04 04:48:37 |
| lemming-GraphAT-buildsrc.html | 3.9 KiB | 2006-09-04 04:48:36 |
| lemming-GraphAT-checksrc.html | 6.6 KiB | 2006-09-04 04:48:36 |
| lemming-HEM-buildbin.html | 7.2 KiB | 2006-09-04 04:48:37 |
| lemming-HEM-buildsrc.html | 7.5 KiB | 2006-09-04 04:48:37 |
| lemming-HEM-checksrc.html | 8.5 KiB | 2006-09-04 04:48:37 |
| lemming-Heatplus-buildbin.html | 4.8 KiB | 2006-09-04 04:48:37 |
| lemming-Heatplus-buildsrc.html | 5.1 KiB | 2006-09-04 04:48:37 |
| lemming-Heatplus-checksrc.html | 6.1 KiB | 2006-09-04 04:48:37 |
| lemming-Icens-buildbin.html | 6.0 KiB | 2006-09-04 04:48:38 |
| lemming-Icens-buildsrc.html | 4.0 KiB | 2006-09-04 04:48:38 |
| lemming-Icens-checksrc.html | 7.7 KiB | 2006-09-04 04:48:38 |
| lemming-KEGGSOAP-buildbin.html | 5.2 KiB | 2006-09-04 04:48:38 |
| lemming-KEGGSOAP-buildsrc.html | 3.9 KiB | 2006-09-04 04:48:38 |
| lemming-KEGGSOAP-checksrc.html | 6.5 KiB | 2006-09-04 04:48:38 |
| lemming-LMGene-buildbin.html | 6.4 KiB | 2006-09-04 04:48:39 |
| lemming-LMGene-buildsrc.html | 6.7 KiB | 2006-09-04 04:48:39 |
| lemming-LMGene-checksrc.html | 7.6 KiB | 2006-09-04 04:48:39 |
| lemming-LPE-buildbin.html | 5.7 KiB | 2006-09-04 04:48:40 |
| lemming-LPE-buildsrc.html | 5.9 KiB | 2006-09-04 04:48:39 |
| lemming-LPE-checksrc.html | 6.9 KiB | 2006-09-04 04:48:39 |
| lemming-MANOR-buildbin.html | 6.0 KiB | 2006-09-04 04:48:41 |
| lemming-MANOR-buildsrc.html | 83.7 KiB | 2006-09-04 04:48:41 |
| lemming-MANOR-checksrc.html | 6.0 KiB | 2006-09-04 04:48:41 |
| lemming-MCRestimate-buildbin.html | 6.3 KiB | 2006-09-04 04:48:42 |
| lemming-MCRestimate-buildsrc.html | 6.5 KiB | 2006-09-04 04:48:42 |
| lemming-MCRestimate-checksrc.html | 7.6 KiB | 2006-09-04 04:48:42 |
| lemming-MLInterfaces-buildbin.html | 7.6 KiB | 2006-09-04 04:48:44 |
| lemming-MLInterfaces-buildsrc.html | 7.9 KiB | 2006-09-04 04:48:44 |
| lemming-MLInterfaces-checksrc.html | 9.5 KiB | 2006-09-04 04:48:44 |
| lemming-MVCClass-buildbin.html | 6.1 KiB | 2006-09-04 04:48:45 |
| lemming-MVCClass-buildsrc.html | 6.4 KiB | 2006-09-04 04:48:45 |
| lemming-MVCClass-checksrc.html | 4.0 KiB | 2006-09-04 04:48:45 |
| lemming-MantelCorr-buildbin.html | 5.1 KiB | 2006-09-04 04:48:41 |
| lemming-MantelCorr-buildsrc.html | 5.3 KiB | 2006-09-04 04:48:41 |
| lemming-MantelCorr-checksrc.html | 6.4 KiB | 2006-09-04 04:48:41 |
| lemming-MeasurementError.cor-buildbin.html | 5.0 KiB | 2006-09-04 04:48:42 |
| lemming-MeasurementError.cor-buildsrc.html | 5.6 KiB | 2006-09-04 04:48:42 |
| lemming-MeasurementError.cor-checksrc.html | 6.4 KiB | 2006-09-04 04:48:42 |
| lemming-MergeMaid-buildbin.html | 5.5 KiB | 2006-09-04 04:48:43 |
| lemming-MergeMaid-buildsrc.html | 5.8 KiB | 2006-09-04 04:48:43 |
| lemming-MergeMaid-checksrc.html | 6.8 KiB | 2006-09-04 04:48:43 |
| lemming-Mfuzz-buildbin.html | 5.9 KiB | 2006-09-04 04:48:43 |
| lemming-Mfuzz-buildsrc.html | 6.2 KiB | 2006-09-04 04:48:43 |
| lemming-Mfuzz-checksrc.html | 7.1 KiB | 2006-09-04 04:48:43 |
| lemming-MiPP-buildbin.html | 6.1 KiB | 2006-09-04 04:48:43 |
| lemming-MiPP-buildsrc.html | 6.5 KiB | 2006-09-04 04:48:43 |
| lemming-MiPP-checksrc.html | 7.4 KiB | 2006-09-04 04:48:43 |
| lemming-NodeInfo.html | 4.6 KiB | 2006-09-04 04:48:57 |
| lemming-OCplus-buildbin.html | 6.0 KiB | 2006-09-04 04:48:45 |
| lemming-OCplus-buildsrc.html | 6.2 KiB | 2006-09-04 04:48:45 |
| lemming-OCplus-checksrc.html | 7.3 KiB | 2006-09-04 04:48:45 |
| lemming-OLIN-buildbin.html | 7.4 KiB | 2006-09-04 04:48:46 |
| lemming-OLIN-buildsrc.html | 4.0 KiB | 2006-09-04 04:48:45 |
| lemming-OLIN-checksrc.html | 8.5 KiB | 2006-09-04 04:48:45 |
| lemming-OLINgui-buildbin.html | 4.8 KiB | 2006-09-04 04:48:46 |
| lemming-OLINgui-buildsrc.html | 5.1 KiB | 2006-09-04 04:48:46 |
| lemming-OLINgui-checksrc.html | 6.1 KiB | 2006-09-04 04:48:46 |
| lemming-OrderedList-buildbin.html | 6.0 KiB | 2006-09-04 04:48:46 |
| lemming-OrderedList-buildsrc.html | 6.2 KiB | 2006-09-04 04:48:46 |
| lemming-OrderedList-checksrc.html | 7.3 KiB | 2006-09-04 04:48:46 |
| lemming-PROcess-buildbin.html | 6.0 KiB | 2006-09-04 04:48:48 |
| lemming-PROcess-buildsrc.html | 6.4 KiB | 2006-09-04 04:48:48 |
| lemming-PROcess-checksrc.html | 7.3 KiB | 2006-09-04 04:48:48 |
| lemming-R-instpkgs.html | 12.0 KiB | 2006-09-04 04:48:58 |
| lemming-RBGL-buildbin.html | 60.5 KiB | 2006-09-04 04:48:49 |
| lemming-RBGL-buildsrc.html | 60.7 KiB | 2006-09-04 04:48:49 |
| lemming-RBGL-checksrc.html | 61.9 KiB | 2006-09-04 04:48:49 |
| lemming-RLMM-buildbin.html | 4.7 KiB | 2006-09-04 04:48:51 |
| lemming-RLMM-buildsrc.html | 4.9 KiB | 2006-09-04 04:48:51 |
| lemming-RLMM-checksrc.html | 5.9 KiB | 2006-09-04 04:48:51 |
| lemming-RMAGEML-buildbin.html | 6.0 KiB | 2006-09-04 04:48:51 |
| lemming-RMAGEML-buildsrc.html | 34.3 KiB | 2006-09-04 04:48:51 |
| lemming-RMAGEML-checksrc.html | 6.0 KiB | 2006-09-04 04:48:51 |
| lemming-RMAPPER-buildbin.html | 4.6 KiB | 2006-09-04 04:48:51 |
| lemming-RMAPPER-buildsrc.html | 4.0 KiB | 2006-09-04 04:48:51 |
| lemming-RMAPPER-checksrc.html | 5.8 KiB | 2006-09-04 04:48:51 |
| lemming-ROC-buildbin.html | 4.8 KiB | 2006-09-04 04:48:51 |
| lemming-ROC-buildsrc.html | 5.0 KiB | 2006-09-04 04:48:51 |
| lemming-ROC-checksrc.html | 6.0 KiB | 2006-09-04 04:48:51 |
| lemming-RSNPper-buildbin.html | 6.1 KiB | 2006-09-04 04:48:52 |
| lemming-RSNPper-buildsrc.html | 4.9 KiB | 2006-09-04 04:48:52 |
| lemming-RSNPper-checksrc.html | 6.1 KiB | 2006-09-04 04:48:52 |
| lemming-RankProd-buildbin.html | 5.4 KiB | 2006-09-04 04:48:49 |
| lemming-RankProd-buildsrc.html | 5.6 KiB | 2006-09-04 04:48:49 |
| lemming-RankProd-checksrc.html | 6.7 KiB | 2006-09-04 04:48:49 |
| lemming-Rdbi-buildbin.html | 5.5 KiB | 2006-09-04 04:48:49 |
| lemming-Rdbi-buildsrc.html | 4.0 KiB | 2006-09-04 04:48:49 |
| lemming-Rdbi-checksrc.html | 6.8 KiB | 2006-09-04 04:48:49 |
| lemming-RdbiPgSQL-buildbin.html | 11.7 KiB | 2006-09-04 04:48:50 |
| lemming-RdbiPgSQL-buildsrc.html | 4.1 KiB | 2006-09-04 04:48:49 |
| lemming-RdbiPgSQL-checksrc.html | 12.4 KiB | 2006-09-04 04:48:49 |
| lemming-Resourcerer-buildbin.html | 5.0 KiB | 2006-09-04 04:48:50 |
| lemming-Resourcerer-buildsrc.html | 5.3 KiB | 2006-09-04 04:48:50 |
| lemming-Resourcerer-checksrc.html | 6.3 KiB | 2006-09-04 04:48:50 |
| lemming-Rgraphviz-buildbin.html | 8.3 KiB | 2006-09-04 04:48:51 |
| lemming-Rgraphviz-buildsrc.html | 8.6 KiB | 2006-09-04 04:48:51 |
| lemming-Rgraphviz-checksrc.html | 9.8 KiB | 2006-09-04 04:48:51 |
| lemming-Ruuid-buildbin.html | 5.6 KiB | 2006-09-04 04:48:52 |
| lemming-Ruuid-buildsrc.html | 6.0 KiB | 2006-09-04 04:48:52 |
| lemming-Ruuid-checksrc.html | 7.0 KiB | 2006-09-04 04:48:52 |
| lemming-SAGElyzer-buildbin.html | 5.7 KiB | 2006-09-04 04:48:52 |
| lemming-SAGElyzer-buildsrc.html | 6.0 KiB | 2006-09-04 04:48:52 |
| lemming-SAGElyzer-checksrc.html | 8.0 KiB | 2006-09-04 04:48:52 |
| lemming-SBMLR-buildbin.html | 5.0 KiB | 2006-09-04 04:48:52 |
| lemming-SBMLR-buildsrc.html | 3.9 KiB | 2006-09-04 04:48:52 |
| lemming-SBMLR-checksrc.html | 6.3 KiB | 2006-09-04 04:48:52 |
| lemming-SNAData-buildbin.html | 4.8 KiB | 2006-09-04 04:48:54 |
| lemming-SNAData-buildsrc.html | 5.2 KiB | 2006-09-04 04:48:54 |
| lemming-SNAData-checksrc.html | 6.2 KiB | 2006-09-04 04:48:54 |
| lemming-ScISI-buildbin.html | 9.3 KiB | 2006-09-04 04:48:53 |
| lemming-ScISI-buildsrc.html | 9.5 KiB | 2006-09-04 04:48:53 |
| lemming-ScISI-checksrc.html | 10.5 KiB | 2006-09-04 04:48:53 |
| lemming-aCGH-buildbin.html | 7.3 KiB | 2006-09-04 04:48:21 |
| lemming-aCGH-buildsrc.html | 7.6 KiB | 2006-09-04 04:48:21 |
| lemming-aCGH-checksrc.html | 8.7 KiB | 2006-09-04 04:48:21 |
| lemming-adSplit-buildbin.html | 6.4 KiB | 2006-09-04 04:48:22 |
| lemming-adSplit-buildsrc.html | 6.7 KiB | 2006-09-04 04:48:22 |
| lemming-adSplit-checksrc.html | 7.8 KiB | 2006-09-04 04:48:22 |
| lemming-affxparser-buildbin.html | 259.1 KiB | 2006-09-04 04:48:23 |
| lemming-affxparser-buildsrc.html | 4.0 KiB | 2006-09-04 04:48:22 |
| lemming-affxparser-checksrc.html | 260.5 KiB | 2006-09-04 04:48:22 |
| lemming-affy-buildbin.html | 12.1 KiB | 2006-09-04 04:48:23 |
| lemming-affy-buildsrc.html | 12.4 KiB | 2006-09-04 04:48:23 |
| lemming-affy-checksrc.html | 13.8 KiB | 2006-09-04 04:48:23 |
| lemming-affyPLM-buildbin.html | 6.1 KiB | 2006-09-04 04:48:24 |
| lemming-affyPLM-buildsrc.html | 14.0 KiB | 2006-09-04 04:48:24 |
| lemming-affyPLM-checksrc.html | 6.1 KiB | 2006-09-04 04:48:24 |
| lemming-affyQCReport-buildbin.html | 5.0 KiB | 2006-09-04 04:48:25 |
| lemming-affyQCReport-buildsrc.html | 5.3 KiB | 2006-09-04 04:48:24 |
| lemming-affyQCReport-checksrc.html | 6.4 KiB | 2006-09-04 04:48:25 |
| lemming-affycomp-buildbin.html | 6.4 KiB | 2006-09-04 04:48:23 |
| lemming-affycomp-buildsrc.html | 6.7 KiB | 2006-09-04 04:48:23 |
| lemming-affycomp-checksrc.html | 7.6 KiB | 2006-09-04 04:48:23 |
| lemming-affycoretools-buildbin.html | 6.2 KiB | 2006-09-04 04:48:24 |
| lemming-affycoretools-buildsrc.html | 6.5 KiB | 2006-09-04 04:48:23 |
| lemming-affycoretools-checksrc.html | 7.6 KiB | 2006-09-04 04:48:24 |
| lemming-affydata-buildbin.html | 4.6 KiB | 2006-09-04 04:48:24 |
| lemming-affydata-buildsrc.html | 4.8 KiB | 2006-09-04 04:48:24 |
| lemming-affydata-checksrc.html | 5.9 KiB | 2006-09-04 04:48:24 |
| lemming-affyio-buildbin.html | 11.5 KiB | 2006-09-04 04:48:24 |
| lemming-affyio-buildsrc.html | 3.9 KiB | 2006-09-04 04:48:24 |
| lemming-affyio-checksrc.html | 12.9 KiB | 2006-09-04 04:48:24 |
| lemming-affylmGUI-buildbin.html | 4.9 KiB | 2006-09-04 04:48:24 |
| lemming-affylmGUI-buildsrc.html | 5.3 KiB | 2006-09-04 04:48:24 |
| lemming-affylmGUI-checksrc.html | 6.2 KiB | 2006-09-04 04:48:24 |
| lemming-affypdnn-buildbin.html | 5.3 KiB | 2006-09-04 04:48:24 |
| lemming-affypdnn-buildsrc.html | 4.0 KiB | 2006-09-04 04:48:24 |
| lemming-affypdnn-checksrc.html | 6.5 KiB | 2006-09-04 04:48:24 |
| lemming-altcdfenvs-buildbin.html | 6.3 KiB | 2006-09-04 04:48:25 |
| lemming-altcdfenvs-buildsrc.html | 6.5 KiB | 2006-09-04 04:48:25 |
| lemming-altcdfenvs-checksrc.html | 7.6 KiB | 2006-09-04 04:48:25 |
| lemming-annaffy-buildbin.html | 8.6 KiB | 2006-09-04 04:48:25 |
| lemming-annaffy-buildsrc.html | 8.9 KiB | 2006-09-04 04:48:25 |
| lemming-annaffy-checksrc.html | 9.9 KiB | 2006-09-04 04:48:25 |
| lemming-annotate-buildbin.html | 8.4 KiB | 2006-09-04 04:48:25 |
| lemming-annotate-buildsrc.html | 8.6 KiB | 2006-09-04 04:48:25 |
| lemming-annotate-checksrc.html | 9.7 KiB | 2006-09-04 04:48:25 |
| lemming-apComplex-buildbin.html | 5.8 KiB | 2006-09-04 04:48:26 |
| lemming-apComplex-buildsrc.html | 6.1 KiB | 2006-09-04 04:48:25 |
| lemming-apComplex-checksrc.html | 7.1 KiB | 2006-09-04 04:48:26 |
| lemming-applera-buildbin.html | 5.1 KiB | 2006-09-04 04:48:26 |
| lemming-applera-buildsrc.html | 5.4 KiB | 2006-09-04 04:48:26 |
| lemming-applera-checksrc.html | 6.4 KiB | 2006-09-04 04:48:26 |
| lemming-arrayMagic-buildbin.html | 8.2 KiB | 2006-09-04 04:48:26 |
| lemming-arrayMagic-buildsrc.html | 8.5 KiB | 2006-09-04 04:48:26 |
| lemming-arrayMagic-checksrc.html | 9.5 KiB | 2006-09-04 04:48:26 |
| lemming-arrayQuality-buildbin.html | 6.6 KiB | 2006-09-04 04:48:26 |
| lemming-arrayQuality-buildsrc.html | 4.1 KiB | 2006-09-04 04:48:26 |
| lemming-arrayQuality-checksrc.html | 7.8 KiB | 2006-09-04 04:48:26 |
| lemming-beadarray-buildbin.html | 9.3 KiB | 2006-09-04 04:48:26 |
| lemming-beadarray-buildsrc.html | 4.0 KiB | 2006-09-04 04:48:26 |
| lemming-beadarray-checksrc.html | 10.6 KiB | 2006-09-04 04:48:26 |
| lemming-bim-buildbin.html | 12.2 KiB | 2006-09-04 04:48:27 |
| lemming-bim-buildsrc.html | 12.6 KiB | 2006-09-04 04:48:27 |
| lemming-bim-checksrc.html | 13.6 KiB | 2006-09-04 04:48:27 |
| lemming-bioDist-buildbin.html | 5.1 KiB | 2006-09-04 04:48:27 |
| lemming-bioDist-buildsrc.html | 4.0 KiB | 2006-09-04 04:48:27 |
| lemming-bioDist-checksrc.html | 6.4 KiB | 2006-09-04 04:48:27 |
| lemming-biocViews-buildbin.html | 6.1 KiB | 2006-09-04 04:48:27 |
| lemming-biocViews-buildsrc.html | 6.3 KiB | 2006-09-04 04:48:27 |
| lemming-biocViews-checksrc.html | 7.4 KiB | 2006-09-04 04:48:27 |
| lemming-biomaRt-buildbin.html | 6.4 KiB | 2006-09-04 04:48:28 |
| lemming-biomaRt-buildsrc.html | 6.6 KiB | 2006-09-04 04:48:27 |
| lemming-biomaRt-checksrc.html | 7.7 KiB | 2006-09-04 04:48:27 |
| lemming-bridge-buildbin.html | 9.1 KiB | 2006-09-04 04:48:28 |
| lemming-bridge-buildsrc.html | 9.4 KiB | 2006-09-04 04:48:28 |
| lemming-bridge-checksrc.html | 10.5 KiB | 2006-09-04 04:48:28 |
| lemming-cellHTS-buildbin.html | 5.7 KiB | 2006-09-04 04:48:28 |
| lemming-cellHTS-buildsrc.html | 3.9 KiB | 2006-09-04 04:48:28 |
| lemming-cellHTS-checksrc.html | 6.9 KiB | 2006-09-04 04:48:28 |
| lemming-cghMCR-buildbin.html | 5.0 KiB | 2006-09-04 04:48:29 |
| lemming-cghMCR-buildsrc.html | 5.2 KiB | 2006-09-04 04:48:28 |
| lemming-cghMCR-checksrc.html | 6.3 KiB | 2006-09-04 04:48:29 |
| lemming-clusterStab-buildbin.html | 5.6 KiB | 2006-09-04 04:48:29 |
| lemming-clusterStab-buildsrc.html | 5.9 KiB | 2006-09-04 04:48:29 |
| lemming-clusterStab-checksrc.html | 6.9 KiB | 2006-09-04 04:48:29 |
| lemming-codelink-buildbin.html | 6.8 KiB | 2006-09-04 04:48:29 |
| lemming-codelink-buildsrc.html | 7.0 KiB | 2006-09-04 04:48:29 |
| lemming-codelink-checksrc.html | 8.1 KiB | 2006-09-04 04:48:29 |
| lemming-convert-buildbin.html | 4.5 KiB | 2006-09-04 04:48:30 |
| lemming-convert-buildsrc.html | 4.8 KiB | 2006-09-04 04:48:30 |
| lemming-convert-checksrc.html | 5.8 KiB | 2006-09-04 04:48:30 |
| lemming-copa-buildbin.html | 5.4 KiB | 2006-09-04 04:48:30 |
| lemming-copa-buildsrc.html | 5.7 KiB | 2006-09-04 04:48:30 |
| lemming-copa-checksrc.html | 6.8 KiB | 2006-09-04 04:48:30 |
| lemming-ctc-buildbin.html | 5.0 KiB | 2006-09-04 04:48:30 |
| lemming-ctc-buildsrc.html | 5.4 KiB | 2006-09-04 04:48:30 |
| lemming-ctc-checksrc.html | 6.3 KiB | 2006-09-04 04:48:30 |
| lemming-daMA-buildbin.html | 5.2 KiB | 2006-09-04 04:48:30 |
| lemming-daMA-buildsrc.html | 4.0 KiB | 2006-09-04 04:48:30 |
| lemming-daMA-checksrc.html | 6.4 KiB | 2006-09-04 04:48:30 |
| lemming-diffGeneAnalysis-buildbin.html | 5.5 KiB | 2006-09-04 04:48:31 |
| lemming-diffGeneAnalysis-buildsrc.html | 6.0 KiB | 2006-09-04 04:48:30 |
| lemming-diffGeneAnalysis-checksrc.html | 6.9 KiB | 2006-09-04 04:48:30 |
| lemming-ecolitk-buildbin.html | 5.3 KiB | 2006-09-04 04:48:31 |
| lemming-ecolitk-buildsrc.html | 5.6 KiB | 2006-09-04 04:48:31 |
| lemming-ecolitk-checksrc.html | 6.6 KiB | 2006-09-04 04:48:31 |
| lemming-edd-buildbin.html | 5.5 KiB | 2006-09-04 04:48:32 |
| lemming-edd-buildsrc.html | 5.7 KiB | 2006-09-04 04:48:32 |
| lemming-edd-checksrc.html | 6.8 KiB | 2006-09-04 04:48:32 |
| lemming-exprExternal-buildbin.html | 4.6 KiB | 2006-09-04 04:48:32 |
| lemming-exprExternal-buildsrc.html | 4.0 KiB | 2006-09-04 04:48:32 |
| lemming-exprExternal-checksrc.html | 5.9 KiB | 2006-09-04 04:48:32 |
| lemming-externalVector-buildbin.html | 10.0 KiB | 2006-09-04 04:48:32 |
| lemming-externalVector-buildsrc.html | 4.1 KiB | 2006-09-04 04:48:32 |
| lemming-externalVector-checksrc.html | 11.4 KiB | 2006-09-04 04:48:32 |
| lemming-factDesign-buildbin.html | 4.9 KiB | 2006-09-04 04:48:32 |
| lemming-factDesign-buildsrc.html | 5.3 KiB | 2006-09-04 04:48:32 |
| lemming-factDesign-checksrc.html | 6.3 KiB | 2006-09-04 04:48:32 |
| lemming-fdrame-buildbin.html | 5.3 KiB | 2006-09-04 04:48:32 |
| lemming-fdrame-buildsrc.html | 5.6 KiB | 2006-09-04 04:48:32 |
| lemming-fdrame-checksrc.html | 6.6 KiB | 2006-09-04 04:48:32 |
| lemming-gcrma-buildbin.html | 6.2 KiB | 2006-09-04 04:48:32 |
| lemming-gcrma-buildsrc.html | 6.6 KiB | 2006-09-04 04:48:32 |
| lemming-gcrma-checksrc.html | 7.6 KiB | 2006-09-04 04:48:32 |
| lemming-genArise-buildbin.html | 8.5 KiB | 2006-09-04 04:48:33 |
| lemming-genArise-buildsrc.html | 8.8 KiB | 2006-09-04 04:48:33 |
| lemming-genArise-checksrc.html | 9.7 KiB | 2006-09-04 04:48:33 |
| lemming-geneRecommender-buildbin.html | 4.9 KiB | 2006-09-04 04:48:34 |
| lemming-geneRecommender-buildsrc.html | 5.1 KiB | 2006-09-04 04:48:33 |
| lemming-geneRecommender-checksrc.html | 6.2 KiB | 2006-09-04 04:48:33 |
| lemming-genefilter-buildbin.html | 7.3 KiB | 2006-09-04 04:48:33 |
| lemming-genefilter-buildsrc.html | 7.6 KiB | 2006-09-04 04:48:33 |
| lemming-genefilter-checksrc.html | 8.7 KiB | 2006-09-04 04:48:33 |
| lemming-geneplotter-buildbin.html | 6.4 KiB | 2006-09-04 04:48:33 |
| lemming-geneplotter-buildsrc.html | 6.7 KiB | 2006-09-04 04:48:33 |
| lemming-geneplotter-checksrc.html | 7.7 KiB | 2006-09-04 04:48:33 |
| lemming-gff3Plotter-buildbin.html | 5.0 KiB | 2006-09-04 04:48:35 |
| lemming-gff3Plotter-buildsrc.html | 5.3 KiB | 2006-09-04 04:48:35 |
| lemming-gff3Plotter-checksrc.html | 6.4 KiB | 2006-09-04 04:48:35 |
| lemming-globaltest-buildbin.html | 6.1 KiB | 2006-09-04 04:48:35 |
| lemming-globaltest-buildsrc.html | 6.3 KiB | 2006-09-04 04:48:35 |
| lemming-globaltest-checksrc.html | 7.4 KiB | 2006-09-04 04:48:35 |
| lemming-goCluster-buildbin.html | 9.1 KiB | 2006-09-04 04:48:36 |
| lemming-goCluster-buildsrc.html | 9.4 KiB | 2006-09-04 04:48:36 |
| lemming-goCluster-checksrc.html | 10.3 KiB | 2006-09-04 04:48:36 |
| lemming-goTools-buildbin.html | 5.1 KiB | 2006-09-04 04:48:36 |
| lemming-goTools-buildsrc.html | 5.5 KiB | 2006-09-04 04:48:36 |
| lemming-goTools-checksrc.html | 6.4 KiB | 2006-09-04 04:48:36 |
| lemming-gpls-buildbin.html | 5.0 KiB | 2006-09-04 04:48:36 |
| lemming-gpls-buildsrc.html | 5.3 KiB | 2006-09-04 04:48:36 |
| lemming-gpls-checksrc.html | 6.3 KiB | 2006-09-04 04:48:36 |
| lemming-graph-buildbin.html | 9.6 KiB | 2006-09-04 04:48:36 |
| lemming-graph-buildsrc.html | 9.8 KiB | 2006-09-04 04:48:36 |
| lemming-graph-checksrc.html | 10.9 KiB | 2006-09-04 04:48:36 |
| lemming-hexbin-buildbin.html | 7.4 KiB | 2006-09-04 04:48:37 |
| lemming-hexbin-buildsrc.html | 7.7 KiB | 2006-09-04 04:48:37 |
| lemming-hexbin-checksrc.html | 9.1 KiB | 2006-09-04 04:48:37 |
| lemming-hopach-buildbin.html | 5.7 KiB | 2006-09-04 04:48:37 |
| lemming-hopach-buildsrc.html | 6.1 KiB | 2006-09-04 04:48:37 |
| lemming-hopach-checksrc.html | 7.0 KiB | 2006-09-04 04:48:37 |
| lemming-hypergraph-buildbin.html | 5.1 KiB | 2006-09-04 04:48:38 |
| lemming-hypergraph-buildsrc.html | 4.0 KiB | 2006-09-04 04:48:37 |
| lemming-hypergraph-checksrc.html | 6.4 KiB | 2006-09-04 04:48:37 |
| lemming-iSPlot-buildbin.html | 6.1 KiB | 2006-09-04 04:48:38 |
| lemming-iSPlot-buildsrc.html | 4.5 KiB | 2006-09-04 04:48:38 |
| lemming-iSPlot-checksrc.html | 6.1 KiB | 2006-09-04 04:48:38 |
| lemming-idiogram-buildbin.html | 5.0 KiB | 2006-09-04 04:48:38 |
| lemming-idiogram-buildsrc.html | 5.3 KiB | 2006-09-04 04:48:38 |
| lemming-idiogram-checksrc.html | 6.3 KiB | 2006-09-04 04:48:38 |
| lemming-impute-buildbin.html | 5.2 KiB | 2006-09-04 04:48:38 |
| lemming-impute-buildsrc.html | 4.0 KiB | 2006-09-04 04:48:38 |
| lemming-impute-checksrc.html | 6.5 KiB | 2006-09-04 04:48:38 |
| lemming-limma-buildbin.html | 13.4 KiB | 2006-09-04 04:48:39 |
| lemming-limma-buildsrc.html | 13.6 KiB | 2006-09-04 04:48:39 |
| lemming-limma-checksrc.html | 14.9 KiB | 2006-09-04 04:48:39 |
| lemming-limmaGUI-buildbin.html | 4.7 KiB | 2006-09-04 04:48:39 |
| lemming-limmaGUI-buildsrc.html | 4.9 KiB | 2006-09-04 04:48:39 |
| lemming-limmaGUI-checksrc.html | 6.0 KiB | 2006-09-04 04:48:39 |
| lemming-logicFS-buildbin.html | 5.2 KiB | 2006-09-04 04:48:39 |
| lemming-logicFS-buildsrc.html | 5.6 KiB | 2006-09-04 04:48:39 |
| lemming-logicFS-checksrc.html | 6.5 KiB | 2006-09-04 04:48:39 |
| lemming-maCorrPlot-buildbin.html | 4.9 KiB | 2006-09-04 04:48:40 |
| lemming-maCorrPlot-buildsrc.html | 5.1 KiB | 2006-09-04 04:48:40 |
| lemming-maCorrPlot-checksrc.html | 6.2 KiB | 2006-09-04 04:48:40 |
| lemming-maDB-buildbin.html | 8.8 KiB | 2006-09-04 04:48:40 |
| lemming-maDB-buildsrc.html | 3.9 KiB | 2006-09-04 04:48:40 |
| lemming-maDB-checksrc.html | 4.0 KiB | 2006-09-04 04:48:40 |
| lemming-maSigPro-buildbin.html | 6.1 KiB | 2006-09-04 04:48:42 |
| lemming-maSigPro-buildsrc.html | 7.8 KiB | 2006-09-04 04:48:42 |
| lemming-maSigPro-checksrc.html | 6.1 KiB | 2006-09-04 04:48:42 |
| lemming-maanova-buildbin.html | 7.2 KiB | 2006-09-04 04:48:40 |
| lemming-maanova-buildsrc.html | 7.4 KiB | 2006-09-04 04:48:40 |
| lemming-maanova-checksrc.html | 8.5 KiB | 2006-09-04 04:48:40 |
| lemming-macat-buildbin.html | 6.3 KiB | 2006-09-04 04:48:40 |
| lemming-macat-buildsrc.html | 6.6 KiB | 2006-09-04 04:48:40 |
| lemming-macat-checksrc.html | 7.5 KiB | 2006-09-04 04:48:40 |
| lemming-made4-buildbin.html | 6.9 KiB | 2006-09-04 04:48:41 |
| lemming-made4-buildsrc.html | 7.2 KiB | 2006-09-04 04:48:41 |
| lemming-made4-checksrc.html | 8.1 KiB | 2006-09-04 04:48:41 |
| lemming-makecdfenv-buildbin.html | 6.1 KiB | 2006-09-04 04:48:41 |
| lemming-makecdfenv-buildsrc.html | 6.5 KiB | 2006-09-04 04:48:41 |
| lemming-makecdfenv-checksrc.html | 7.6 KiB | 2006-09-04 04:48:41 |
| lemming-marray-buildbin.html | 12.4 KiB | 2006-09-04 04:48:42 |
| lemming-marray-buildsrc.html | 12.7 KiB | 2006-09-04 04:48:42 |
| lemming-marray-checksrc.html | 13.7 KiB | 2006-09-04 04:48:42 |
| lemming-matchprobes-buildbin.html | 6.1 KiB | 2006-09-04 04:48:42 |
| lemming-matchprobes-buildsrc.html | 6.4 KiB | 2006-09-04 04:48:42 |
| lemming-matchprobes-checksrc.html | 7.5 KiB | 2006-09-04 04:48:42 |
| lemming-metaArray-buildbin.html | 6.6 KiB | 2006-09-04 04:48:43 |
| lemming-metaArray-buildsrc.html | 7.0 KiB | 2006-09-04 04:48:43 |
| lemming-metaArray-checksrc.html | 8.3 KiB | 2006-09-04 04:48:43 |
| lemming-mmgmos-buildbin.html | 83.4 KiB | 2006-09-04 04:48:44 |
| lemming-mmgmos-buildsrc.html | 83.7 KiB | 2006-09-04 04:48:44 |
| lemming-mmgmos-checksrc.html | 84.8 KiB | 2006-09-04 04:48:44 |
| lemming-multtest-buildbin.html | 8.3 KiB | 2006-09-04 04:48:44 |
| lemming-multtest-buildsrc.html | 4.1 KiB | 2006-09-04 04:48:44 |
| lemming-multtest-checksrc.html | 9.7 KiB | 2006-09-04 04:48:44 |
| lemming-nnNorm-buildbin.html | 4.6 KiB | 2006-09-04 04:48:45 |
| lemming-nnNorm-buildsrc.html | 5.0 KiB | 2006-09-04 04:48:45 |
| lemming-nnNorm-checksrc.html | 5.9 KiB | 2006-09-04 04:48:45 |
| lemming-nudge-buildbin.html | 5.6 KiB | 2006-09-04 04:48:45 |
| lemming-nudge-buildsrc.html | 5.8 KiB | 2006-09-04 04:48:45 |
| lemming-nudge-checksrc.html | 6.9 KiB | 2006-09-04 04:48:45 |
| lemming-ontoTools-buildbin.html | 7.9 KiB | 2006-09-04 04:48:46 |
| lemming-ontoTools-buildsrc.html | 8.2 KiB | 2006-09-04 04:48:46 |
| lemming-ontoTools-checksrc.html | 9.3 KiB | 2006-09-04 04:48:46 |
| lemming-pairseqsim-buildbin.html | 6.0 KiB | 2006-09-04 04:48:46 |
| lemming-pairseqsim-buildsrc.html | 6.4 KiB | 2006-09-04 04:48:46 |
| lemming-pairseqsim-checksrc.html | 7.4 KiB | 2006-09-04 04:48:46 |
| lemming-pamr-buildbin.html | 7.1 KiB | 2006-09-04 04:48:47 |
| lemming-pamr-buildsrc.html | 4.0 KiB | 2006-09-04 04:48:46 |
| lemming-pamr-checksrc.html | 8.4 KiB | 2006-09-04 04:48:46 |
| lemming-panp-buildbin.html | 5.1 KiB | 2006-09-04 04:48:47 |
| lemming-panp-buildsrc.html | 5.4 KiB | 2006-09-04 04:48:47 |
| lemming-panp-checksrc.html | 6.4 KiB | 2006-09-04 04:48:47 |
| lemming-pathRender-buildbin.html | 4.8 KiB | 2006-09-04 04:48:47 |
| lemming-pathRender-buildsrc.html | 4.0 KiB | 2006-09-04 04:48:47 |
| lemming-pathRender-checksrc.html | 6.0 KiB | 2006-09-04 04:48:47 |
| lemming-pdmclass-buildbin.html | 5.4 KiB | 2006-09-04 04:48:47 |
| lemming-pdmclass-buildsrc.html | 5.7 KiB | 2006-09-04 04:48:47 |
| lemming-pdmclass-checksrc.html | 6.8 KiB | 2006-09-04 04:48:47 |
| lemming-pgUtils-buildbin.html | 6.4 KiB | 2006-09-04 04:48:47 |
| lemming-pgUtils-buildsrc.html | 3.9 KiB | 2006-09-04 04:48:47 |
| lemming-pgUtils-checksrc.html | 4.0 KiB | 2006-09-04 04:48:47 |
| lemming-pickgene-buildbin.html | 5.0 KiB | 2006-09-04 04:48:48 |
| lemming-pickgene-buildsrc.html | 5.4 KiB | 2006-09-04 04:48:47 |
| lemming-pickgene-checksrc.html | 6.3 KiB | 2006-09-04 04:48:47 |
| lemming-plgem-buildbin.html | 4.8 KiB | 2006-09-04 04:48:48 |
| lemming-plgem-buildsrc.html | 5.1 KiB | 2006-09-04 04:48:48 |
| lemming-plgem-checksrc.html | 6.1 KiB | 2006-09-04 04:48:48 |
| lemming-plier-buildbin.html | 5.4 KiB | 2006-09-04 04:48:48 |
| lemming-plier-buildsrc.html | 3.9 KiB | 2006-09-04 04:48:48 |
| lemming-plier-checksrc.html | 6.7 KiB | 2006-09-04 04:48:48 |
| lemming-prada-buildbin.html | 7.5 KiB | 2006-09-04 04:48:48 |
| lemming-prada-buildsrc.html | 7.7 KiB | 2006-09-04 04:48:48 |
| lemming-prada-checksrc.html | 8.8 KiB | 2006-09-04 04:48:48 |
| lemming-qvalue-buildbin.html | 4.9 KiB | 2006-09-04 04:48:48 |
| lemming-qvalue-buildsrc.html | 5.3 KiB | 2006-09-04 04:48:48 |
| lemming-qvalue-checksrc.html | 6.2 KiB | 2006-09-04 04:48:48 |
| lemming-rama-buildbin.html | 10.3 KiB | 2006-09-04 04:48:49 |
| lemming-rama-buildsrc.html | 4.0 KiB | 2006-09-04 04:48:48 |
| lemming-rama-checksrc.html | 11.6 KiB | 2006-09-04 04:48:49 |
| lemming-reb-buildbin.html | 7.0 KiB | 2006-09-04 04:48:50 |
| lemming-reb-buildsrc.html | 7.3 KiB | 2006-09-04 04:48:50 |
| lemming-reb-checksrc.html | 8.3 KiB | 2006-09-04 04:48:50 |
| lemming-reposTools-buildbin.html | 11.9 KiB | 2006-09-04 04:48:50 |
| lemming-reposTools-buildsrc.html | 12.1 KiB | 2006-09-04 04:48:50 |
| lemming-reposTools-checksrc.html | 13.7 KiB | 2006-09-04 04:48:50 |
| lemming-rfcdmin-buildbin.html | 5.4 KiB | 2006-09-04 04:48:50 |
| lemming-rfcdmin-buildsrc.html | 3.9 KiB | 2006-09-04 04:48:50 |
| lemming-rfcdmin-checksrc.html | 6.4 KiB | 2006-09-04 04:48:50 |
| lemming-rflowcyt-buildbin.html | 9.6 KiB | 2006-09-04 04:48:51 |
| lemming-rflowcyt-buildsrc.html | 9.9 KiB | 2006-09-04 04:48:50 |
| lemming-rflowcyt-checksrc.html | 11.9 KiB | 2006-09-04 04:48:50 |
| lemming-safe-buildbin.html | 4.8 KiB | 2006-09-04 04:48:52 |
| lemming-safe-buildsrc.html | 5.1 KiB | 2006-09-04 04:48:52 |
| lemming-safe-checksrc.html | 6.1 KiB | 2006-09-04 04:48:52 |
| lemming-sagenhaft-buildbin.html | 5.1 KiB | 2006-09-04 04:48:52 |
| lemming-sagenhaft-buildsrc.html | 5.5 KiB | 2006-09-04 04:48:52 |
| lemming-sagenhaft-checksrc.html | 6.4 KiB | 2006-09-04 04:48:52 |
| lemming-siggenes-buildbin.html | 6.6 KiB | 2006-09-04 04:48:53 |
| lemming-siggenes-buildsrc.html | 6.8 KiB | 2006-09-04 04:48:53 |
| lemming-siggenes-checksrc.html | 7.9 KiB | 2006-09-04 04:48:53 |
| lemming-simpleaffy-buildbin.html | 8.7 KiB | 2006-09-04 04:48:53 |
| lemming-simpleaffy-buildsrc.html | 9.1 KiB | 2006-09-04 04:48:53 |
| lemming-simpleaffy-checksrc.html | 10.1 KiB | 2006-09-04 04:48:53 |
| lemming-simulatorAPMS-buildbin.html | 6.6 KiB | 2006-09-04 04:48:53 |
| lemming-simulatorAPMS-buildsrc.html | 6.8 KiB | 2006-09-04 04:48:53 |
| lemming-simulatorAPMS-checksrc.html | 7.9 KiB | 2006-09-04 04:48:53 |
| lemming-sizepower-buildbin.html | 4.9 KiB | 2006-09-04 04:48:54 |
| lemming-sizepower-buildsrc.html | 5.3 KiB | 2006-09-04 04:48:53 |
| lemming-sizepower-checksrc.html | 6.2 KiB | 2006-09-04 04:48:54 |
| lemming-snapCGH-buildbin.html | 9.3 KiB | 2006-09-04 04:48:54 |
| lemming-snapCGH-buildsrc.html | 9.6 KiB | 2006-09-04 04:48:54 |
| lemming-snapCGH-checksrc.html | 10.7 KiB | 2006-09-04 04:48:54 |
| lemming-splicegear-buildbin.html | 6.6 KiB | 2006-09-04 04:48:54 |
| lemming-splicegear-buildsrc.html | 6.9 KiB | 2006-09-04 04:48:54 |
| lemming-splicegear-checksrc.html | 8.0 KiB | 2006-09-04 04:48:54 |
| lemming-spotSegmentation-buildbin.html | 5.2 KiB | 2006-09-04 04:48:54 |
| lemming-spotSegmentation-buildsrc.html | 4.2 KiB | 2006-09-04 04:48:54 |
| lemming-spotSegmentation-checksrc.html | 6.5 KiB | 2006-09-04 04:48:54 |
| lemming-sscore-buildbin.html | 5.3 KiB | 2006-09-04 04:48:55 |
| lemming-sscore-buildsrc.html | 5.7 KiB | 2006-09-04 04:48:54 |
| lemming-sscore-checksrc.html | 6.6 KiB | 2006-09-04 04:48:55 |
| lemming-ssize-buildbin.html | 4.6 KiB | 2006-09-04 04:48:55 |
| lemming-ssize-buildsrc.html | 4.8 KiB | 2006-09-04 04:48:55 |
| lemming-ssize-checksrc.html | 5.9 KiB | 2006-09-04 04:48:55 |
| lemming-stam-buildbin.html | 7.0 KiB | 2006-09-04 04:48:55 |
| lemming-stam-buildsrc.html | 7.4 KiB | 2006-09-04 04:48:55 |
| lemming-stam-checksrc.html | 8.3 KiB | 2006-09-04 04:48:55 |
| lemming-stepNorm-buildbin.html | 5.3 KiB | 2006-09-04 04:48:55 |
| lemming-stepNorm-buildsrc.html | 3.9 KiB | 2006-09-04 04:48:55 |
| lemming-stepNorm-checksrc.html | 6.5 KiB | 2006-09-04 04:48:55 |
| lemming-tilingArray-buildbin.html | 7.0 KiB | 2006-09-04 04:48:55 |
| lemming-tilingArray-buildsrc.html | 7.3 KiB | 2006-09-04 04:48:55 |
| lemming-tilingArray-checksrc.html | 9.0 KiB | 2006-09-04 04:48:55 |
| lemming-timecourse-buildbin.html | 5.5 KiB | 2006-09-04 04:48:56 |
| lemming-timecourse-buildsrc.html | 5.7 KiB | 2006-09-04 04:48:56 |
| lemming-timecourse-checksrc.html | 6.8 KiB | 2006-09-04 04:48:56 |
| lemming-tkWidgets-buildbin.html | 7.0 KiB | 2006-09-04 04:48:56 |
| lemming-tkWidgets-buildsrc.html | 7.3 KiB | 2006-09-04 04:48:56 |
| lemming-tkWidgets-checksrc.html | 8.3 KiB | 2006-09-04 04:48:56 |
| lemming-twilight-buildbin.html | 6.5 KiB | 2006-09-04 04:48:56 |
| lemming-twilight-buildsrc.html | 6.9 KiB | 2006-09-04 04:48:56 |
| lemming-twilight-checksrc.html | 7.9 KiB | 2006-09-04 04:48:56 |
| lemming-vsn-buildbin.html | 5.5 KiB | 2006-09-04 04:48:56 |
| lemming-vsn-buildsrc.html | 5.7 KiB | 2006-09-04 04:48:56 |
| lemming-vsn-checksrc.html | 6.8 KiB | 2006-09-04 04:48:56 |
| lemming-webbioc-buildbin.html | 5.5 KiB | 2006-09-04 04:48:56 |
| lemming-webbioc-buildsrc.html | 5.8 KiB | 2006-09-04 04:48:56 |
| lemming-webbioc-checksrc.html | 6.8 KiB | 2006-09-04 04:48:56 |
| lemming-widgetInvoke-buildbin.html | 6.1 KiB | 2006-09-04 04:48:56 |
| lemming-widgetInvoke-buildsrc.html | 4.6 KiB | 2006-09-04 04:48:56 |
| lemming-widgetInvoke-checksrc.html | 6.1 KiB | 2006-09-04 04:48:56 |
| lemming-widgetTools-buildbin.html | 5.4 KiB | 2006-09-04 04:48:57 |
| lemming-widgetTools-buildsrc.html | 5.7 KiB | 2006-09-04 04:48:57 |
| lemming-widgetTools-checksrc.html | 6.7 KiB | 2006-09-04 04:48:57 |
| lemming-xcms-buildbin.html | 9.9 KiB | 2006-09-04 04:48:57 |
| lemming-xcms-buildsrc.html | 10.2 KiB | 2006-09-04 04:48:57 |
| lemming-xcms-checksrc.html | 11.3 KiB | 2006-09-04 04:48:57 |
| lemming-y2hStat-buildbin.html | 6.4 KiB | 2006-09-04 04:48:57 |
| lemming-y2hStat-buildsrc.html | 6.6 KiB | 2006-09-04 04:48:57 |
| lemming-y2hStat-checksrc.html | 7.7 KiB | 2006-09-04 04:48:57 |
| report.css | 4.0 KiB | 2006-09-04 04:46:50 |
| wellington-AnnBuilder-buildsrc.html | 8.4 KiB | 2006-09-04 04:47:14 |
| wellington-AnnBuilder-checksrc.html | 9.4 KiB | 2006-09-04 04:47:14 |
| wellington-Biobase-buildsrc.html | 9.1 KiB | 2006-09-04 04:47:15 |
| wellington-Biobase-checksrc.html | 10.3 KiB | 2006-09-04 04:47:15 |
| wellington-Biostrings-buildsrc.html | 6.9 KiB | 2006-09-04 04:47:16 |
| wellington-Biostrings-checksrc.html | 8.0 KiB | 2006-09-04 04:47:16 |
| wellington-Category-buildsrc.html | 6.0 KiB | 2006-09-04 04:47:16 |
| wellington-Category-checksrc.html | 7.1 KiB | 2006-09-04 04:47:16 |
| wellington-ChromoViz-buildsrc.html | 4.1 KiB | 2006-09-04 04:47:16 |
| wellington-ChromoViz-checksrc.html | 6.6 KiB | 2006-09-04 04:47:17 |
| wellington-CoCiteStats-buildsrc.html | 4.0 KiB | 2006-09-04 04:47:17 |
| wellington-CoCiteStats-checksrc.html | 5.8 KiB | 2006-09-04 04:47:17 |
| wellington-DEDS-buildsrc.html | 7.3 KiB | 2006-09-04 04:47:17 |
| wellington-DEDS-checksrc.html | 8.4 KiB | 2006-09-04 04:47:18 |
| wellington-DNAcopy-buildsrc.html | 6.4 KiB | 2006-09-04 04:47:18 |
| wellington-DNAcopy-checksrc.html | 7.4 KiB | 2006-09-04 04:47:18 |
| wellington-DynDoc-buildsrc.html | 3.9 KiB | 2006-09-04 04:47:18 |
| wellington-DynDoc-checksrc.html | 5.9 KiB | 2006-09-04 04:47:18 |
| wellington-EBImage-buildsrc.html | 7.2 KiB | 2006-09-04 04:47:18 |
| wellington-EBImage-checksrc.html | 8.9 KiB | 2006-09-04 04:47:18 |
| wellington-EBarrays-buildsrc.html | 5.8 KiB | 2006-09-04 04:47:18 |
| wellington-EBarrays-checksrc.html | 7.1 KiB | 2006-09-04 04:47:18 |
| wellington-GEOquery-buildsrc.html | 5.4 KiB | 2006-09-04 04:47:20 |
| wellington-GEOquery-checksrc.html | 5.8 KiB | 2006-09-04 04:47:21 |
| wellington-GLAD-buildsrc.html | 8.9 KiB | 2006-09-04 04:47:21 |
| wellington-GLAD-checksrc.html | 9.9 KiB | 2006-09-04 04:47:21 |
| wellington-GOstats-buildsrc.html | 5.5 KiB | 2006-09-04 04:47:21 |
| wellington-GOstats-checksrc.html | 6.5 KiB | 2006-09-04 04:47:21 |
| wellington-GeneMeta-buildsrc.html | 4.9 KiB | 2006-09-04 04:47:19 |
| wellington-GeneMeta-checksrc.html | 6.0 KiB | 2006-09-04 04:47:19 |
| wellington-GeneR-buildsrc.html | 11.7 KiB | 2006-09-04 04:47:20 |
| wellington-GeneR-checksrc.html | 12.6 KiB | 2006-09-04 04:47:20 |
| wellington-GeneSpring-buildsrc.html | 5.1 KiB | 2006-09-04 04:47:20 |
| wellington-GeneSpring-checksrc.html | 6.0 KiB | 2006-09-04 04:47:20 |
| wellington-GeneTS-buildsrc.html | 3.9 KiB | 2006-09-04 04:47:20 |
| wellington-GeneTS-checksrc.html | 6.9 KiB | 2006-09-04 04:47:20 |
| wellington-GeneTraffic-buildsrc.html | 4.1 KiB | 2006-09-04 04:47:20 |
| wellington-GeneTraffic-checksrc.html | 6.3 KiB | 2006-09-04 04:47:20 |
| wellington-GenomeBase-buildsrc.html | 4.0 KiB | 2006-09-04 04:47:20 |
| wellington-GenomeBase-checksrc.html | 5.4 KiB | 2006-09-04 04:47:20 |
| wellington-GlobalAncova-buildsrc.html | 5.0 KiB | 2006-09-04 04:47:21 |
| wellington-GlobalAncova-checksrc.html | 6.1 KiB | 2006-09-04 04:47:21 |
| wellington-GraphAT-buildsrc.html | 3.9 KiB | 2006-09-04 04:47:22 |
| wellington-GraphAT-checksrc.html | 6.0 KiB | 2006-09-04 04:47:22 |
| wellington-HEM-buildsrc.html | 6.5 KiB | 2006-09-04 04:47:22 |
| wellington-HEM-checksrc.html | 7.5 KiB | 2006-09-04 04:47:22 |
| wellington-Heatplus-buildsrc.html | 4.6 KiB | 2006-09-04 04:47:22 |
| wellington-Heatplus-checksrc.html | 5.6 KiB | 2006-09-04 04:47:22 |
| wellington-Icens-buildsrc.html | 4.0 KiB | 2006-09-04 04:47:23 |
| wellington-Icens-checksrc.html | 7.0 KiB | 2006-09-04 04:47:23 |
| wellington-KEGGSOAP-buildsrc.html | 3.9 KiB | 2006-09-04 04:47:23 |
| wellington-KEGGSOAP-checksrc.html | 6.0 KiB | 2006-09-04 04:47:23 |
| wellington-LMGene-buildsrc.html | 6.0 KiB | 2006-09-04 04:47:24 |
| wellington-LMGene-checksrc.html | 7.0 KiB | 2006-09-04 04:47:24 |
| wellington-LPE-buildsrc.html | 5.3 KiB | 2006-09-04 04:47:24 |
| wellington-LPE-checksrc.html | 6.3 KiB | 2006-09-04 04:47:24 |
| wellington-MANOR-buildsrc.html | 7.6 KiB | 2006-09-04 04:47:25 |
| wellington-MANOR-checksrc.html | 8.7 KiB | 2006-09-04 04:47:25 |
| wellington-MCRestimate-buildsrc.html | 5.9 KiB | 2006-09-04 04:47:26 |
| wellington-MCRestimate-checksrc.html | 7.0 KiB | 2006-09-04 04:47:26 |
| wellington-MLInterfaces-buildsrc.html | 7.2 KiB | 2006-09-04 04:47:27 |
| wellington-MLInterfaces-checksrc.html | 8.7 KiB | 2006-09-04 04:47:27 |
| wellington-MVCClass-buildsrc.html | 5.7 KiB | 2006-09-04 04:47:27 |
| wellington-MVCClass-checksrc.html | 6.7 KiB | 2006-09-04 04:47:28 |
| wellington-MantelCorr-buildsrc.html | 4.7 KiB | 2006-09-04 04:47:25 |
| wellington-MantelCorr-checksrc.html | 5.8 KiB | 2006-09-04 04:47:25 |
| wellington-MeasurementError.cor-buildsrc.html | 5.0 KiB | 2006-09-04 04:47:26 |
| wellington-MeasurementError.cor-checksrc.html | 5.7 KiB | 2006-09-04 04:47:26 |
| wellington-MergeMaid-buildsrc.html | 5.3 KiB | 2006-09-04 04:47:26 |
| wellington-MergeMaid-checksrc.html | 6.3 KiB | 2006-09-04 04:47:26 |
| wellington-Mfuzz-buildsrc.html | 5.5 KiB | 2006-09-04 04:47:26 |
| wellington-Mfuzz-checksrc.html | 6.5 KiB | 2006-09-04 04:47:27 |
| wellington-MiPP-buildsrc.html | 5.8 KiB | 2006-09-04 04:47:27 |
| wellington-MiPP-checksrc.html | 6.7 KiB | 2006-09-04 04:47:27 |
| wellington-NodeInfo.html | 3.7 KiB | 2006-09-04 04:48:57 |
| wellington-OCplus-buildsrc.html | 5.8 KiB | 2006-09-04 04:47:28 |
| wellington-OCplus-checksrc.html | 6.8 KiB | 2006-09-04 04:47:28 |
| wellington-OLIN-buildsrc.html | 4.0 KiB | 2006-09-04 04:47:28 |
| wellington-OLIN-checksrc.html | 8.0 KiB | 2006-09-04 04:47:28 |
| wellington-OLINgui-buildsrc.html | 4.9 KiB | 2006-09-04 04:47:28 |
| wellington-OLINgui-checksrc.html | 5.8 KiB | 2006-09-04 04:47:28 |
| wellington-OrderedList-buildsrc.html | 5.5 KiB | 2006-09-04 04:47:28 |
| wellington-OrderedList-checksrc.html | 6.6 KiB | 2006-09-04 04:47:29 |
| wellington-PROcess-buildsrc.html | 5.7 KiB | 2006-09-04 04:47:30 |
| wellington-PROcess-checksrc.html | 6.6 KiB | 2006-09-04 04:47:30 |
| wellington-R-instpkgs.html | 12.2 KiB | 2006-09-04 04:48:57 |
| wellington-RBGL-buildsrc.html | 14.0 KiB | 2006-09-04 04:47:30 |
| wellington-RBGL-checksrc.html | 15.0 KiB | 2006-09-04 04:47:30 |
| wellington-RLMM-buildsrc.html | 4.4 KiB | 2006-09-04 04:47:31 |
| wellington-RLMM-checksrc.html | 5.4 KiB | 2006-09-04 04:47:32 |
| wellington-RMAGEML-buildsrc.html | 9.3 KiB | 2006-09-04 04:47:32 |
| wellington-RMAGEML-checksrc.html | 10.3 KiB | 2006-09-04 04:47:32 |
| wellington-RMAPPER-buildsrc.html | 4.0 KiB | 2006-09-04 04:47:32 |
| wellington-RMAPPER-checksrc.html | 5.3 KiB | 2006-09-04 04:47:32 |
| wellington-ROC-buildsrc.html | 4.5 KiB | 2006-09-04 04:47:32 |
| wellington-ROC-checksrc.html | 5.5 KiB | 2006-09-04 04:47:32 |
| wellington-RSNPper-buildsrc.html | 4.2 KiB | 2006-09-04 04:47:32 |
| wellington-RSNPper-checksrc.html | 5.2 KiB | 2006-09-04 04:47:32 |
| wellington-RankProd-buildsrc.html | 5.0 KiB | 2006-09-04 04:47:30 |
| wellington-RankProd-checksrc.html | 6.0 KiB | 2006-09-04 04:47:30 |
| wellington-Rdbi-buildsrc.html | 4.0 KiB | 2006-09-04 04:47:30 |
| wellington-Rdbi-checksrc.html | 6.0 KiB | 2006-09-04 04:47:30 |
| wellington-RdbiPgSQL-buildsrc.html | 4.1 KiB | 2006-09-04 04:47:31 |
| wellington-RdbiPgSQL-checksrc.html | 7.5 KiB | 2006-09-04 04:47:31 |
| wellington-Resourcerer-buildsrc.html | 4.9 KiB | 2006-09-04 04:47:31 |
| wellington-Resourcerer-checksrc.html | 6.0 KiB | 2006-09-04 04:47:31 |
| wellington-Rgraphviz-buildsrc.html | 7.8 KiB | 2006-09-04 04:47:31 |
| wellington-Rgraphviz-checksrc.html | 8.9 KiB | 2006-09-04 04:47:31 |
| wellington-Ruuid-buildsrc.html | 8.6 KiB | 2006-09-04 04:47:32 |
| wellington-Ruuid-checksrc.html | 9.7 KiB | 2006-09-04 04:47:32 |
| wellington-SAGElyzer-buildsrc.html | 5.8 KiB | 2006-09-04 04:47:32 |
| wellington-SAGElyzer-checksrc.html | 6.9 KiB | 2006-09-04 04:47:32 |
| wellington-SBMLR-buildsrc.html | 3.9 KiB | 2006-09-04 04:47:33 |
| wellington-SBMLR-checksrc.html | 5.8 KiB | 2006-09-04 04:47:33 |
| wellington-SNAData-buildsrc.html | 4.6 KiB | 2006-09-04 04:47:33 |
| wellington-SNAData-checksrc.html | 5.7 KiB | 2006-09-04 04:47:33 |
| wellington-ScISI-buildsrc.html | 9.4 KiB | 2006-09-04 04:47:33 |
| wellington-ScISI-checksrc.html | 10.5 KiB | 2006-09-04 04:47:33 |
| wellington-aCGH-buildsrc.html | 6.6 KiB | 2006-09-04 04:47:12 |
| wellington-aCGH-checksrc.html | 7.8 KiB | 2006-09-04 04:47:12 |
| wellington-adSplit-buildsrc.html | 5.7 KiB | 2006-09-04 04:47:12 |
| wellington-adSplit-checksrc.html | 6.8 KiB | 2006-09-04 04:47:12 |
| wellington-affxparser-buildsrc.html | 4.0 KiB | 2006-09-04 04:47:12 |
| wellington-affxparser-checksrc.html | 92.4 KiB | 2006-09-04 04:47:13 |
| wellington-affy-buildsrc.html | 11.3 KiB | 2006-09-04 04:47:13 |
| wellington-affy-checksrc.html | 12.6 KiB | 2006-09-04 04:47:13 |
| wellington-affyPLM-buildsrc.html | 14.1 KiB | 2006-09-04 04:47:14 |
| wellington-affyPLM-checksrc.html | 15.4 KiB | 2006-09-04 04:47:14 |
| wellington-affyQCReport-buildsrc.html | 4.7 KiB | 2006-09-04 04:47:14 |
| wellington-affyQCReport-checksrc.html | 5.8 KiB | 2006-09-04 04:47:14 |
| wellington-affycomp-buildsrc.html | 5.9 KiB | 2006-09-04 04:47:13 |
| wellington-affycomp-checksrc.html | 6.8 KiB | 2006-09-04 04:47:13 |
| wellington-affycoretools-buildsrc.html | 6.3 KiB | 2006-09-04 04:47:13 |
| wellington-affycoretools-checksrc.html | 7.4 KiB | 2006-09-04 04:47:13 |
| wellington-affydata-buildsrc.html | 4.3 KiB | 2006-09-04 04:47:13 |
| wellington-affydata-checksrc.html | 5.3 KiB | 2006-09-04 04:47:13 |
| wellington-affyio-buildsrc.html | 3.9 KiB | 2006-09-04 04:47:13 |
| wellington-affyio-checksrc.html | 12.2 KiB | 2006-09-04 04:47:13 |
| wellington-affylmGUI-buildsrc.html | 4.9 KiB | 2006-09-04 04:47:13 |
| wellington-affylmGUI-checksrc.html | 5.9 KiB | 2006-09-04 04:47:13 |
| wellington-affypdnn-buildsrc.html | 4.0 KiB | 2006-09-04 04:47:13 |
| wellington-affypdnn-checksrc.html | 6.2 KiB | 2006-09-04 04:47:13 |
| wellington-altcdfenvs-buildsrc.html | 5.9 KiB | 2006-09-04 04:47:14 |
| wellington-altcdfenvs-checksrc.html | 6.9 KiB | 2006-09-04 04:47:14 |
| wellington-annaffy-buildsrc.html | 7.6 KiB | 2006-09-04 04:47:14 |
| wellington-annaffy-checksrc.html | 8.7 KiB | 2006-09-04 04:47:14 |
| wellington-annotate-buildsrc.html | 7.7 KiB | 2006-09-04 04:47:14 |
| wellington-annotate-checksrc.html | 8.8 KiB | 2006-09-04 04:47:14 |
| wellington-apComplex-buildsrc.html | 5.5 KiB | 2006-09-04 04:47:14 |
| wellington-apComplex-checksrc.html | 6.5 KiB | 2006-09-04 04:47:14 |
| wellington-applera-buildsrc.html | 5.3 KiB | 2006-09-04 04:47:14 |
| wellington-applera-checksrc.html | 6.3 KiB | 2006-09-04 04:47:15 |
| wellington-arrayMagic-buildsrc.html | 7.7 KiB | 2006-09-04 04:47:15 |
| wellington-arrayMagic-checksrc.html | 8.8 KiB | 2006-09-04 04:47:15 |
| wellington-arrayQuality-buildsrc.html | 4.1 KiB | 2006-09-04 04:47:15 |
| wellington-arrayQuality-checksrc.html | 7.5 KiB | 2006-09-04 04:47:15 |
| wellington-beadarray-buildsrc.html | 4.0 KiB | 2006-09-04 04:47:15 |
| wellington-beadarray-checksrc.html | 9.4 KiB | 2006-09-04 04:47:15 |
| wellington-bim-buildsrc.html | 12.3 KiB | 2006-09-04 04:47:15 |
| wellington-bim-checksrc.html | 13.3 KiB | 2006-09-04 04:47:15 |
| wellington-bioDist-buildsrc.html | 4.0 KiB | 2006-09-04 04:47:15 |
| wellington-bioDist-checksrc.html | 5.8 KiB | 2006-09-04 04:47:16 |
| wellington-biocViews-buildsrc.html | 5.7 KiB | 2006-09-04 04:47:15 |
| wellington-biocViews-checksrc.html | 6.8 KiB | 2006-09-04 04:47:15 |
| wellington-biomaRt-buildsrc.html | 5.9 KiB | 2006-09-04 04:47:16 |
| wellington-biomaRt-checksrc.html | 7.0 KiB | 2006-09-04 04:47:16 |
| wellington-bridge-buildsrc.html | 8.7 KiB | 2006-09-04 04:47:16 |
| wellington-bridge-checksrc.html | 9.8 KiB | 2006-09-04 04:47:16 |
| wellington-cellHTS-buildsrc.html | 3.9 KiB | 2006-09-04 04:47:16 |
| wellington-cellHTS-checksrc.html | 6.5 KiB | 2006-09-04 04:47:16 |
| wellington-cghMCR-buildsrc.html | 4.6 KiB | 2006-09-04 04:47:16 |
| wellington-cghMCR-checksrc.html | 5.7 KiB | 2006-09-04 04:47:16 |
| wellington-clusterStab-buildsrc.html | 5.3 KiB | 2006-09-04 04:47:17 |
| wellington-clusterStab-checksrc.html | 6.4 KiB | 2006-09-04 04:47:17 |
| wellington-codelink-buildsrc.html | 6.4 KiB | 2006-09-04 04:47:17 |
| wellington-codelink-checksrc.html | 7.4 KiB | 2006-09-04 04:47:17 |
| wellington-convert-buildsrc.html | 4.3 KiB | 2006-09-04 04:47:17 |
| wellington-convert-checksrc.html | 5.3 KiB | 2006-09-04 04:47:17 |
| wellington-copa-buildsrc.html | 5.0 KiB | 2006-09-04 04:47:17 |
| wellington-copa-checksrc.html | 6.0 KiB | 2006-09-04 04:47:17 |
| wellington-ctc-buildsrc.html | 4.7 KiB | 2006-09-04 04:47:17 |
| wellington-ctc-checksrc.html | 5.7 KiB | 2006-09-04 04:47:17 |
| wellington-daMA-buildsrc.html | 3.9 KiB | 2006-09-04 04:47:17 |
| wellington-daMA-checksrc.html | 5.8 KiB | 2006-09-04 04:47:17 |
| wellington-diffGeneAnalysis-buildsrc.html | 5.3 KiB | 2006-09-04 04:47:18 |
| wellington-diffGeneAnalysis-checksrc.html | 6.3 KiB | 2006-09-04 04:47:18 |
| wellington-ecolitk-buildsrc.html | 5.0 KiB | 2006-09-04 04:47:18 |
| wellington-ecolitk-checksrc.html | 6.0 KiB | 2006-09-04 04:47:18 |
| wellington-edd-buildsrc.html | 5.2 KiB | 2006-09-04 04:47:18 |
| wellington-edd-checksrc.html | 6.2 KiB | 2006-09-04 04:47:18 |
| wellington-exprExternal-buildsrc.html | 4.0 KiB | 2006-09-04 04:47:18 |
| wellington-exprExternal-checksrc.html | 5.4 KiB | 2006-09-04 04:47:18 |
| wellington-externalVector-buildsrc.html | 4.1 KiB | 2006-09-04 04:47:19 |
| wellington-externalVector-checksrc.html | 10.4 KiB | 2006-09-04 04:47:19 |
| wellington-factDesign-buildsrc.html | 4.7 KiB | 2006-09-04 04:47:19 |
| wellington-factDesign-checksrc.html | 5.7 KiB | 2006-09-04 04:47:19 |
| wellington-fdrame-buildsrc.html | 4.9 KiB | 2006-09-04 04:47:19 |
| wellington-fdrame-checksrc.html | 5.9 KiB | 2006-09-04 04:47:19 |
| wellington-gcrma-buildsrc.html | 6.0 KiB | 2006-09-04 04:47:19 |
| wellington-gcrma-checksrc.html | 7.0 KiB | 2006-09-04 04:47:19 |
| wellington-genArise-buildsrc.html | 7.9 KiB | 2006-09-04 04:47:19 |
| wellington-genArise-checksrc.html | 8.9 KiB | 2006-09-04 04:47:19 |
| wellington-geneRecommender-buildsrc.html | 4.6 KiB | 2006-09-04 04:47:20 |
| wellington-geneRecommender-checksrc.html | 5.7 KiB | 2006-09-04 04:47:20 |
| wellington-genefilter-buildsrc.html | 6.9 KiB | 2006-09-04 04:47:19 |
| wellington-genefilter-checksrc.html | 8.0 KiB | 2006-09-04 04:47:19 |
| wellington-geneplotter-buildsrc.html | 6.0 KiB | 2006-09-04 04:47:19 |
| wellington-geneplotter-checksrc.html | 7.0 KiB | 2006-09-04 04:47:19 |
| wellington-gff3Plotter-buildsrc.html | 4.7 KiB | 2006-09-04 04:47:21 |
| wellington-gff3Plotter-checksrc.html | 5.8 KiB | 2006-09-04 04:47:21 |
| wellington-globaltest-buildsrc.html | 5.6 KiB | 2006-09-04 04:47:21 |
| wellington-globaltest-checksrc.html | 6.7 KiB | 2006-09-04 04:47:21 |
| wellington-goCluster-buildsrc.html | 8.4 KiB | 2006-09-04 04:47:21 |
| wellington-goCluster-checksrc.html | 9.4 KiB | 2006-09-04 04:47:21 |
| wellington-goTools-buildsrc.html | 4.8 KiB | 2006-09-04 04:47:21 |
| wellington-goTools-checksrc.html | 5.8 KiB | 2006-09-04 04:47:22 |
| wellington-gpls-buildsrc.html | 4.8 KiB | 2006-09-04 04:47:22 |
| wellington-gpls-checksrc.html | 5.7 KiB | 2006-09-04 04:47:22 |
| wellington-graph-buildsrc.html | 8.7 KiB | 2006-09-04 04:47:22 |
| wellington-graph-checksrc.html | 9.8 KiB | 2006-09-04 04:47:22 |
| wellington-hexbin-buildsrc.html | 7.0 KiB | 2006-09-04 04:47:22 |
| wellington-hexbin-checksrc.html | 8.4 KiB | 2006-09-04 04:47:22 |
| wellington-hopach-buildsrc.html | 5.5 KiB | 2006-09-04 04:47:22 |
| wellington-hopach-checksrc.html | 6.5 KiB | 2006-09-04 04:47:22 |
| wellington-hypergraph-buildsrc.html | 4.0 KiB | 2006-09-04 04:47:23 |
| wellington-hypergraph-checksrc.html | 5.8 KiB | 2006-09-04 04:47:23 |
| wellington-iSPlot-buildsrc.html | 6.8 KiB | 2006-09-04 04:47:23 |
| wellington-iSPlot-checksrc.html | 7.8 KiB | 2006-09-04 04:47:23 |
| wellington-idiogram-buildsrc.html | 4.7 KiB | 2006-09-04 04:47:23 |
| wellington-idiogram-checksrc.html | 5.7 KiB | 2006-09-04 04:47:23 |
| wellington-impute-buildsrc.html | 4.0 KiB | 2006-09-04 04:47:23 |
| wellington-impute-checksrc.html | 5.7 KiB | 2006-09-04 04:47:23 |
| wellington-limma-buildsrc.html | 12.0 KiB | 2006-09-04 04:47:23 |
| wellington-limma-checksrc.html | 60.3 KiB | 2006-09-04 04:47:23 |
| wellington-limmaGUI-buildsrc.html | 4.5 KiB | 2006-09-04 04:47:24 |
| wellington-limmaGUI-checksrc.html | 5.5 KiB | 2006-09-04 04:47:24 |
| wellington-logicFS-buildsrc.html | 4.9 KiB | 2006-09-04 04:47:24 |
| wellington-logicFS-checksrc.html | 5.8 KiB | 2006-09-04 04:47:24 |
| wellington-maCorrPlot-buildsrc.html | 4.5 KiB | 2006-09-04 04:47:25 |
| wellington-maCorrPlot-checksrc.html | 5.6 KiB | 2006-09-04 04:47:25 |
| wellington-maDB-buildsrc.html | 3.9 KiB | 2006-09-04 04:47:25 |
| wellington-maDB-checksrc.html | 9.1 KiB | 2006-09-04 04:47:25 |
| wellington-maSigPro-buildsrc.html | 6.6 KiB | 2006-09-04 04:47:26 |
| wellington-maSigPro-checksrc.html | 7.6 KiB | 2006-09-04 04:47:26 |
| wellington-maanova-buildsrc.html | 6.7 KiB | 2006-09-04 04:47:24 |
| wellington-maanova-checksrc.html | 7.8 KiB | 2006-09-04 04:47:24 |
| wellington-macat-buildsrc.html | 6.0 KiB | 2006-09-04 04:47:24 |
| wellington-macat-checksrc.html | 7.3 KiB | 2006-09-04 04:47:24 |
| wellington-made4-buildsrc.html | 6.6 KiB | 2006-09-04 04:47:25 |
| wellington-made4-checksrc.html | 7.5 KiB | 2006-09-04 04:47:25 |
| wellington-makecdfenv-buildsrc.html | 5.7 KiB | 2006-09-04 04:47:25 |
| wellington-makecdfenv-checksrc.html | 6.8 KiB | 2006-09-04 04:47:25 |
| wellington-marray-buildsrc.html | 11.5 KiB | 2006-09-04 04:47:25 |
| wellington-marray-checksrc.html | 12.5 KiB | 2006-09-04 04:47:26 |
| wellington-matchprobes-buildsrc.html | 5.7 KiB | 2006-09-04 04:47:26 |
| wellington-matchprobes-checksrc.html | 6.8 KiB | 2006-09-04 04:47:26 |
| wellington-metaArray-buildsrc.html | 6.5 KiB | 2006-09-04 04:47:26 |
| wellington-metaArray-checksrc.html | 7.8 KiB | 2006-09-04 04:47:26 |
| wellington-mmgmos-buildsrc.html | 85.1 KiB | 2006-09-04 04:47:27 |
| wellington-mmgmos-checksrc.html | 86.2 KiB | 2006-09-04 04:47:27 |
| wellington-multtest-buildsrc.html | 4.1 KiB | 2006-09-04 04:47:27 |
| wellington-multtest-checksrc.html | 9.1 KiB | 2006-09-04 04:47:27 |
| wellington-nnNorm-buildsrc.html | 4.5 KiB | 2006-09-04 04:47:28 |
| wellington-nnNorm-checksrc.html | 5.4 KiB | 2006-09-04 04:47:28 |
| wellington-nudge-buildsrc.html | 5.2 KiB | 2006-09-04 04:47:28 |
| wellington-nudge-checksrc.html | 6.2 KiB | 2006-09-04 04:47:28 |
| wellington-ontoTools-buildsrc.html | 7.4 KiB | 2006-09-04 04:47:28 |
| wellington-ontoTools-checksrc.html | 8.4 KiB | 2006-09-04 04:47:28 |
| wellington-pairseqsim-buildsrc.html | 5.7 KiB | 2006-09-04 04:47:29 |
| wellington-pairseqsim-checksrc.html | 6.7 KiB | 2006-09-04 04:47:29 |
| wellington-pamr-buildsrc.html | 4.0 KiB | 2006-09-04 04:47:29 |
| wellington-pamr-checksrc.html | 7.5 KiB | 2006-09-04 04:47:29 |
| wellington-panp-buildsrc.html | 4.8 KiB | 2006-09-04 04:47:29 |
| wellington-panp-checksrc.html | 5.8 KiB | 2006-09-04 04:47:29 |
| wellington-pathRender-buildsrc.html | 4.0 KiB | 2006-09-04 04:47:29 |
| wellington-pathRender-checksrc.html | 5.5 KiB | 2006-09-04 04:47:29 |
| wellington-pdmclass-buildsrc.html | 5.1 KiB | 2006-09-04 04:47:29 |
| wellington-pdmclass-checksrc.html | 6.2 KiB | 2006-09-04 04:47:29 |
| wellington-pgUtils-buildsrc.html | 3.9 KiB | 2006-09-04 04:47:29 |
| wellington-pgUtils-checksrc.html | 6.8 KiB | 2006-09-04 04:47:29 |
| wellington-pickgene-buildsrc.html | 4.8 KiB | 2006-09-04 04:47:29 |
| wellington-pickgene-checksrc.html | 5.8 KiB | 2006-09-04 04:47:29 |
| wellington-plgem-buildsrc.html | 4.5 KiB | 2006-09-04 04:47:29 |
| wellington-plgem-checksrc.html | 5.5 KiB | 2006-09-04 04:47:30 |
| wellington-plier-buildsrc.html | 3.9 KiB | 2006-09-04 04:47:30 |
| wellington-plier-checksrc.html | 6.2 KiB | 2006-09-04 04:47:30 |
| wellington-prada-buildsrc.html | 7.1 KiB | 2006-09-04 04:47:30 |
| wellington-prada-checksrc.html | 8.1 KiB | 2006-09-04 04:47:30 |
| wellington-qvalue-buildsrc.html | 4.7 KiB | 2006-09-04 04:47:30 |
| wellington-qvalue-checksrc.html | 5.7 KiB | 2006-09-04 04:47:30 |
| wellington-rama-buildsrc.html | 4.0 KiB | 2006-09-04 04:47:30 |
| wellington-rama-checksrc.html | 11.0 KiB | 2006-09-04 04:47:30 |
| wellington-reb-buildsrc.html | 6.4 KiB | 2006-09-04 04:47:31 |
| wellington-reb-checksrc.html | 7.5 KiB | 2006-09-04 04:47:31 |
| wellington-reposTools-buildsrc.html | 11.0 KiB | 2006-09-04 04:47:31 |
| wellington-reposTools-checksrc.html | 12.6 KiB | 2006-09-04 04:47:31 |
| wellington-rfcdmin-buildsrc.html | 3.9 KiB | 2006-09-04 04:47:31 |
| wellington-rfcdmin-checksrc.html | 5.8 KiB | 2006-09-04 04:47:31 |
| wellington-rflowcyt-buildsrc.html | 9.6 KiB | 2006-09-04 04:47:31 |
| wellington-rflowcyt-checksrc.html | 11.4 KiB | 2006-09-04 04:47:31 |
| wellington-safe-buildsrc.html | 4.5 KiB | 2006-09-04 04:47:32 |
| wellington-safe-checksrc.html | 5.5 KiB | 2006-09-04 04:47:32 |
| wellington-sagenhaft-buildsrc.html | 4.9 KiB | 2006-09-04 04:47:32 |
| wellington-sagenhaft-checksrc.html | 5.9 KiB | 2006-09-04 04:47:32 |
| wellington-siggenes-buildsrc.html | 6.3 KiB | 2006-09-04 04:47:33 |
| wellington-siggenes-checksrc.html | 7.3 KiB | 2006-09-04 04:47:33 |
| wellington-simpleaffy-buildsrc.html | 8.3 KiB | 2006-09-04 04:47:33 |
| wellington-simpleaffy-checksrc.html | 9.3 KiB | 2006-09-04 04:47:33 |
| wellington-simulatorAPMS-buildsrc.html | 6.1 KiB | 2006-09-04 04:47:33 |
| wellington-simulatorAPMS-checksrc.html | 7.1 KiB | 2006-09-04 04:47:33 |
| wellington-sizepower-buildsrc.html | 4.7 KiB | 2006-09-04 04:47:33 |
| wellington-sizepower-checksrc.html | 5.6 KiB | 2006-09-04 04:47:33 |
| wellington-snapCGH-buildsrc.html | 8.9 KiB | 2006-09-04 04:47:34 |
| wellington-snapCGH-checksrc.html | 10.0 KiB | 2006-09-04 04:47:34 |
| wellington-splicegear-buildsrc.html | 6.2 KiB | 2006-09-04 04:47:34 |
| wellington-splicegear-checksrc.html | 7.2 KiB | 2006-09-04 04:47:34 |
| wellington-spotSegmentation-buildsrc.html | 4.2 KiB | 2006-09-04 04:47:34 |
| wellington-spotSegmentation-checksrc.html | 6.0 KiB | 2006-09-04 04:47:34 |
| wellington-sscore-buildsrc.html | 5.2 KiB | 2006-09-04 04:47:34 |
| wellington-sscore-checksrc.html | 6.1 KiB | 2006-09-04 04:47:34 |
| wellington-ssize-buildsrc.html | 4.3 KiB | 2006-09-04 04:47:34 |
| wellington-ssize-checksrc.html | 5.3 KiB | 2006-09-04 04:47:34 |
| wellington-stam-buildsrc.html | 6.4 KiB | 2006-09-04 04:47:34 |
| wellington-stam-checksrc.html | 7.3 KiB | 2006-09-04 04:47:34 |
| wellington-stepNorm-buildsrc.html | 3.9 KiB | 2006-09-04 04:47:34 |
| wellington-stepNorm-checksrc.html | 5.9 KiB | 2006-09-04 04:47:34 |
| wellington-tilingArray-buildsrc.html | 6.5 KiB | 2006-09-04 04:47:34 |
| wellington-tilingArray-checksrc.html | 8.2 KiB | 2006-09-04 04:47:35 |
| wellington-timecourse-buildsrc.html | 5.2 KiB | 2006-09-04 04:47:35 |
| wellington-timecourse-checksrc.html | 6.2 KiB | 2006-09-04 04:47:35 |
| wellington-tkWidgets-buildsrc.html | 6.7 KiB | 2006-09-04 04:47:35 |
| wellington-tkWidgets-checksrc.html | 7.7 KiB | 2006-09-04 04:47:35 |
| wellington-twilight-buildsrc.html | 6.2 KiB | 2006-09-04 04:47:35 |
| wellington-twilight-checksrc.html | 7.3 KiB | 2006-09-04 04:47:35 |
| wellington-vsn-buildsrc.html | 5.0 KiB | 2006-09-04 04:47:35 |
| wellington-vsn-checksrc.html | 6.1 KiB | 2006-09-04 04:47:35 |
| wellington-webbioc-buildsrc.html | 5.2 KiB | 2006-09-04 04:47:35 |
| wellington-webbioc-checksrc.html | 6.2 KiB | 2006-09-04 04:47:35 |
| wellington-widgetInvoke-buildsrc.html | 4.8 KiB | 2006-09-04 04:47:35 |
| wellington-widgetInvoke-checksrc.html | 5.8 KiB | 2006-09-04 04:47:35 |
| wellington-widgetTools-buildsrc.html | 5.1 KiB | 2006-09-04 04:47:35 |
| wellington-widgetTools-checksrc.html | 6.1 KiB | 2006-09-04 04:47:35 |
| wellington-xcms-buildsrc.html | 9.3 KiB | 2006-09-04 04:47:35 |
| wellington-xcms-checksrc.html | 10.5 KiB | 2006-09-04 04:47:35 |
| wellington-y2hStat-buildsrc.html | 5.9 KiB | 2006-09-04 04:47:36 |
| wellington-y2hStat-checksrc.html | 7.0 KiB | 2006-09-04 04:47:36 |